Workbook

Sheet DONG LUC
A1: UBND THÀNH PHỐ HỒ CHÍ MINH TRƯỜNG CAO ĐẲNG LÝ TỰ TRỌNG THÀNH PHỐ HỒ CHÍ MINH | AP1: CỘNG HÒA XÃ HỘI CHỦ NGHĨA VIỆT NAM Độc lập - Tự do - Hạnh phúc
A3: DANH SÁCH THỐNG KÊ CHUẨN CHUYÊN MÔN NGHIỆP VỤ CỦA NHÀ GIÁO
A5: STT | B5: Họ tên | C5: GV | D5: kiêm chức | E5: GV + kiêm chức | F5: Giới tính | G5: Nơi sinh | H5: Ngày/tháng/năm sinh | I5: Kiêm chức tại khoa | J5: Đơn vị | K5: Số chứng mình nhân dân | L5: Ngày cấp Chứng minh nhân dân | M5: Nơi cấp chứng minh nhân dân | N5: Dân tộc | O5: Tôn giáo | P5: Quê quán | Q5: Địa chỉ thường trú | R5: Nơi ở hiện nay | S5: Điện thoại DD | T5: Email | U5: Số sổ bảo hiểm xã hội | V5: Ngày hợp đồng | W5: Ngày tuyển dụng | X5: Cơ quan tuyển dụng | Y5: Ngày về cơ quan hiện nay | Z5: Thuộc loại cán bộ | AA5: Ngày vào ngành giáo dục | AB5: Chức vụ/ Chức danh hiện tại (công thức) | AC5: Chức vụ/ Chức danh hiện tại | AD5: Ngày bổ nhiệm chức vụ hiện tại | AE5: Ngày vào đảng | AF5: Ngày vào đảng chính thức | AG5: Đảng viên (công thức) | AH5: Học vấn phổ thông | AI5: Đã tốt nghiệp | AJ5: Trình độ chuyên môn | AP5: Nghiệp vụ sư phạm | AS5: Kỹ năng nghề | AX5: Tin học | BC5: Ngoại ngữ | BH5: Lý luận Chính trị | BK5: Quản lý nhà nước | BN5: Trình độ quản lý giáo dục | BQ5: Chứng chỉ khác
AJ6: Trình độ chuyên môn cao nhất (công thức) | AK6: Trình độ chuyên môn cao nhất | AL6: Chuyên ngành đào tạo | AM6: Nơi đào tạo | AN6: Năm tốt nghiệp | AO6: Bảng điểm | AP6: Chứng chỉ bồi dưỡng nghiệp vụ | AQ6: Ngày cấp chứng chỉ | AR6: Nơi cấp | AS6: Kỹ năng nghề | AT6: Ngày cấp chứng chỉ | AU6: Nơi cấp | AV6: Kỹ năng nghề 3/7 trở lên (công thức) | AW6: Kỹ năng nghề Quốc gia (công thức) | AX6: Trình độ tin học | AY6: Ngày cấp | AZ6: Nơi cấp | BA6: Trình độ tin học (công thức) | BB6: Trình độ tin học Quốc tế (công thức) | BC6: Trình độ ngoại ngữ | BD6: Theo khung NLNN 6 bậc | BE6: Ngày cấp chứng chỉ | BF6: Nơi cấp CC Ngoại ngữ | BG6: Trình độ ngoại ngữ (thống kê) | BH6: Trình độ lý luận chính trị | BI6: Ngày cấp | BJ6: Nơi cấp | BK6: Trình độ quản lý nhà nước | BL6: Ngày cấp | BM6: Nơi cấp | BN6: Trình độ quản lý giáo dục | BO6: Ngày cấp | BP6: Nơi cấp
A7: 01 | B7: Nguyễn Anh Tuấn | C7: X | E7: X | F7: Nam | G7: TP.HCM | H7: 06/11/1981 | I7: Khoa Động lực | J7: Khoa Động lực | K7: 079081001334 | L7: 27/04/2016 | M7: Cục cảnh sát đăng ký quản lý cư trú | N7: Kinh | O7: Không | P7: Thành phố Hồ Chí Minh | Q7: 95 Rạch Cát, Bến Lức, P7, Q8 | S7: 0903660165 | T7: anhtuanspkt@gmail.com | U7: 0205363670 | W7: 01/09/2005 | X7: Sở GDĐT TPHCM | Y7: 01/09/2005 | Z7: Hợp đồng không thời hạn | AA7: 01/09/2005 | AB7: TK | AC7: Trưởng Khoa | AD7: 01/08/2015 | AH7: 12/12 | AI7: THPT | AJ7: TS | AK7: - Tiến sỹ - Thạc sỹ - Đại học | AL7: - Kỹ thuật Cơ khí động lực - Khai thác và Bảo trì ô tô, máy kéo - Cơ khí động lực | AM7: - Trường ĐH GTVT - Trường ĐH SP Kỹ thuật TPHCM - Trường ĐH SP Kỹ thuật TPHCM | AN7: - 0/12/2018 -25/05/2010 - 28/04/2005 | AO7: - Chưa có - Chưa có - Đã có | AP7: - NVSP cho GV ĐH, CĐ - SP Bậc 2 | AQ7: - Trường ĐH SP Hà Nội - ĐH SP Kỹ thuật TPHCM | AR7: - 30/11/2018 - 01/11/2002 | AS7: - Chứng chỉ nghề CN ô tô bậc 4/5 (Đức) - Kỹ năng nghề Quốc gia bậc 3 Nghề Công nghệ Ô tô - Kỹ năng nghề Sửa chữa ô tô bậc 3/7 | AT7: - 16/10/2019 - 21/11/2018 - 28/12/2017 | AU7: - Đức - Tổng cục GDNN - Trường CĐ Lý Tự Trọng TPHCM | AV7: x | AW7: x | AX7: - A - UD CNTT CB - Autocad Căn bản | AY7: - 26/12/2000 - 16/01/2019 - 31/12/2003 | AZ7: - ĐH KHTN TPHCM - ĐH Ngân hàng TPHCM - ĐH SPKT | BA7: UD CNTT CB | BC7: - B - B1 - B2 - Đại học | BD7: C1 | BE7: - 12/01/2001 - 23/7/2012 - 6/6/2017 - 21/05/2019 | BF7: - ĐH SP TPHCM - ĐH Vinh - ĐH SP TPHCM - ĐH Hàng hải VN | BG7: DH | BH7: Trung cấp | BN7: CBQL Khoa, Phòng trường ÐH, CĐ | BO7: 28/09/2016 | BP7: Học viện QLGD | BQ7: - Bồi dưỡng CDNN giảng viên cao cấp (hạng I) tại Học viện Quản lý Giáo dục ngày 18/06/2019. - BD GV chính (hạng II) tại Trường ĐH SP TPHCM ngày 15/05/2019 - BD Kiến thức QPAN đối tượng 3 tại Trường Quân sự TP ngày 17/08/2018 - CC nghề Lái xe du lịch K. 44A tại TT Kỹ thuật Tổng hợp ngày 05/08/2001. - PP Giảng dạy ĐH tại Trường ĐH SP TPHCM ngày 17/06/2006. - Sớ cấp LLCT tại TT BD Chính trị Q. Tân Bình ngày 17/6/2014. - CC môn học SĐH Triết học, PP NCKH, LL dạy học SĐH ngày 16/10/2007. - Nhận thức về Đảng tại Đảng ủy Khối ĐH - CĐ và THCN ngày 26/03/2003. - Hệ thống Đánh lửa & Phun xăng Điện tử trên ô tô tại ĐH SPKT TPHCM ngày 05/07/2004. | BR7: x
A8: 02 | B8: Võ Đắc Thịnh | C8: X | E8: X | F8: Nam | G8: Thành phố Hồ Chí Minh | H8: 16/01/1979 | I8: Khoa Động lực | J8: Khoa Động lực | K8: 079079003245 | L8: 18/12/2018 | M8: Cục cảnh sát đăng ký quản lý cư trú | N8: Kinh | O8: Không | P8: Tỉnh Bình Dương | Q8: 204 Tầng 3 Lô G Chung cư Bàu Cát II, Phường 10, Quận Tân Bình, TPHCM | S8: 0903869052 | T8: vodacthinhoto79@gmail.com | U8: 0202201607 | W8: 01/09/2002 | X8: Sở GDĐT TPHCM | Y8: 01/09/2002 | Z8: Biên chế | AA8: 01/09/2002 | AB8: PK | AC8: Phó Trưởng Khoa | AD8: 01/08/2015 | AF8: 20/12/2007 | AG8: X | AH8: 12/12 | AI8: THPT | AJ8: THS | AK8: - Thạc sỹ - Đại học | AL8: - Kỹ thuật Ô tô, máy kéo - Cơ khí Động lực | AM8: - Trường ĐH Bách khoa TPHCM - Trường ĐH SPKT TPHCM | AN8: - 24/4/2013 - 15/5/2001 | AO8: x | AP8: SP Bậc 2 | AQ8: 15/5/2001 | AR8: Trường ĐH SPKT TPHCM | AS8: - Kỹ năng nghề Quốc gia bậc 3 Nghề Công nghệ Ô tô - Kỹ năng nghề Sửa chữa ô tô bậc 3/7 | AT8: - 21/11/2018 - 29/3/1997 | AU8: - Tổng cục GDNN - Trường CĐ Lý Tự Trọng TPHCM | AV8: x | AW8: x | AX8: UD CNTT CB | AY8: 16/01/2019 | AZ8: Trường ĐH Ngân hàng TPHCM | BA8: UD CNTT CB | BC8: TOEFL ITP 457 | BD8: B1 | BE8: 24/4/2013 | BF8: Trường ĐH Bách khoa | BG8: B1 | BH8: Trung cấp | BN8: CBQL Khoa, Phòng trường ÐH, CĐ | BO8: 06/11/2012 | BP8: Học viện Quản lý Giáo dục | BQ8: - BD GV chính (hạng II) tại Trường ĐH SP TPHCM ngày 15/5/2019 - CN Sơ cấp LLCT tại TT BD Chính trị Quận Tân Bình ngày 15/1/2014. - CC PP nghiên cứu KH, LL dạy học ĐH, Triết học tại Trường ĐH SPKT TPHCM ngày 16/10/2007. - CN Nhận thức về Đảng tại Sở GDĐT TPHCM ngày 27/6/2003. | BR8: x
A9: 03 | B9: Hà Quốc Bảo | C9: X | E9: X | F9: Nam | G9: Kiên Giang | H9: 02/02/1987 | I9: Khoa Động lực | J9: Khoa Động lực | K9: 024578348 | L9: 11/08/2006 | M9: CA. TPHCM | N9: Kinh | O9: Thiên chúa | P9: Tỉnh Thái Bình | Q9: 114/34 Phú Thọ Hòa, P. Phú Thọ Hòa, Q. Tân Phú | S9: 0933651943 | T9: haquocbao22@yahoo.com.vn | U9: 7914159577 | W9: 01/09/2013 | X9: Sở GDĐT TPHCM | Y9: 01/09/2013 | Z9: Hợp đồng không thời hạn | AA9: 01/09/2013 | AB9: TBM | AC9: Trưởng bộ môn Điện ô tô | AD9: 01/01/2019 | AH9: 12/12 | AI9: THPT | AJ9: THS | AK9: - Thạc sỹ - Đại học | AL9: - Kỹ thuật Cơ khí Động lực - Cơ khí Động lực | AM9: Trường ĐH SPKT TPHCM | AN9: - 30/12/2015 - 15/03/2012 | AO9: x | AP9: SP Bậc 2 | AQ9: 14/6/2013 | AR9: Trường ĐH SPKT TPHCM | AS9: - Chứng chỉ nghề CN ô tô bậc 4/5 (Đức) - Kỹ năng nghề Sửa chữa ô tô bậc 3/7 | AT9: - 16/10/2019 - 28/12/2017 | AU9: - Đức - Trường CĐ Lý Tự Trọng TPHCM | AV9: x | AX9: A | AY9: 42034 | AZ9: Trường ĐH SP TPHCM | BA9: A | BC9: B1 | BD9: B1 | BE9: 30/08/2015 | BF9: Trường ĐH SPKT TPHCM | BG9: B1 | BQ9: - BD GV chính (hạng II) tại Trường ĐH SP TPHCM ngày 15/5/2019. - CC Lý luận dạy học ĐH tại ĐH KHXH & NV ngày 01/9/2015. | BR9: x
A10: 04 | B10: Nguyễn Hữu Mạnh | C10: X | E10: X | F10: Nam | G10: Lào Cai | H10: 04/03/1980 | I10: Khoa Động lực | J10: Khoa Động lực | K10: 023655683 | L10: 26/06/2013 | M10: CA TPHCM | N10: Kinh | O10: Không | P10: Xã An Quí, Huyện Quỳnh Phụ, Tỉnh Thái Bình | Q10: 428 Hoàng Hữu Nam, KP Giãn Dân, phường Long Thạnh Mỹ, Q9 | S10: 0983888291 | T10: manhnguyenckd@gmail.com | U10: 0206414710 | W10: 01/09/2006 | X10: Sở GDĐT TPHCM | Y10: 01/09/2006 | Z10: Hợp đồng không thời hạn | AA10: 01/09/2006 | AB10: TBM | AC10: Trưởng Bộ môn | AD10: 01/09/2015 | AH10: 12/12 | AI10: THPT | AJ10: THS | AK10: - Thạc sỹ - Đại học | AL10: - Kỹ thuật Cơ khí Động lực - Cơ khí Động lực | AM10: - Trường ĐH Bách khoa HN - Trường ĐH SPKT TPHCM | AN10: - 05/8/2014 - 25/10/2005 | AO10: x | AP10: SP Bậc 2 | AQ10: 19/10/2005 | AR10: Trường ĐH SPKT TPHCM | AS10: - Chứng chỉ nghề CN ô tô bậc 4/5 (Đức) - Kỹ năng nghề Sửa chữa ô tô bậc 3/7 - Sửa chữa ô tô & xe máy bậc 3/7 | AT10: - 16/10/2019 - 28/12/2017 - 20/02/2001 | AU10: - Đức - Trường CĐ Lý Tự Trọng TPHCM - Trường CĐ Công nghiệp 4 | AV10: x | AX10: Trình độ B | AY10: 26/4/2004 | AZ10: Trường ĐH SPKT TPHCM | BA10: B | BC10: - Đại học - B1 | BD10: C1 | BE10: - 25/03/2019 - 09/5/2013 | BF10: - Trường ĐH Kinh Bắc - Trường ĐH Bách khoa HN | BG10: DH | BH10: Trung cấp | BQ10: - BD GV chính (hạng II) tại Trường ĐH SP TPHCM ngày 15/5/2019 | BR10: x
A11: 05 | B11: Triệu Phú Nguyên | C11: X | E11: X | F11: Nam | G11: TPHCM | H11: 12/03/1980 | I11: Khoa Động lực | J11: Khoa Động lực | K11: 023523303 | L11: 18/04/2008 | M11: CA TPHCM | N11: Hoa | O11: Không | P11: Trung Quốc | Q11: 121A/13A Hậu Giang, P5, Q6 | S11: 0908368347 | T11: nguyentrieuphu@yahoo.com | U11: 7909078910 | W11: 01/09/2008 | X11: Sở GDĐT TPHCM | Y11: 01/09/2008 | Z11: Hợp đồng không thời hạn | AA11: 01/09/2008 | AB11: TBM | AC11: Trưởng Bộ môn | AD11: 01/12/2017 | AH11: 12/12 | AI11: THPT | AJ11: THS | AK11: - Thạc sỹ - Đại học | AL11: - Kỹ thuật Cơ khí Động lực - Cơ khí Động lực | AM11: - Trường ĐH Bách khoa HN - Trường ĐH SPKT TPHCM | AN11: - 05/8/2014 - 28/4/2005 | AO11: x | AP11: - SP Bậc 2 - SP Bậc 1 | AQ11: - 05/7/2009 - 25/7/2008 | AR11: Trường ĐH SP HN 2 | AS11: - Chứng chỉ nghề CN ô tô bậc 4/5 (Đức) - Kỹ năng nghề Sửa chữa ô tô bậc 3/7 | AT11: - 16/10/2019 - 11/9/2000 | AU11: - Đức - Trường CĐ Kỹ thuật Cao Thắng TPHCM | AV11: x | AX11: - Trình độ A - Autocad căn bản - Autocad nâng cao - Proengineer căn bản - Lắp ráp cài đặt máy vi tính | AY11: - 04/12/1996 - 04/04/2002 - 03/05/2002 - 31/7/2002 - 19/12/2001 | AZ11: - ĐH Tổng hợp TPHCM - ĐH Bách khoa TPHCM - ĐH Bách khoa TPHCM - ĐH Bách khoa TPHCM - TT Dạy nghề Q5 | BA11: A | BC11: B1 | BD11: B1 | BE11: 09/05/2013 | BF11: Trường ĐH Bách khoa Hà Nội | BG11: B1 | BH11: Trung cấp | BQ11: - BD GV chính (hạng II) tại Trường ĐH SP TPHCM ngày 15/5/2019 | BR11: x
A12: 06 | B12: Hồ Văn Hóa | C12: X | E12: X | F12: Nam | G12: TPHCM | H12: 29/06/1987 | I12: Khoa Động lực | J12: Khoa Động lực | K12: 024292308 | L12: 14/07/2004 | M12: CA. TPHCM | N12: Kinh | O12: Không | P12: Xã Bình Mỹ, Huyện Củ Chi, Thành phố Hồ Chí Minh | Q12: Tổ 8, ấp 7, xã Bình Mỹ, Huyện Củ Chi, TP.HCM | S12: 0906660312 | T12: vanhoaspkt@gmail.com | U12: #N/A | W12: 01/09/2012 | X12: Sở GDĐT TPHCM | Y12: 20/08/2012 | Z12: Hợp đồng không thời hạn | AA12: 20/08/2012 | AB12: GV | AC12: Giảng viên | AH12: 12/12 | AI12: THPT | AJ12: THS | AK12: - Thạc sỹ - Đại học | AL12: - Kỹ thuật Cơ khí động lực - Cơ khí Động lực | AM12: Trường ĐH SPKT TPHCM | AN12: - 30/12/2015 - 25/4/2011 | AO12: x | AP12: SP Bậc 2 | AQ12: 14/10/2011 | AR12: Trường ĐH SPKT TPHCM | AS12: - Kỹ năng nghề Quốc gia Công nghệ Ô tô bậc 3 - Chứng chỉ nghề Sửa chữa Ô tô bậc 3/7 | AT12: - 21/11/2018 - 28/12/2017 | AU12: - Tổng cục GDNN - Trường CĐ Lý Tự Trọng TPHCM | AV12: x | AW12: x | AX12: B | AY12: 16/08/2008 | AZ12: Trường ĐH Công nghiệp TPHCM | BA12: B | BC12: - B1 - B | BD12: B1 | BE12: - 28/08/2013 - 11/3/2008 | BF12: - Trường ĐH SPKT TPHCM - Trường ĐH Công nghiệp TPHCM | BG12: B1 | BH12: Sơ cấp | BR12: x
A13: 07 | B13: Đặng Thái Sơn | C13: X | E13: X | F13: Nam | G13: Kiên Giang | H13: 06/08/1984 | I13: Khoa Động lực | J13: Khoa Động lực | K13: 024761501 | L13: 20/12/2013 | M13: CA TPHCM | N13: Kinh | O13: Thiên chúa | P13: Xã Tân An, Huyện Tân Hiệp, Tỉnh Kiên Giang | Q13: Tổ 22 Ấp Đình, xã Tân Phú Trung, Củ Chi | S13: 0937681703 | T13: thaisonltt@gmail.com | U13: 7910171254 | W13: 01/09/2009 | X13: Sở GDĐT TPHCM | Y13: 01/09/2009 | Z13: Hợp đồng không thời hạn | AA13: 01/09/2009 | AB13: GV | AC13: Giảng viên | AH13: 12/12 | AI13: THPT | AJ13: THS | AK13: - Thạc sỹ - Đại học | AL13: - Kỹ thuật Ô tô, máy kéo - Cơ khí Động lực | AM13: - Trường ĐH Bách khoa TPHCM - Trường ĐH SPKT TPHCM | AN13: - 06/11/2014 - 26/11/2008 | AO13: x | AP13: SP Bậc 2 | AQ13: 26/11/2008 | AR13: Trường ĐH SPKT TPHCM | AS13: - Kỹ năng nghề Quốc gia Công nghệ Ô tô bậc 3 - Chứng chỉ nghề Sửa chữa Ô tô bậc 3/7 | AT13: - 21/11/2018 - 28/12/2017 | AU13: - Tổng cục GDNN - Trường CĐ Lý Tự Trọng TPHCM | AV13: x | AW13: x | AX13: UD CNTT CB | AY13: 19/07/2019 | AZ13: Trường ĐH Ngoại ngữ - Tin học TPHCM | BA13: UD CNTT CB | BC13: Toeic 520 | BD13: B1 | BE13: 09/12/2012 | BF13: IIG | BG13: B1 | BH13: Trung cấp | BQ13: - BD GV chính (hạng II) tại Trường ĐH SP TPHCM ngày 15/5/2019 | BR13: x
A14: 08 | B14: Hoàng Phúc Bảo | C14: X | E14: X | F14: Nam | G14: TPHCM | H14: 28/01/1984 | I14: Khoa Động lực | J14: Khoa Động lực | K14: 079084011850 | L14: 23/07/2018 | M14: Cục cảnh sát đăng ký quản lý cư trú | N14: Kinh | O14: Không | P14: Tỉnh Tiền Giang | Q14: 20/2 Phạm Văn Hùng, Phường 10, Quận 8, TPHCM | S14: 0968774325 | T14: hoangphucbaockd@gmail.com | U14: 7914159576 | W14: 01/09/2013 | X14: Sở GDĐT TPHCM | Y14: 01/09/2013 | Z14: Hợp đồng không thời hạn | AA14: 01/09/2013 | AB14: GV | AC14: Giảng viên | AH14: 12/12 | AI14: THPT | AJ14: DH | AK14: Đại học | AL14: Cơ khí động lực | AM14: Trường ĐH SPKT TPHCM | AN14: 06/06/2013 | AO14: x | AP14: - SP Bậc 2 - SP Bậc 1 | AQ14: - 29/4/2013 - 24/4/2013 | AR14: Trường ĐH SP HN 2 | AS14: - Kỹ năng nghề Quốc gia Công nghệ Ô tô bậc 3 - Chứng chỉ nghề Sửa chữa Ô tô bậc 3/7 - Chứng chỉ nghề Sửa chữa Ô tô bậc 3/7 | AT14: - 21/11/2018 - 28/12/2017 - 10/8/2006 | AU14: - Tổng cục GDNN - Trường CĐ Lý Tự Trọng TPHCM - Trường CĐ Lý Tự Trọng TPHCM | AV14: x | AW14: x | AX14: A | AY14: 26/09/2003 | AZ14: ĐH KHTN TPHCM | BA14: A | BC14: - B - TOEIC 400 | BD14: A2 | BE14: - 01/6/2015 - 2016 | BF14: Trường ĐH Sài Gòn | BG14: B | BQ14: - CC Lý luận dạy học ĐH tại Trường ĐH KHXH & NV ngày 12/9/2015. - CC Triết học tại Trường ĐH Bách khoa TPHCM ngày 04/9/2014. | BR14: x
A15: 09 | B15: Kiều Trung Tín | C15: X | E15: X | F15: Nam | G15: TPHCM | H15: 08/04/1982 | I15: Khoa Động lực | J15: Khoa Động lực | K15: 023493630 | L15: 15/06/2012 | M15: CA.TPHCM | N15: Kinh | O15: Không | P15: Xã Bình Chánh, Huyện Bình Chánh, Thành phố Hồ Chí Minh | Q15: C12/23 ấp 3 xã Bình Chánh, huyện Bình Chánh, TPHCM | S15: 01226148847 | T15: ttin182@yahoo.com.vn | U15: 0204354426 | W15: 01/09/2010 | X15: Sở GDĐT TPHCM | Y15: 01/09/2010 | Z15: Hợp đồng không thời hạn | AA15: 01/03/2009 | AB15: GV | AC15: Giảng viên | AH15: 12/12 | AI15: THPT | AJ15: DH | AK15: Đại học | AL15: Kỹ thuật Ô tô - Máy động lực | AM15: Trường ĐH Bách khoa TPHCM | AN15: 01/10/2008 | AO15: x | AP15: SP dạy nghề | AQ15: 18/01/2010 | AR15: Trường ĐH SPKT TPHCM | AS15: CC nghề Sửa chữa ô tô bậc 3/7 | AT15: 20/09/2007 | AU15: Trường CĐ Kỹ thuật Cao Thắng | AV15: x | AX15: - Cao Đẳng - A | AY15: - 18/10/2004 - 21/9/2007 | AZ15: - Trường CĐ SP TPHCM - ĐH KHTN TPHCM | BA15: CD | BC15: - TOEFL 433 - A | BD15: A1 | BE15: - 25/05/2014 - 24/4/1996 | BF15: Sở GDĐT TPHCM | BG15: B | BQ15: - BD GV chính (hạng II) tại Trường ĐH SP TPHCM ngày 15/5/2019 | BR15: x
A16: 10 | B16: Nguyễn Minh Thái | C16: X | E16: X | F16: Nam | G16: TPHCM | H16: 02/09/1984 | I16: Khoa Động lực | J16: Khoa Động lực | K16: 023727322 | L16: 29/07/2013 | M16: CA THPCM | N16: Kinh | O16: Không | P16: Xã Tân Thới Nhì, Huyện Hóc Môn, Thành phố Hồ Chí Minh | Q16: 66/1B ấp Dân Thắng 1, xã Tân Thới Nhì, huyện Hóc Môn, TPHCM | S16: 0904444491 | T16: nguyenminhthailtt@gmail.com | U16: 7910171253 | W16: 01/09/2009 | X16: Sở GDĐT TPHCM | Y16: 01/09/2009 | Z16: Hợp đồng không thời hạn | AA16: 01/09/2009 | AB16: GV | AC16: Giảng viên | AH16: 12/12 | AI16: THPT | AJ16: DH | AK16: Đại học | AL16: Cơ khí động lực | AM16: Trường ĐH SPKT TPHCM | AN16: 26/11/2008 | AO16: x | AP16: SP Bậc 2 | AQ16: 26/11/2008 | AR16: Trường ĐH SPKT TPHCM | AS16: - Chứng chỉ nghề Sửa chữa Ô tô bậc 3/7 - Kỹ năng nghề Quốc gia Công nghệ Ô tô bậc 3 | AT16: - 28/12/2017 - 21/11/2018 | AU16: - Trường CĐ Lý Tự Trọng TPHCM - Tổng cục GDNN | AV16: x | AW16: x | AX16: UD CNTT CB | AY16: 19/07/2019 | AZ16: Trường ĐH Ngoại ngữ - Tin học TPHCM | BA16: UD CNTT CB | BC16: B1 | BD16: B1 | BE16: 29/01/2018 | BF16: Trường ĐH SPKT TPHCM | BG16: B1 | BQ16: - BD GV chính (hạng II) tại Trường ĐH SP TPHCM ngày 15/5/2019 | BR16: x
A17: 11 | B17: Nguyễn Thái Bình | C17: X | E17: X | F17: Nam | G17: TPHCM | H17: 02/01/1973 | I17: Khoa Động lực | J17: Khoa Động lực | K17: 022958396 | L17: 18/03/2010 | M17: CA TPHCM | N17: Kinh | O17: Không | P17: Phường Tăng Nhơn Phú A, Quận 9, Thành phố Hồ Chí Minh | Q17: 637 Lê Văn Việt, KP5, Tăng Nhơn Phú A, Q.9 | S17: 0906414482 | T17: binhnguyenthai60@gmail.com | U17: 7910171256 | W17: 01/09/2009 | X17: Sở GDĐT TPHCM | Y17: 01/09/2009 | Z17: Hợp đồng không thời hạn | AA17: 01/09/2009 | AB17: GV | AC17: Giảng viên | AH17: 12/12 | AI17: THPT | AJ17: THS | AK17: - Thạc sỹ - Đại học | AL17: - Kỹ thuật Ô tô, máy kéo - Cơ khí động lực | AM17: - Trường ĐH Bách khoa HN - Trường ĐH SPKT TPHCM | AN17: - 01/11/2016 - 25/9/1998 | AO17: x | AP17: SP Bậc 2 | AQ17: 30/9/1998 | AR17: Trường ĐH SPKT TPHCM | AS17: - Chứng chỉ nghề Sửa chữa Ô tô bậc 3/7 - Kỹ năng nghề Quốc gia Công nghệ Ô tô bậc 3 | AT17: - 28/12/2017 - 21/11/2018 | AU17: - Trường CĐ Lý Tự Trọng TPHCM - Tổng cục GDNN | AV17: x | AW17: x | AX17: Trình độ B | AY17: 21/11/1998 | AZ17: Trường ĐH SPKT TPHCM | BA17: B | BC17: Đại học | BD17: C1 | BE17: 15/02/2002 | BF17: ĐH KHXH & NV | BG17: DH | BH17: Sơ cấp | BQ17: - BD GV chính (hạng II) tại Trường ĐH SP TPHCM ngày 15/5/2019 | BR17: x
A18: 12 | B18: Nguyễn Thành Đức | C18: X | E18: X | F18: Nam | G18: Đồng Tháp | H18: 14/10/1978 | I18: Khoa Động lực | J18: Khoa Động lực | K18: 024520146 | L18: 16/09/2014 | M18: CA TPHCM | N18: Kinh | O18: Không | P18: Tỉnh Ðồng Tháp | Q18: 10/13 Kênh Nước Đen, P.Bình Hưng Hòa A, Q.Bình Tân | S18: 0903170567 | T18: ng_th_duc@yahoo.com.vn | U18: 7909078911 | W18: 01/09/2008 | X18: Sở GDĐT TPHCM | Y18: 01/09/2008 | Z18: Hợp đồng không thời hạn | AA18: 01/09/2008 | AB18: GV | AC18: Giảng viên | AH18: 12/12 | AI18: THPT | AJ18: THS | AK18: - Thạc sỹ - Đại học | AL18: - Kỹ thuật Cơ khí Động lực - Cơ khí động lực | AM18: - Trường ĐH Bách khoa HN - Trường ĐH SPKT TPHCM | AN18: - 05/08/2014 - 24/04/2003 | AO18: x | AP18: SP Bậc 2 | AQ18: 14/04/2003 | AR18: Trường ĐH SPKT TPHCM | AS18: Sửa chữa ô tô 3/7 | AT18: 28/12/2017 | AU18: Trường CĐ Lý Tự Trọng TPHCM | AV18: x | AX18: UD CNTT CB | AY18: 19/07/2019 | AZ18: Trường ĐH Ngoại ngữ - Tin học TPHCM | BA18: UD CNTT CB | BC18: B1 | BD18: B1 | BE18: 09/05/2013 | BF18: Trường ĐH Bách khoa HN | BG18: B1 | BR18: x
A19: 13 | B19: Nguyễn Thanh Hùng | C19: X | E19: X | F19: Nam | G19: CA. TP.HCM | H19: 03/09/1982 | I19: Khoa Động lực | J19: Khoa Động lực | K19: 079082002097 | L19: 13/06/2016 | M19: CA. TPHCM | N19: Kinh | O19: Không | P19: Thành phố Hồ Chí Minh | Q19: 020 Lô Y CC Ngô Gia Tự, Phường 2, Quận 10, TP.HCM | S19: 0938958210 | T19: thanhhungspkt05@gmail.com | U19: 7910002854 | W19: 01/10/2012 | X19: Sở GDĐT TPHCM | Y19: 01/10/2012 | Z19: Hợp đồng không thời hạn | AA19: 01/10/2012 | AB19: GV | AC19: Giảng viên | AH19: 12/12 | AI19: THPT | AJ19: THS | AK19: - Thạc sỹ - Đại học | AL19: - Kỹ thuật Ô tô, máy kéo - Cơ khí động lực | AM19: - Trường ĐH Bách khoa TPHCM - Trường ĐH SPKT TPHCM | AN19: - 26/4/2017 - 25/11/2009 | AO19: x | AP19: - NVSP cho GV ĐH, CĐ - SP bậc 2 | AQ19: - 02/4/2019 - 19/9/2008 | AR19: - Trường ĐH SP HN 2 - Trường ĐH SPKT TP. HCM | AS19: - Chứng chỉ nghề Sửa chữa ô tô bậc 3/7 - Kỹ năng nghề Quốc gia Công nghệ Ô tô bậc 3 | AT19: - 02/7/2004 - 21/11/2018 | AU19: - Trường Kỹ thuật Cao Thắng - Tổng cục GDNN | AV19: x | AW19: x | AX19: - Ứng dụng CNTT cơ bản - A | AY19: - 19/12/2018 - 05/4/2010 | AZ19: - Trường ĐH CNTT - Trường ĐH SP TPHCM | BA19: UD CNTT CB | BC19: - TOEIC 600 - B | BD19: B2 | BE19: - 26/4/2017 - 29/10/2008 | BF19: - Trường ĐH Bách khoa TPHCM - Trường ĐH SP TPHCM | BG19: B2 | BQ19: - BD GV chính (hạng II) tại Trường ĐH SP TPHCM ngày 15/5/2019 | BR19: x
A20: 14 | B20: Phan Anh Tuấn Kiệt | C20: X | E20: X | F20: Nam | G20: TPHCM | H20: 28/10/1983 | I20: Khoa Động lực | J20: Khoa Động lực | K20: 079083003103 | L20: 15/07/2016 | M20: Cục cảnh sát đăng ký quản lý cư trú | N20: Kinh | O20: Thiên chúa | P20: Tỉnh Bình Ðịnh | Q20: 16/1 Cách Mạng, P.Tân Thành, Q.Tân Phú | S20: 0938250452 | T20: kiettool07@yahoo.com | U20: 7908079140 | W20: 01/09/2007 | X20: Sở GDĐT TPHCM | Y20: 01/09/2007 | Z20: Hợp đồng không thời hạn | AA20: 01/09/2007 | AB20: GV | AC20: Giảng viên | AH20: 12/12 | AI20: THPT | AJ20: THS | AK20: - Thạc sỹ - Đại học | AL20: - Kỹ thuật Cơ khí Động lực - Cơ khí Động lực | AM20: - Trường ĐH Bách khoa HN - Trường ĐH SPKT TPHCM | AN20: - 05/8/2014 - 06/11/2006 | AO20: x | AP20: SP Bậc 2 | AQ20: 06/11/2006 | AR20: Trường ĐH SPKT TP. HCM | AS20: Chứng chỉ nghề Sửa chữa ô tô bậc 3/7 | AT20: 28/12/2017 | AU20: Trường CĐ Lý Tự Trọng TPHCM | AV20: x | AX20: TH UDCB | AY20: 20/12/2018 | AZ20: Trường CĐ Lý Tự Trọng TPHCM | BA20: UD CNTT CB | BC20: B1 | BD20: B1 | BE20: 09/05/2013 | BF20: Trường ĐH SP HN | BG20: B1 | BH20: Sơ cấp | BI20: 17/6/2014 | BJ20: TT BD Chính trị Q. Tân Bình | BQ20: - BD GV chính (hạng II) tại Trường ĐH SP TPHCM ngày 15/5/2019 - CN Kỹ thuật viên Toyota sửa chữa thân vỏ xe tại Trường ĐH SP KT TPHCM ngày 7/24/2009 | BR20: x
A21: 15 | B21: Trần Minh Tuấn | C21: X | E21: X | F21: Nam | G21: Quảng Ngãi | H21: 17/11/1986 | I21: Khoa Động lực | J21: Khoa Động lực | K21: 051086000128 | L21: 12/04/2017 | M21: Cục cảnh sát đăng ký quản lý cư trú | N21: Kinh | O21: Không | P21: Xã Nghĩa Trung, Huyện Tư Nghĩa, Tỉnh Quảng Ngãi | Q21: 151 Đường số 8, Phường 11, Quận Gò Vấp, TPHCM | S21: 0903870724 | T21: tranminhtuan31@gmail.com | U21: 7911094457 | W21: 01/09/2010 | X21: Sở GDĐT TPHCM | Y21: 01/09/2010 | Z21: Hợp đồng không thời hạn | AA21: 01/09/2010 | AB21: GV | AC21: Giảng viên | AH21: 12/12 | AI21: THPT | AJ21: THS | AK21: - Thạc sỹ - Đại học | AL21: - Kỹ thuật Cơ khí Động lực - Cơ khí động lực | AM21: Trường ĐH SPKT TPHCM | AN21: - 20/04/2013 - 25/11/2009 | AO21: - Chưa có - Đã có | AP21: - SP Bậc 2 | AQ21: 25/11/2009 | AR21: Trường ĐH SPKT TP. HCM | AS21: - Chứng chỉ nghề Sửa chữa ô tô bậc 3/7 - Kỹ năng nghề Quốc gia Công nghệ Ô tô bậc 3 | AT21: - 28/12/2017 - 21/11/2018 | AU21: - Trường CĐ Lý Tự Trọng TPHCM - Tổng cục GDNN | AV21: x | AW21: x | AX21: TH UDCB | AY21: 20/12/2018 | AZ21: Trường CĐ Lý Tự Trọng TPHCM | BA21: UD CNTT CB | BC21: B1 | BD21: B1 | BE21: 08/03/2012 | BF21: Trường ĐH SPKT TPHCM | BG21: B1 | BQ21: - CC Autocad 2D-3D tại Trường Tin học Lạc Quan ngày 24/11/2007 | BR21: x
A22: 16 | B22: Trần Quốc Duy | C22: X | E22: X | F22: Nam | G22: TPHCM | H22: 11/09/1985 | I22: Khoa Động lực | J22: Khoa Động lực | K22: 079085009956 | L22: 29/08/2017 | M22: Cục cảnh sát đăng ký quản lý cư trú | N22: Kinh | O22: Thiên chúa | P22: Tỉnh Ðồng Nai | Q22: 74/1/3 Tân Kỳ Tân Quý, Phường Tây Thạnh, Quận Tân Phú, TPHCM | S22: 0935 129 573 | T22: quocduy_ckoto@yahoo.com.vn | U22: 7911311169 | W22: 01/03/2011 | X22: Sở GDĐT TPHCM | Y22: 14/02/2011 | Z22: Hợp đồng không thời hạn | AA22: 14/02/2011 | AB22: GV | AC22: Giảng viên | AH22: 12/12 | AI22: THPT | AJ22: THS | AK22: - Thạc sỹ - Đại học | AL22: - Kỹ thuật Cơ khí Động lực - Công nghệ ô tô | AM22: - Trường ĐH Bách khoa TPHCM - Trường ĐH Công nghiệp TPHCM | AN22: - 26/10/2018 - 29/6/2010 | AO22: - Chưa có - Chưa có | AP22: SP Bậc 2 | AQ22: 16/9/2011 | AR22: Trường ĐH SPKT TP. HCM | AS22: - Chứng chỉ nghề Sửa chữa ô tô bậc 3/7 - Kỹ năng nghề Quốc gia Công nghệ Ô tô bậc 3 | AT22: - 28/12/2017 - 21/11/2018 | AU22: - Trường CĐ Lý Tự Trọng TPHCM - Tổng cục GDNN | AV22: x | AW22: x | AX22: A | AY22: 27/02/2009 | AZ22: Sở GDĐT TPHCM | BA22: A | BC22: TOEFL 467 | BD22: B1 | BE22: 11/03/2018 | BF22: IIG | BG22: B1 | BQ22: - BD GV chính (hạng II) tại Trường ĐH SP TPHCM ngày 15/5/2019 | BR22: x
A23: 17 | B23: Trần Thế Sơn | C23: X | E23: X | F23: Nam | G23: Đồng Nai | H23: 18/06/1990 | I23: Khoa Động lực | J23: Khoa Động lực | K23: 271927461 | L23: 01/7/2016 | M23: CA.Đồng Nai | N23: Kinh | O23: Không | P23: Xã La Ngà, Huyện Định Quán, Tỉnh Ðồng Nai | Q23: Ấp 4, La Ngà, Định Quán, Đồng Nai | S23: 0974532823 | U23: #N/A | W23: 01/10/2018 | X23: Sở GDĐT TPHCM | Y23: 01/10/2018 | Z23: Hợp đồng không thời hạn | AA23: 01/10/2018 | AB23: GV | AC23: Giảng viên | AH23: 12/12 | AI23: THPT | AJ23: DH | AK23: Đại học | AL23: Công nghệ Kỹ thuật Ô tô | AM23: Trường ĐH Công nghiệp TPHCM | AN23: 16/5/2014 | AO23: x | AP23: NVSP dành cho GV CĐ, ĐH | AQ23: 30/8/2018 | AR23: Trường ĐH SP HN TP. HCM | AS23: Kỹ năng nghề Quốc gia Công nghệ Ô tô bậc 3 | AT23: 21/11/2018 | AU23: Tổng cục GDNN | AW23: x | AX23: A | AY23: 41354 | AZ23: Trường ĐH Công nghiệp TPHCM | BA23: A | BC23: C | BD23: B1 | BE23: 15/11/2012 | BF23: Trường ĐH Công nghiệp TPHCM | BG23: C | BQ23: - BD GV chính (hạng II) tại Trường ĐH SP TPHCM ngày 15/5/2019 | BR23: x
A24: 18 | B24: Nguyễn Lương Tâm | C24: X | E24: X | F24: Nam | G24: Qui Nhơn | H24: 01/10/1970 | I24: Khoa Động lực | J24: Khoa Động lực | K24: 022093185 | L24: 05/02/2010 | M24: CA.TPHCM | N24: Kinh | O24: Không | P24: Tỉnh Thừa Thiên - Huế | Q24: 143 CMT8, P12, Quận Tân Bình, TPHCM | S24: 0909511055 | U24: #N/A | W24: 01/10/2018 | X24: Sở GDĐT TPHCM | Y24: 01/10/2018 | Z24: Hợp đồng không thời hạn | AA24: 1994 | AB24: GV | AC24: Giảng viên | AH24: 12/12 | AI24: THPT | AJ24: DH | AK24: Đại học | AL24: Kỹ sư Cơ khí | AM24: Trường ĐH Bách Khoa | AN24: 30/8/1994 | AO24: x | AP24: - NVSP dành cho GV CĐ, ĐH - BD NVSP | AQ24: - 30/11/2018 - 27/01/1999 | AR24: - Trường ĐH SP HN 2 - Sở LĐ-TB&XH | AS24: Kỹ năng nghề Quốc gia Công nghệ Ô tô bậc 3 | AT24: 21/11/2018 | AU24: Tổng cục GDNN | AW24: x | AX24: ƯD CNTT CB | AY24: 9/01/2018 | AZ24: Trường ĐH Ngân hàng TPHCM | BA24: UD CNTT CB | BC24: B | BD24: A2 | BE24: 22/01/2018 | BF24: Trường ĐH Ngân hàng TPHCM | BG24: B | BQ24: - BD GV chính (hạng II) tại Trường ĐH SP TPHCM ngày 15/5/2019 - CC LL dạy học và GD tại Trường ĐH SP TPHCM ngày 5/10/2007. | BR24: x
A25: 19 | B25: Trần Văn Đông | C25: X | E25: X | F25: Nam | G25: Bình Định | H25: 12/12/1990 | I25: Khoa Động lực | J25: Khoa Động lực | K25: 215223184 | L25: 29/01/2011 | M25: CA.Bình Định | N25: Kinh | O25: Không | P25: Xã Mỹ An, Huyện Phù Mỹ, Tỉnh Bình Ðịnh | Q25: 100/08 Quang Trung, P. Tăng Nhơn Phú B, Quận 9, TPHCM | S25: 0964345549 | U25: #N/A | W25: 01/01/2019 | X25: Sở GDĐT TPHCM | Y25: 01/01/2019 | Z25: Tập sự | AA25: 01/01/2019 | AB25: GV | AC25: Giảng viên | AH25: 12/12 | AI25: THPT | AJ25: THS | AK25: - Thạc sỹ - Đại học | AL25: - Kỹ thuật Cơ khí Động lực - Công nghệ kỹ thuật Ô tô | AM25: Trường ĐH SPKT TPHCM | AN25: - 30/6/2006 - 06/06/2013 | AO25: x | AP25: NVSP dành cho GV CĐ, ĐH | AQ25: 30/11/2018 | AR25: Trường ĐH SP HN 2 | AX25: UD CNTT CB | AY25: 43420 | AZ25: Trường ĐH Ngân hàng TPHCM | BA25: UD CNTT CB | BC25: - B1 - B | BD25: B1 | BE25: - 25/01/2015 - 20/7/2010 | BF25: - Trường ĐH SPKT TPHCM - Trường CĐ Công Thương TPHCM | BG25: B1 | BQ25: - BD GV chính (hạng II) tại Trường ĐH SP TPHCM ngày 15/5/2019 | BR25: x
A26: 20 | B26: Lý Văn Trung | C26: X | E26: X | F26: Nam | G26: xã Tân Hộ Cơ, huyện Tân Hồng, tỉnh Đồng Tháp | H26: 12/12/1980 | I26: Khoa Động lực | J26: Khoa Động lực | K26: 340947476 | L26: 27/12/2018 | M26: CA. Đồng Tháp | N26: Kinh | O26: Không | P26: Tân Hộ Cơ, Tân Hồng, Đồng Tháp | Q26: xã Tân Hộ Cơ, huyện Tân Hồng, tỉnh Đồng Tháp | R26: A7/13D liên ấp 2-3-4 ấp 1 xã Vĩnh Lộc A, huyện Bình Chánh, TPHCM | S26: 0985018603 | T26: lyvantrung2013@gmail.com | V26: 01/11/2019 | W26: 01/11/2019 | X26: Sở GDĐT TPHCM | Y26: 01/11/2019 | Z26: Hợp đồng không thời hạn | AA26: 01/07/2009 | AB26: GV | AC26: Giảng viên | AH26: 12/12 | AI26: THPT | AJ26: THS | AK26: - Thạc sỹ - Đại học | AL26: - Kỹ thuật Ô tô, máy kéo - Cơ khí động lực | AM26: - Trường ĐH Bách Khoa - Trường ĐH SPKT TPHCM | AN26: - 11/04/2012 - 25/10/2005 | AO26: x | AP26: - Nghiệp vụ sư phạm dành cho GV CĐ, ĐH - Sư phạm dạy nghề - Đào tạo NVSP | AQ26: - 20/8/2013 - 10/5/2010 - 14/5/2009 | AR26: - Trường ĐH SP HN - Trường CĐ nghề GTVT TW III - Trường ĐH KHXH&NV | AX26: UD CNTT CB | AY26: 22/01/2019 | AZ26: Trường ĐH CNTT TPHCM | BA26: UD CNTT CB | BC26: B | BD26: A2 | BE26: 19/9/2005 | BF26: Trường CĐKTKT Công nghiệp II | BG26: B | BR26: x
A40: Số TT | B40: Đơn vị | C40: Tổng | D40: Chức vụ/ Chức danh | I40: Kiêm chức | J40: Trình độ chuyên môn | P40: Trình độ Tin học | Y40: Trình độ Ngoại ngữ | AI40: Trình độ Lý luận Chính trị | AL40: Hợp đồng | AN40: Đảng viên | AO40: Nữ
D41: Trưởng, Phụ trách phòng | E41: Phó Trưởng đơn vị | F41: Trưởng Bộ môn, Tổ trưởng | G41: Nhân viên | H41: Giảng viên | J41: Tiến sỹ | K41: Thạc sỹ | L41: Đại học | M41: Cao đẳng | N41: Trung cấp | O41: Khác | P41: A | Q41: B | R41: TC | S41: CĐ | T41: ĐH | U41: THS | V41: IC3 | W41: UD CNTT CB | X41: UD CNTT NC | Y41: A | Z41: B | AA41: C | AB41: TC | AC41: CĐ | AD41: ĐH | AE41: THS | AF41: B1 | AG41: B2 | AH41: C1 | AI41: SC | AJ41: TC | AK41: Trên TC | AL41: Biên chế + Không thời hạn + Nghị định 68 (Sở) | AM41: Hợp đồng trường
B42: Khoa Động lực | C42: =SUM(D42:H42) -> 20 | D42: =SUM((COUNTIF($AB$7:$AB$13,"HT")+(COUNTIF($AB$7:$AB$13,"TK")+(COUNTIF($AB$7:$AB$13,"TP"))+(COUNTIF($AB$7:$AB$13,"TTT"))))) -> 1 | E42: =SUM((COUNTIF($AB$7:$AB$13,"PHT")+(COUNTIF($AB$7:$AB$13,"PK")+(COUNTIF($AB$7:$AB$13,"PTP"))+(COUNTIF($AB$7:$AB$13,"PTT"))))) -> 1 | F42: =SUM((COUNTIF($AB$7:$AB$13,"TBM")+(COUNTIF($AB$7:$AB$13,"TT")))) -> 3 | G42: =COUNTIF($AB$7:$AB$26,"NV") -> 0 | H42: =COUNTIF($AB$7:$AB$26,"GV") -> 15 | I42: =COUNTIF($D$7:$D$26,"x") -> 0 | J42: =COUNTIF($AJ$7:$AJ$26,"TS") -> 1 | K42: =COUNTIF($AJ$7:$AJ$26,"THS") -> 14 | L42: =COUNTIF($AJ$7:$AJ$26,"DH") -> 5 | M42: =COUNTIF($AJ$7:$AJ$26,"CD") -> 0 | N42: =COUNTIF($AJ$7:$AJ$26,"TC") -> 0 | O42: =COUNTIF($AJ$7:$AJ$26,"") -> 0 | P42: =COUNTIF($BA$7:$BA$26,"A") -> 5 | Q42: =COUNTIF($BA$7:$BA$26,"B") -> 3 | R42: =COUNTIF($BA$7:$BA$26,"TC") -> 0 | S42: =COUNTIF($BA$7:$BA$26,"CD") -> 1 | T42: =COUNTIF($BA$7:$BA$26,"DH") -> 0 | U42: =COUNTIF($BA$7:$BA$26,"THS") -> 0 | V42: =COUNTIF($BB$7:$BB$26,"IC3") -> 0 | W42: =COUNTIF($BA$7:$BA$26,"UD CNTT CB") -> 11 | X42: =COUNTIF($BA$7:$BA$26,"UD CNTT NC") -> 0 | Y42: =SUM((COUNTIF($BG$7:$BG$26,"A"))+(COUNTIF($BG$7:$BG$26,"A1"))) -> 0 | Z42: =SUM((COUNTIF($BG$7:$BG$26,"B"))+(COUNTIF($BG$7:$BG$26,"A2"))) -> 4 | AA42: =COUNTIF($BG$7:$BG$26,"C") -> 1 | AB42: =COUNTIF($BG$7:BG26,"TC") -> 0 | AC42: =COUNTIF($BG$7:$BG$26,"CD") -> 0 | AD42: =COUNTIF($BG$7:$BG$26,"DH") -> 3 | AE42: =COUNTIF($BG$7:$BG$26,"THS") -> 0 | AF42: =COUNTIF($BG$7:$BG$26,"B1") -> 11 | AG42: =COUNTIF($BG$7:$BG$26,"B2") -> 1 | AH42: =COUNTIF($BG$7:$BG$26,"C1") -> 0 | AI42: =COUNTIF($BH$7:$BH$26,"Sơ cấp") -> 3 | AJ42: =COUNTIF($BH$7:$BH$26,"Trung cấp") -> 5 | AK42: =COUNTIF($BH$7:$BH$26,"Cao cấp") -> 0 | AL42: =COUNTIF($X$7:$X$26,"Sở GDĐT TPHCM") -> 20 | AM42: =COUNTIF($X$7:$X$26,"Trường CĐ Lý Tự Trọng TPHCM") -> 0 | AN42: =COUNTIF($AG$7:$AG$26,"x") -> 1 | AO42: =COUNTIF($F$7:$F$26,"Nữ") -> 0
AP1291: =COUNTIF(#REF!,"Thạc sỹ") -> #REF!

Sheet CO KHI
A1: UBND THÀNH PHỐ HỒ CHÍ MINH TRƯỜNG CAO ĐẲNG LÝ TỰ TRỌNG THÀNH PHỐ HỒ CHÍ MINH | AP1: CỘNG HÒA XÃ HỘI CHỦ NGHĨA VIỆT NAM Độc lập - Tự do - Hạnh phúc
A3: DANH SÁCH THỐNG KÊ CHUẨN CHUYÊN MÔN NGHIỆP VỤ CỦA NHÀ GIÁO
A5: STT | B5: Họ tên | C5: GV | D5: kiêm chức | E5: GV + kiêm chức | F5: Giới tính | G5: Nơi sinh | H5: Ngày/tháng/năm sinh | I5: Kiêm chức tại khoa | J5: Đơn vị | K5: Số chứng mình nhân dân | L5: Ngày cấp Chứng minh nhân dân | M5: Nơi cấp chứng minh nhân dân | N5: Dân tộc | O5: Tôn giáo | P5: Quê quán | Q5: Địa chỉ thường trú | R5: Nơi ở hiện nay | S5: Điện thoại DD | T5: Email | U5: Số sổ bảo hiểm xã hội | V5: Ngày hợp đồng | W5: Ngày tuyển dụng | X5: Cơ quan tuyển dụng | Y5: Ngày về cơ quan hiện nay | Z5: Thuộc loại cán bộ | AA5: Ngày vào ngành giáo dục | AB5: Chức vụ/ Chức danh hiện tại (công thức) | AC5: Chức vụ/ Chức danh hiện tại | AD5: Ngày bổ nhiệm chức vụ hiện tại | AE5: Ngày vào đảng | AF5: Ngày vào đảng chính thức | AG5: Đảng viên (công thức) | AH5: Học vấn phổ thông | AI5: Đã tốt nghiệp | AJ5: Trình độ chuyên môn | AP5: Nghiệp vụ sư phạm | AS5: Kỹ năng nghề | AX5: Tin học | BC5: Ngoại ngữ | BH5: Lý luận Chính trị | BK5: Quản lý nhà nước | BN5: Trình độ quản lý giáo dục | BQ5: Chứng chỉ khác
AJ6: Trình độ chuyên môn cao nhất (công thức) | AK6: Trình độ chuyên môn cao nhất | AL6: Chuyên ngành đào tạo | AM6: Nơi đào tạo | AN6: Năm tốt nghiệp | AO6: Bảng điểm | AP6: Chứng chỉ bồi dưỡng nghiệp vụ | AQ6: Ngày cấp chứng chỉ | AR6: Nơi cấp | AS6: Kỹ năng nghề | AT6: Ngày cấp chứng chỉ | AU6: Nơi cấp | AV6: Kỹ năng nghề 3/7 trở lên (công thức) | AW6: Kỹ năng nghề Quốc gia (công thức) | AX6: Trình độ tin học | AY6: Ngày cấp | AZ6: Nơi cấp | BA6: Trình độ tin học (công thức) | BB6: Trình độ tin học Quốc tế (công thức) | BC6: Trình độ ngoại ngữ | BD6: Theo khung NLNN 6 bậc | BE6: Ngày cấp chứng chỉ | BF6: Nơi cấp CC Ngoại ngữ | BG6: Trình độ ngoại ngữ (thống kê) | BH6: Trình độ lý luận chính trị | BI6: Ngày cấp | BJ6: Nơi cấp | BK6: Trình độ quản lý nhà nước | BL6: Ngày cấp | BM6: Nơi cấp | BN6: Trình độ quản lý giáo dục | BO6: Ngày cấp | BP6: Nơi cấp
A7: 01 | B7: Chung Trần Thế Vinh | C7: X | E7: X | F7: Nam | G7: TPHCM | H7: 25/06/1981 | I7: Khoa Cơ khí | J7: Khoa Cơ khí | K7: 023353491 | L7: 05/07/2010 | M7: CA.TPHCM | N7: Kinh | O7: Không | P7: Tỉnh Long An | Q7: 22/5 ấp Nam Thới, Xã Thới Tam Thôn, Hóc Môn, TPHCM | S7: 0908686554 | T7: chungvinh1981@gmail.com | U7: 0204343040 | W7: 01/09/2004 | X7: Sở GDĐT TPHCM | Y7: 01/09/2004 | Z7: Hợp đồng không thời hạn | AA7: 01/09/2004 | AB7: TK | AC7: Trưởng Khoa | AD7: 01/02/2016 | AF7: 06/09/2013 | AG7: X | AH7: 12/12 | AI7: THPT | AJ7: THS | AK7: - Thạc sỹ - Đại học | AL7: - Công nghệ chế tạo máy - Cơ khí chế tạo máy | AM7: - Trường ĐH Bách khoa TPHCM - Trường ĐH SP KT TPHCM | AN7: - 6/11/2013 - 30/4/2004 | AO7: x | AP7: SP Bậc 2 | AQ7: 30/4/2004 | AR7: Trường ĐH SPKT TPHCM | AS7: Chứng chỉ nghề Công nghệ Hàn bậc 3/7 | AT7: 28/12/2017 | AU7: Trường CĐ Lý Tự Trọng TPHCM | AV7: x | AX7: UD CNTT CB | AY7: 43454 | BC7: IELTS 5.0 | BD7: B2 | BE7: 19/10/2010 | BF7: IDP | BG7: B2 | BH7: Trung cấp | BI7: 29/6/2016 | BJ7: Trường Đào tạo, BD CB Công thương Trung Ương | BN7: BD CBQL Khoa, phòng, Trường ĐH, CĐ | BO7: 01/9/2014 | BP7: Học viện Quản lý Giáo dục | BQ7: - BD GV chính (hạng II) tại Trường ĐH SP TPHCM ngày 15/5/2019 - CC Triết học, PP NC KH, LL dạy học ĐH tại Trường ĐH SPKT TPHCM ngày 22/8/2007 - CN Hoàn thành chương trình BD Kiến thức QP-AN đối tượng 3 tại Trường Quân sự TPHCM ngày 17/8/2018. - CN Thiết kế SP, UD CAD/CAM-CNC tại TT Thiết kế Chế tạo Thiết bị mới ngày 15/9/2008. - CN BD Đảng viên mới theo quy định của TW tại TT BD CT Quận 5 ngày 20/10/2013. | BR7: x
A8: 02 | B8: Trần Đình Khải | C8: X | E8: X | F8: Nam | G8: Quảng Ngãi | H8: 26/07/1968 | I8: Khoa Cơ khí | J8: Khoa Cơ khí | K8: 051068000336 | L8: 24/05/2018 | M8: Cục Cảnh sát Đăng ký quản lý cư trú | N8: Kinh | O8: Không | P8: Huyện Sơn Tịnh, Tỉnh Quảng Ngãi | Q8: 91/72 Đinh Tiên Hoàng P3, Q.Bình Thạnh | S8: 0937400988 | U8: 7909078919 | W8: 01/09/2008 | X8: Sở GDĐT TPHCM | Y8: 01/09/2008 | Z8: Hợp đồng không thời hạn | AA8: 30/08/2008 | AB8: PK | AC8: Phó Trưởng Khoa | AD8: 01/02/2016 | AH8: 12/12 | AI8: THPT | AJ8: THS | AK8: - Thạc sỹ - Đại học | AL8: - Kỹ thuật cơ khí - Cơ khí chế tạo máy | AM8: - Trường ĐH Nông Lâm TPHCM - Trường ĐH SP KT TPHCM | AN8: - 12/7/2012 - 30/8/1996 | AO8: - Đã có - Chưa có | AP8: - SP Bậc 2 - NVSP dành cho GV CĐ, ĐH | AQ8: - 19/9/2008 - 01/9/2017 | AR8: - Trường ĐH SPKT TPHCM - Trường ĐH Sài Gòn | AX8: UD CNTT CB | AY8: 43454 | BC8: B1 | BD8: B1 | BE8: 31/07/2011 | BF8: Trường ĐH Nông Lâm TPHCM | BG8: B1 | BN8: CBQL các Khoa, Phòng, Ban trường ÐH | BQ8: - CN SolidWorks trong thiết kế cơ khí tại Trường ĐH SPKT TPHCM ngày 22/8/2007. | BR8: x
A9: 03 | B9: Bùi Anh Tuấn | C9: X | E9: X | F9: Nam | G9: Lâm Đồng | H9: 02/11/1988 | I9: Khoa Cơ khí | J9: Khoa Cơ khí | K9: 025919554 | L9: 01/07/2014 | M9: CA. TPHCM | N9: Kinh | O9: Không | P9: Ninh Bình | Q9: 65/10 Trần Văn Dư, Phường 13, Quận Tân Bình, TPHCM | S9: 0906785539 | T9: frankcadillac2008@yahoo.com | U9: 7913072284 | W9: 01/09/2012 | X9: Sở GDĐT TPHCM | Y9: 01/09/2012 | Z9: Hợp đồng không thời hạn | AA9: 01/09/2012 | AB9: TBM | AC9: Trưởng Bộ môn | AD9: 01/09/2015 | AH9: 12/12 | AI9: THPT | AJ9: THS | AK9: - Thạc sỹ - Đại học | AL9: - Kỹ thuật cơ khí - Cơ khí chế tạo máy | AM9: - Trường ĐH Bách khoa TPHCM - Trường ĐH SP KT TPHCM | AN9: - 2/11/2015 - 20/10/2011 | AO9: x | AP9: SP Bậc 2 | AQ9: 19/10/2011 | AR9: Trường ĐH SPKT TPHCM | AX9: Tin học UDCB | AY9: 43454 | AZ9: Trường CĐ Lý Tự Trọng TPHCM | BA9: UD CNTT CB | BC9: Toeic 540 | BD9: B1 | BE9: 20/07/2014 | BF9: IIG | BG9: B1 | BH9: Sơ cấp | BI9: 27/5/2016 | BJ9: TT BD Chính trị Quận Tân Bình | BQ9: - BD GV chính (hạng II) tại Trường ĐH SP TPHCM ngày 15/5/2019 - CN BD GV DN chuyên đề CN Scan 3D và thiết kế ngược tại Trường ĐH SPKT TPHCM ngày 19/1/2016. - CC LL dạy học ĐH tại Trường ĐH KHXH & NV TPHCM ngày 16/9/2013. - CC Thiết kế và lập trình gia công với pro/ Engineer tại Trường ĐH SPKT TPHCM ngày 17/01/2011. | BR9: x
A10: 04 | B10: Vũ Đức Pháp | C10: X | E10: X | F10: Nam | G10: TPHCM | H10: 26/09/1978 | I10: Khoa Cơ khí | J10: Khoa Cơ khí | K10: 023172992 | L10: 11/02/2011 | M10: CA.TPHCM | N10: Kinh | O10: Thiên chúa | P10: Thái Bình | Q10: 21/2 Hàn Mặc Tử, P.Tân Thành, Q.Tân Phú | S10: 0988662521 | T10: ducphapv@yahoo.com | U10: 0204343041 | W10: 31/08/2004 | X10: Sở GDĐT TPHCM | Y10: 31/08/2004 | Z10: Hợp đồng không thời hạn | AA10: 31/08/2004 | AB10: TBM | AC10: Trưởng Bộ môn | AD10: 15/05/2016 | AH10: 12/12 | AI10: THPT | AJ10: THS | AK10: - Thạc sỹ - Đại học | AL10: - Kỹ thuật cơ khí - Cơ khí chế tạo máy | AM10: - Trường ĐH Nông Lâm TPHCM - Trường ĐH SP KT TPHCM | AN10: - 31/7/2013 - 30/7/2004 | AO10: x | AP10: - SP Bậc 2 - NVSP dành cho GV CĐ, ĐH | AQ10: - 30/4/2004 - 30/10/2019 | AR10: - Trường ĐH SPKT TPHCM - Trường ĐH SP HN 2 | AX10: Tin học UDCB | AY10: 43454 | AZ10: Trường CĐ Lý Tự Trọng TPHCM | BA10: UD CNTT CB | BC10: - B1 - B | BD10: B1 | BE10: - 31/07/2011 - 19/3/2001 | BF10: - Trường ĐH Nông Lâm TPHCM - Trường ĐH Hàng Hải TPHCM | BG10: B1 | BH10: Trung cấp | BI10: 22/3/2019 | BJ10: Học viện Cán bộ TPHCM | BQ10: - BD GV chính (hạng II) tại Trường ĐH SP TPHCM ngày 15/5/2019 - CC Autocad R.14 CB tại Trường ĐH Bách khoa TPHCM ngày 17/9/2001. - CN Sơ cấp LLCT tại TT BD Chính trị Quận tân Bình ngày 17/6/2014. - CC CAD/CAM - PRO/ENGINEER cơ bản tại Trường ĐH Bách khoa TPHCM ngày 25/1/2003. - CC GV, GV về Đào tạo theo tín chỉ, biên soạn giáo án và tổ chức dạy học tích hợp, tổ chức đào tạo và đánh giá theo năng lực thực hiện tại Trường CĐ Nghề TPHCM ngày 16/12/2015. - CN Học lớp nhận thức về Đảng tại Sở GDĐT TPHCM tại 10/3/2009. | BR10: x
A11: 05 | B11: Vũ Quang Khải | C11: X | E11: X | F11: Nam | G11: TP. Hồ Chí Minh | H11: 25/11/1971 | I11: Khoa Cơ khí | J11: Khoa Cơ khí | K11: 022355188 | L11: 21/03/2008 | M11: CA.TPHCM | N11: Kinh | O11: Thiên chúa | P11: Tỉnh Hà Nam | Q11: 2/8 Đường số 8, P15, Q.Gò Vấp TPHCM | S11: 0908598884 | U11: 0298118092 | W11: 01/09/1998 | X11: Sở GDĐT TPHCM | Y11: 01/09/1998 | Z11: Biên chế | AA11: 01/09/1998 | AB11: TBM | AC11: Trưởng Bộ môn | AD11: 01/12/2017 | AH11: 12/12 | AI11: THPT | AJ11: DH | AK11: Đại học | AL11: Cơ khí chế tạo máy | AM11: Trường ĐH SP KT TPHCM | AN11: 15/11/1997 | AO11: x | AP11: SP Bậc 2 | AQ11: 26/11/1996 | AR11: Trường ĐH SPKT TPHCM | AS11: Chứng chỉ nghề Công nghệ Hàn bậc 3/7 | AT11: 28/12/2017 | AU11: Trường CĐ Lý Tự Trọng TPHCM | AV11: x | AX11: TH UDCB | AY11: 43393 | AZ11: Trường CĐ Lý Tự Trọng TPHCM | BA11: UD CNTT CB | BC11: B | BD11: A2 | BE11: 20/10/1997 | BF11: Trường Dự bị ĐH TPHCM | BG11: B | BQ11: - BD GV chính (hạng II) tại Trường ĐH SP TPHCM ngày 15/5/2019. - CC Thiết kế sản phẩm, ứng dụng CAD/CAM-CNC. - CC Triết học, PP NC KH, LL dạy học ĐH tại Trường ĐH SPKT TPHCM ngày 16/10/2007 | BR11: x
A12: 06 | B12: Đỗ Thị Phương Khanh | C12: X | E12: X | F12: Nữ | G12: Củ Chi | H12: 22/04/1975 | I12: Khoa Cơ khí | J12: Khoa Cơ khí | K12: 023044182 | L12: 18/07/2007 | M12: CA.TPHCM | N12: Kinh | O12: Không | P12: Quảng Nam | Q12: 51/14 Phan Văn Hớn, KP4, P.Tân Thới Nhất, Q12 | S12: 0909094459 | U12: 0298118090 | W12: 01/09/1998 | X12: Sở GDĐT TPHCM | Y12: 01/09/1998 | Z12: Biên chế | AA12: 01/09/1998 | AB12: GV | AC12: Giảng viên | AF12: 27/07/2007 | AG12: X | AH12: 12/12 | AI12: THPT | AJ12: THS | AK12: - Thạc sỹ - Thạc sỹ - Đại học | AL12: - Công nghệ chế tạo máy - Giáo dục học - Cơ khí chế tạo máy | AM12: - Trường ĐH Bách khoa TPHCM - Trường ĐH SP KT TPHCM - Trường ĐH SP KT TPHCM | AN12: - 01/11/2016 - 5/4/2004 - 30/9/1998 | AO12: x | AP12: - SP Bậc 2 - SP Bậc 1 | AQ12: - 30/4/2004 - 5/6/1995 | AR12: Trường ĐH SPKT TPHCM | AS12: - Chứng chỉ nghề Công nghệ Hàn bậc 3/7 - CC Kỹ năng nghề Quốc gia nghề cắt gọt kim loại trên máy CNC | AT12: - 28/12/2017 - 6/3/2019 | AU12: - Trường CĐ Lý Tự Trọng TPHCM - Tổng cục GDNN | AV12: x | AW12: x | AX12: - Trình độ B - TH UDCB | AY12: 43454 | AZ12: Trường CĐ Lý Tự Trọng TPHCM | BA12: UD CNTT CB | BC12: - Đại học - C | BD12: C1 | BE12: - 22/02/2000 - 12/3/2002 | BF12: - Trường ĐH Ngoại ngữ - ĐH Quốc gia HN - Trường ĐH KHXH&NV | BG12: DH | BH12: Trung cấp | BI12: 22/3/2019 | BJ12: Học viện Cán bộ TPHCM | BQ12: - BD GV chính (hạng II) tại Trường ĐH SP TPHCM ngày 15/5/2019 - CN Sơ cấp LLCT tại TT BD Chính trị Quận tân Bình ngày 15/1/2014. - CC Triết học, LL DH ĐH tại Trường ĐH SPKT TPHCM ngày 29/3/2006. - CC Acad căn bản tại Trường ĐH Kỹ thuật TPHCM ngày 24/8/1998. - CC Kỹ năng dạy lý thuyết tại Viện nghiên cứu phát triển GD ngày 17/9/2001. - CN SolidWorks trong thiết kế cơ khí tại Trường ĐH SP KT TPHCM ngày 29/12/2017. - CC Các PP và phương thức đào tạo mới cho GV kỹ thuật và dạy nghề tại Trường ĐH SP KT TPHCM ngày 30/12/2005. - CN huấn luyện về máy gia công Cơ khí CNC tại Trường CĐ nghề TPHCM ngày 30/9/1998. | BR12: x
A13: 07 | B13: Dương Minh Chung | C13: X | E13: X | F13: Nam | G13: Long An | H13: 24/12/1976 | I13: Khoa Cơ khí | J13: Khoa Cơ khí | K13: 024252246 | L13: 12/01/2009 | M13: CA.TPHCM | N13: Kinh | O13: Không | P13: Thị xã Tân An, Tỉnh Long An | Q13: 301/26 Dương Bá Trạc P1, Q8 | S13: 0902617540 | T13: duongminhchung@gmail.com | U13: 0204343042 | W13: 01/09/2004 | X13: Sở GDĐT TPHCM | Y13: 01/09/2004 | Z13: Hợp đồng không thời hạn | AA13: 01/09/2004 | AB13: GV | AC13: Giảng viên | AH13: 12/12 | AI13: THPT | AJ13: THS | AK13: - Thạc sỹ - Đại học | AL13: - Kỹ thuật cơ khí - Kỹ thuật công nghiệp | AM13: - Trường ĐH Nông Lâm TPHCM - Trường ĐH SP KT TPHCM | AN13: - 3/10/2017 - 29/4/2004 | AO13: x | AP13: SP Bậc 2 | AQ13: 29/4/2004 | AR13: Trường ĐH SPKT TPHCM | AS13: Chứng chỉ nghề Công nghệ Hàn bậc 3/7 | AT13: 28/12/2017 | AU13: Trường CĐ Lý Tự Trọng TPHCM | AV13: x | AX13: B | AY13: 40152 | AZ13: TT FLAI | BA13: B | BC13: - C - B1 | BD13: B1 | BE13: - 24/03/2003 - 23/7/2015 | BF13: - Viện ĐH Mở HN - Trường ĐH SP TPHCM | BG13: B1 | BQ13: - BD GV chính (hạng II) tại Trường ĐH SP TPHCM ngày 15/5/2019 | BR13: x
A14: 08 | B14: Dương Thị Hồng | C14: X | E14: X | F14: Nữ | G14: Hài Dương | H14: 06/01/1989 | I14: Khoa Cơ khí | J14: Khoa Cơ khí | K14: 026062453 | L14: 05/08/2015 | M14: CA.TPHCM | N14: Kinh | O14: Không | P14: Huyện Ninh Giang, Tỉnh Hải Dương | Q14: 2/236 Đường 6, Tổ 1, KP3, P. Tăng Nhơn Phú B, Quận 9, TPHCM | S14: 0985173332 | U14: 7916074712 | W14: 01/09/2015 | X14: Sở GDĐT TPHCM | Y14: 01/09/2015 | Z14: Hợp đồng không thời hạn | AA14: 01/09/2015 | AB14: GV | AC14: Giảng viên | AH14: 12/12 | AI14: THPT | AJ14: THS | AK14: - Thạc sỹ - Đại học | AL14: - Kỹ thuật cơ khí - Cơ khí chế biến nông sản thực phẩm | AM14: Trường ĐH Nông Lâm TPHCM | AN14: - 18/8/2014 - 14/9/2011 | AO14: x | AP14: NVSP dành cho GV ĐH, CĐ | AQ14: 16/5/2015 | AR14: Trường ĐH SP Hà Nội | AS14: Chứng chỉ nghề Công nghệ Hàn bậc 3/7 | AT14: 28/12/2017 | AU14: Trường CĐ Lý Tự Trọng TPHCM | AV14: x | AX14: A | AY14: 42517 | AZ14: Trường CĐ Nghề Hàng Hải TPHCM | BA14: A | BC14: - B1 - B | BD14: B1 | BE14: - 08/04/2014 - 5/11/2009 | BF14: - Trường ĐH Nông Lâm TPHCM - Trường CĐ Công thương TPHCM | BG14: B1 | BH14: Sơ cấp | BI14: 27/5/2016 | BJ14: TT BD Chính trị Quận Tân Bình | BR14: x
A15: 09 | B15: Hà Phước Tuấn | C15: X | E15: X | F15: Nam | G15: TP.HCM | H15: 01/11/1960 | I15: Khoa Cơ khí | J15: Khoa Cơ khí | K15: 022631400 | L15: 19/06/2015 | M15: CA.TPHCM | N15: Kinh | O15: Không | P15: Làng Đông Yên, Xã Duy Trinh, Huyện Duy Xuyên, Tỉnh Quảng Nam | Q15: 415A Hàn Hải Nguyên nối dài, P1, Q11 | S15: 0903884403 | T15: haphuoctuan@gmail.com | U15: 0296241620 | W15: 01/10/1987 | X15: Sở GDĐT TPHCM | Y15: 01/10/1987 | Z15: Biên chế | AA15: 01/10/1987 | AB15: GV | AC15: Giảng viên | AD15: 01/02/2007 | AH15: 12/12 | AI15: THPT | AJ15: DH | AK15: Đại học | AL15: - Chế tạo máy - Tài chính kế toán các ngành SX | AM15: - Trường ĐH SP KT TPHCM - Trường ĐH Tài chính - Kế toán TPHCM | AN15: - 28/9/1989 - 4/10/1993 | AO15: - chưa có - chưa có | AP15: Kỹ sư giáo dục | AQ15: 28/9/1989 | AR15: Trường ĐH SPKT TPHCM | AS15: Chứng chỉ nghề Công nghệ Hàn bậc 3/7 | AT15: 28/12/2017 | AU15: Trường CĐ Lý Tự Trọng TPHCM | AV15: x | AX15: TH UDCB | AY15: 43454 | AZ15: Trường CĐ Lý Tự Trọng TPHCM | BA15: UD CNTT CB | BC15: - C - A | BD15: B1 | BE15: - 16/06/2004 - 25/4/1995 | BF15: - Trường ĐH KHXH & NV - Trường ĐH SP KT TPHCM | BG15: C | BN15: BD CBCCNN ngành GDĐT | BO15: 4/2/2004 | BP15: Trường CB QLGD & ĐT II | BQ15: - CN BD NV tự đánh giá trong kiểm định chất lượng tại Trường CB QLGD TPHCM ngày 22/11/2009. - CC Kỹ năng dạy lý thuyết Tại Viện Nghiên cứu phát triển GD ngày 14/9/2001. - CN Đánh giá chương trình và hiệu quả đào tạo của các trường ĐH, CĐ tại Viện Nghiên cứu GD ngày 31/10/2012. - CC Triết học tại Trường ĐH SP TPHCM ngày 30/3/1997. - CC Đào tạo và BD nghề Kỹ thuật kim loại/ kỹ thuật SX và gia công cắt gọt cho GV/ đào tạo viên kỹ thuật tại CH Liên bang Đức ngày 30/6/1999. | BR15: x
A16: 10 | B16: Lư Thị Yến Vũ | C16: X | E16: X | F16: Nữ | G16: Bến Tre | H16: 19/05/1976 | I16: Khoa Cơ khí | J16: Khoa Cơ khí | K16: 024799248 | L16: 07/09/2007 | M16: CA.TPHCM | N16: Kinh | O16: Không | P16: Xã Phong Nẫm, Huyện Giồng Trôm, Tỉnh Bến Tre | Q16: 4.16 cc Lô B Khu công nghiệp Tân Bình, Tây Thạnh, Tân Phú | S16: 01223191292 | T16: vulethang@yahoo.com | U16: 0203005089 | W16: 01/09/2008 | X16: Sở GDĐT TPHCM | Y16: 01/09/2008 | Z16: Hợp đồng không thời hạn | AA16: 01/09/2008 | AB16: GV | AC16: Giảng viên | AH16: 12/12 | AI16: THPT | AJ16: THS | AK16: - Thạc sỹ - Đại học | AL16: - Kỹ thuật cơ khí - Kỹ sư cơ khí | AM16: Trường ĐH Bách khoa TPHCM | AN16: - 01/11/2019 - 23/3/2001 | AO16: - chưa có - đã có | AP16: - NVSP - CC Sư phạm dạy nghề | AQ16: - 22/5/2009 - 7/9/2015 | AR16: - Trường CĐ Nghề TPHCM - Trường ĐH KHXH&NV TPHCM | AS16: Chứng chỉ nghề Công nghệ Hàn bậc 3/7 | AT16: 28/12/2017 | AU16: Trường CĐ Lý Tự Trọng TPHCM | AV16: x | AX16: UD CNTT CB | AY16: 43454 | BC16: Tiếng Pháp B1 | BD16: B1 | BE16: 29/01/2019 | BF16: CAMPUS FRANCE | BG16: B1 | BQ16: - BD GV chính (hạng II) tại Trường ĐH SP TPHCM ngày 15/5/2019. - CC Lý luận DH ĐH tại Trường ĐH KHXH & NV ngày 5/06/2009. | BR16: x
A17: 11 | B17: Nguyễn Duy Hải | C17: X | E17: X | F17: Nam | G17: Bình Thuận | H17: 05/08/1984 | I17: Khoa Cơ khí | J17: Khoa Cơ khí | K17: 060084000219 | L17: 26/11/2018 | M17: Cục Cảnh sát Đăng ký quản lý cư trú | N17: Kinh | O17: Không | P17: Thành phố Phan Thiết, Tỉnh Bình Thuận | Q17: 100/7 Trương Phước Phan, Phường Bình Trị Đông, Quận Bình Tân. | S17: 0909599616 | T17: nguyenduyhai272@yahoo.com | U17: 7911094455 | W17: 01/09/2010 | X17: Sở GDĐT TPHCM | Y17: 01/09/2010 | Z17: Hợp đồng không thời hạn | AA17: 01/09/2010 | AB17: GV | AC17: Giảng viên | AH17: 12/12 | AI17: THPT | AJ17: THS | AK17: - Thạc sỹ - Đại học | AL17: - Kỹ thuật cơ khí - Công nghệ Cơ khí | AM17: - Trường ĐH Nông Lâm TPHCM - Trường ĐH Công nghiệp TPHCM | AN17: - 31/7/2013 - 15/10/2008 | AO17: x | AP17: SP dạy nghề dành cho GV dạy TC nghề, CĐ nghề | AQ17: 7/9/2015 | AR17: Trường CĐ Nghề TPHCM | AX17: A | AY17: 37770 | AZ17: Trường CĐ Công nghiệp 4 | BA17: A | BC17: B1 | BD17: B1 | BE17: 31/07/2011 | BF17: Trường ĐH Nông Lâm TPHCM | BG17: B1 | BH17: Trung cấp | BI17: 22/3/2019 | BJ17: Học viện Cán bộ TPHCM | BQ17: - BD GV chính (hạng II) tại Trường ĐH SP TPHCM ngày 15/5/2019 - CC LL dạy học ĐH tại Trường ĐH KHXH 7 NV ngày 8/8/2011. - CN Autaocad 2D và 3D tại Trường CĐ Công nghiệp 4 ngày 29/6/2004. - CN BD GV dạy nghề chuyên đề CN thiết kế SP dạng tấm và khuôn dập tại Trường ĐH SP KT TPHCM ngày 19/1/2016. - CC Triết học tại Trường ĐH Nông Lâm TPHCM ngày 12/3/2010. - CN UD CNTT trong giảng dạy kỹ thuật tại Trường ĐH SP KT TPHCM ngày 12/11/2011. | BR17: x
A18: 12 | B18: Nguyễn Ngọc Quỳnh | C18: X | E18: X | F18: Nam | G18: TPHCM | H18: 19/11/1983 | I18: Khoa Cơ khí | J18: Khoa Cơ khí | K18: 023630039 | L18: 16/07/2012 | M18: CA.TPHCM | N18: Kinh | O18: Không | P18: Xã Điện Phước, Huyện Điện Bàn, Tỉnh Quảng Nam | Q18: 77 đường D1, P.25, Q.Bình Thạnh | S18: 0983537391 | T18: quynh1103@yahoo.com.vn | U18: 7910171251 | W18: 01/09/2009 | X18: Sở GDĐT TPHCM | Y18: 01/09/2009 | Z18: Hợp đồng không thời hạn | AA18: 01/09/2009 | AB18: GV | AC18: Giảng viên | AH18: 12/12 | AI18: THPT | AJ18: THS | AK18: - Thạc sỹ - Đại học | AL18: - Kỹ thuật cơ khí - Cơ khí tin học kỹ thuật | AM18: - Trường ĐH Bách khoa TPHCM - Trường ĐH Kỹ thuật Công nghệ TPHCM | AN18: - 8/11/2017 - 14/3/2009 | AO18: x | AP18: - SP dạy nghề dành cho GV dạy TC nghề, CĐ nghề - LL dạy học và GD | AQ18: - 3/9/2015 - 4/5/2010 | AR18: - Trường CĐ Nghề TPHCM - Trường ĐH SP TPHCM | AS18: Chứng chỉ nghề Sửa chữa cơ khí 3/7 | AT18: 16/6/2005 | AU18: Trường CĐ Kỹ thuật Cao Thắng Trọng TPHCM | AV18: x | AX18: A | AY18: 37190 | AZ18: ĐH KHTN TPHCM | BA18: A | BC18: - Toeic 585 - B | BD18: B1 | BE18: - 16/4/2017 - 15/12/2006 | BF18: - IIG - Trường ĐH SP TPHCM | BG18: B1 | BH18: Sơ cấp | BQ18: - BD GV chính (hạng II) tại Trường ĐH SP TPHCM ngày 15/5/2019. - CC LL DH ĐH tại Trường ĐH SP TPHCM ngày 11/10/2010. - CN Lớp đo lường pháp quyền tại Chi cục Tiêu chuẩn - Đo lường - Chất lượng TPHCM ngày 19/1/2007. | BR18: x
A19: 13 | B19: Nguyễn Tam Cương | C19: X | E19: X | F19: Nam | G19: Bình Định | H19: 13/02/1963 | I19: Khoa Cơ khí | J19: Khoa Cơ khí | K19: 052063000099 | L19: 25/03/2019 | M19: Cục Cảnh sát Đăng ký quản lý cư trú | N19: Kinh | O19: Không | P19: Xã Phước Thắng, Huyện Tuy Phước, Tỉnh Bình Ðịnh | Q19: 407 Lô F Cư xá Thanh Đa, P27, Q.Bình Thạnh | S19: 0908291031 | T19: ntcuong132@yahoo.com | U19: 0201155208 | W19: 01/09/2001 | X19: Sở GDĐT TPHCM | Y19: 01/09/2001 | Z19: Biên chế | AA19: 01/09/2001 | AB19: GV | AC19: Giảng viên | AH19: 12/12 | AI19: THPT | AJ19: THS | AK19: - Thạc sỹ - Đại học | AL19: - QL Khoa học và công nghệ - Cơ khí chế tạo máy | AM19: - Học viện Kỹ thuật Quân sự - Trường ĐH SP KT TPHCM | AN19: - 30/9/2013 - 12/10/1996 | AO19: x | AP19: - SP Bậc 2 - SP Bậc 1 | AQ19: - 26/12/2005 - 15/5/2002 | AR19: Trường ĐH SPKT TPHCM | AS19: Chứng chỉ nghề Công nghệ Hàn bậc 3/7 | AT19: 28/12/2017 | AU19: Trường CĐ Lý Tự Trọng TPHCM | AV19: x | AX19: A | AY19: 37914 | AZ19: Trường ĐH Dân lập - Ngoại ngữ - Tin học TPHCM | BA19: A | BC19: B | BD19: A2 | BE19: 26/09/2006 | BF19: TT Hỗ trợ Phát triển UD CN Tin học - Ngoại ngữ | BG19: B | BH19: Sơ cấp | BI19: 15/01/2014 | BJ19: TT BD Chính trị Quận Tân Bình | BQ19: - CN Công nghệ máy điều khiển chương trình số CAD/CAM-CNC tại Trường ĐH SPKT TPHCM ngày 20/1/2003. - CC Triết học, PP NC KH, LL dạy học ĐH tại Trường ĐH SPKT TPHCM ngày 16/10/2007 - CN BD chuyên đề CN Hàn tại Sở LĐTB-XH ngày 30/3/2007. - CN Thiết kế sản phẩm, ứng dụng CAD/CAM-CNC tại Trường ĐH SPKT TPHCM ngày 15/9/2008. - CN Học lớp nhận thức về Đảng tại Sở GDĐT TPHCM ngày 10/3/2009 | BR19: x
A20: 14 | B20: Nguyễn Thanh Giang | C20: X | E20: X | F20: Nam | G20: Vĩnh Long | H20: 5/12/1977 | I20: Khoa Cơ khí | J20: Khoa Cơ khí | K20: 331950060 | L20: 42923 | M20: CA. Vĩnh Long | N20: Kinh | O20: Không | P20: Xã Long Mỹ, Huyện Mang Thít, Tỉnh Vĩnh Long | Q20: 376 ấp Tân Vĩnh Thuận,xã Tân Ngãi,TP.Vĩnh Long | S20: 0962138518 | U20: #N/A | W20: 01/4/2018 | X20: Sở GDĐT TPHCM | Y20: 01/4/2018 | Z20: Hợp đồng không thời hạn | AA20: 01/3/2011 | AB20: GV | AC20: Giảng viên | AH20: THPT | AI20: 12/12 | AJ20: THS | AK20: - Thạc sỹ - Đại học | AL20: - Kỹ thuật cơ khí - Cơ khí chế tạo máy | AM20: Trường ĐH SP KT TPHCM | AN20: - 30/12/2016 - 28/4/2005 | AO20: x | AP20: Sư phạm dạy nghề | AQ20: 26/12/2011 | AR20: Trường ĐH SP KT TPHCM | AX20: - A - TH UDCB | AY20: - 20/4/2011 - 20/12/2018 | AZ20: - Trường ĐH Ngoại ngữ - Tin học TPHCM - Trường CĐ Lý Tự Trọng TPHCM | BA20: A | BC20: - IELTS 4.0 - B1 | BD20: B1 | BE20: - Ko có - 23/8/2016 | BF20: - Không có - Trường ĐH SP KT TPHCM | BG20: B1 | BQ20: - CN BD GVDN ngành cắt gọt kim loại tại Trường ĐH SP KT TPHCM ngày 01/4/2014. | BR20: x
A21: 15 | B21: Nguyễn Thành Long | C21: X | E21: X | F21: Nam | G21: TPHCM | H21: 19/07/1975 | I21: Khoa Cơ khí | J21: Khoa Cơ khí | K21: 022939793 | L21: 17/04/2008 | M21: CA.TPHCM | N21: Kinh | O21: Thiên chúa | P21: Tỉnh Thái Bình | Q21: 61/26 Đường Cách Mạng, Phường Tân Thành, Quận Tân Phú, TPHCM | S21: 01654905868 | U21: 0206217331 | W21: 01/09/2009 | X21: Sở GDĐT TPHCM | Y21: 01/09/2009 | Z21: Hợp đồng không thời hạn | AA21: 01/09/2009 | AB21: GV | AC21: Giảng viên | AH21: 12/12 | AI21: THPT | AJ21: THS | AK21: - Thạc sỹ - Đại học | AL21: - Kỹ thuật cơ khí - Cơ khí chế tạo máy | AM21: - Trường ĐH Nông Lâm TPHCM - Trường ĐH SP KT TPHCM | AN21: - 14/7/2017 - 10/9/2001 | AO21: x | AP21: SP Bậc 2 | AQ21: 10/9/2001 | AR21: Trường ĐH SPKT TPHCM | AS21: Chứng chỉ nghề Công nghệ Hàn bậc 3/7 | AT21: 28/12/2017 | AU21: Trường CĐ Lý Tự Trọng TPHCM | AV21: x | AX21: TH UDCB | AY21: 43454 | AZ21: Trường CĐ Lý Tự Trọng TPHCM | BA21: UD CNTT CB | BC21: B1 | BD21: B1 | BE21: 09/05/2016 | BF21: Trường ĐH Nông Lâm TPHCM | BG21: B1 | BQ21: - BD GV chính (hạng II) tại Trường ĐH SP TPHCM ngày 15/5/2019. - UD phần mềm CREO PARAMETRIC 4.0 trong thiết kế khuôn mẫu tại Trường ĐH SP KT TPHCM ngày 5/11/2018. | BR21: x
A22: 16 | B22: Nguyễn Thanh Vĩnh Phúc | C22: X | E22: X | F22: Nam | G22: TP. Hồ Chí Minh | H22: 29/03/1972 | I22: Khoa Cơ khí | J22: Khoa Cơ khí | K22: 022102283 | L22: 24/09/2013 | M22: CA. TPHCM | N22: Kinh | O22: Không | P22: Tỉnh Vĩnh Long | Q22: 199 Võ Thị Sáu, P7, Q3 | S22: 01288191979 | U22: 0298022617 | W22: 01/09/1997 | X22: Sở GDĐT TPHCM | Y22: 01/09/1997 | Z22: Biên chế | AA22: 01/09/1997 | AB22: GV | AC22: Giảng viên | AH22: 12/12 | AI22: THPT | AJ22: DH | AK22: Đại học | AL22: Cơ khí chế tạo máy | AM22: Trường ĐH SP KT TPHCM | AN22: 12/10/1996 | AO22: x | AP22: - SP dạy nghề dành cho GV dạy TC nghề và CĐ nghề - SP Bậc 1 | AQ22: - 7/9/2015 - 15/11/2001 | AR22: - Trường CĐ nghề TPHCM - Trường ĐH SPKT TPHCM | AS22: Chứng chỉ nghề Công nghệ Hàn bậc 3/7 | AT22: 28/12/2017 | AU22: Trường CĐ Lý Tự Trọng TPHCM | AV22: x | AX22: UD CNTT CB | AY22: 43454 | BC22: B | BD22: A2 | BE22: 29/09/2014 | BF22: Viện Đào tạo & Nâng cao TPHCM | BG22: B | BH22: Sơ cấp | BQ22: - CC Triết học, PP NC KH, LL dạy học ĐH tại Trường ĐH SPKT TPHCM ngày 16/10/2007. | BR22: x
A23: 17 | B23: Nguyễn Thanh Vũ | C23: X | E23: X | F23: Nam | G23: Quảng Trị | H23: 10/10/1975 | I23: Khoa Cơ khí | J23: Khoa Cơ khí | K23: 025817153 | L23: 01/11/2013 | M23: CA. TPHCM | N23: Kinh | O23: Không | P23: Xã Triệu Phước, Huyện Triệu Phong, Tỉnh Quảng Trị | Q23: 314 Lô B cc Gò Dầu, P. Tân Sơn Nhì, Q.Tân Phú, TPHCM | S23: 0903774652 | U23: 7908079141 | W23: 01/09/2007 | X23: Sở GDĐT TPHCM | Y23: 01/09/2007 | Z23: Hợp đồng không thời hạn | AA23: 03/09/2000 | AB23: GV | AC23: Giảng viên | AH23: 12/12 | AI23: THPT | AJ23: DH | AK23: Đại học | AL23: Cơ khí chế tạo máy | AM23: Trường ĐH SP KT TPHCM | AN23: 01/10/1998 | AO23: x | AP23: - SP Bậc 2 - SP bậc 1 | AQ23: - 21/9/2012 - 15/11/2001 | AR23: - Trường ĐH SP Hà Nội 2 - Trường ĐH SPKT TPHCM | AS23: Chứng chỉ nghề Công nghệ Hàn bậc 3/7 | AT23: 28/12/2017 | AU23: Trường CĐ Lý Tự Trọng TPHCM | AV23: x | AX23: TH UDCB | AY23: 43454 | AZ23: Trường CĐ Lý Tự Trọng TPHCM | BA23: UD CNTT CB | BC23: B | BD23: A2 | BE23: 07/05/2019 | BF23: Trường CĐ Lý Tự Trọng TPHCM | BG23: B | BR23: x
A24: 18 | B24: Nguyễn Tiến Dũng | C24: X | E24: X | F24: Nam | G24: Quảng Ngãi | H24: 01/01/1973 | I24: Khoa Cơ khí | J24: Khoa Cơ khí | K24: 024436109 | L24: 05/08/2005 | M24: CA.TPHCM | N24: Kinh | O24: Phật | P24: Xã Đức Thắng, Huyện Mộ Đức, Tỉnh Quảng Ngãi | Q24: 797/288 Hưng Phú, Phường 9, Quận 8 | S24: 0938 676 269 | T24: shifttuan@yahoo.com.vn | U24: 7910171257 | W24: 01/09/2009 | X24: Sở GDĐT TPHCM | Y24: 01/09/2009 | Z24: Hợp đồng không thời hạn | AA24: 01/09/2009 | AB24: GV | AC24: Giảng viên | AH24: 12/12 | AI24: THPT | AJ24: DH | AK24: Đại học | AL24: Cơ khí chế tạo máy | AM24: Trường ĐH SP KT TPHCM | AN24: 5/9/1997 | AO24: x | AP24: SP Bậc 2 | AQ24: 5/9/1997 | AR24: Trường ĐH SPKT TPHCM | AS24: Chứng chỉ nghề Công nghệ Hàn bậc 3/7 | AT24: 28/12/2017 | AU24: Trường CĐ Lý Tự Trọng TPHCM | AV24: x | AX24: TH UDCB | AY24: 43454 | AZ24: Trường CĐ Lý Tự Trọng TPHCM | BA24: UD CNTT CB | BC24: B | BD24: A2 | BE24: 15/09/2018 | BF24: Viện Đào tạo và Nâng cao TPHCM (IFP) | BG24: B | BQ24: - BD GV chính (hạng II) tại Trường ĐH SP TPHCM ngày 15/5/2019 | BR24: x
A25: 19 | B25: Phan Thị Xuân Trang | C25: X | E25: X | F25: Nữ | G25: Đồng Tháp | H25: 01/03/1971 | I25: Khoa Cơ khí | J25: Khoa Cơ khí | K25: 024283935 | L25: 07/10/2004 | M25: CA.TPHCM | N25: Kinh | O25: Không | P25: Đồng Tháp | Q25: 132/10 Dương Văn Dương, P. Tân quý, Q. Tân Phú, TPHCM | S25: 0918612621 | T25: phanxuantrang@yahoo.com.vn | U25: 0200092902 | W25: 01/09/1999 | X25: Sở GDĐT TPHCM | Y25: 25/07/2004 | Z25: Biên chế | AA25: 01/09/1999 | AB25: GV | AC25: Giảng viên | AH25: 12/12 | AI25: THPT | AJ25: DH | AK25: Đại học | AL25: Kỹ thuật CN | AM25: Trường ĐH SP KT TPHCM | AN25: 5/9/1995 | AP25: SP Bậc 2 | AQ25: 5/9/1995 | AR25: Trường ĐH SPKT TPHCM | AS25: Chứng chỉ nghề Công nghệ Hàn bậc 3/7 | AT25: 28/12/2017 | AU25: Trường CĐ Lý Tự Trọng TPHCM | AV25: x | AX25: TH UDCB | AY25: 20/12/2018 | AZ25: Trường CĐ Lý Tự Trọng TPHCM | BA25: UD CNTT CB | BC25: B | BD25: A2 | BE25: 03/09/2008 | BF25: Viện Đào tạo và Nâng cao TPHCM (IEP) | BG25: B | BQ25: - CC Triết học, PP NC KH, LL dạy học ĐH tại Trường ĐH SPKT TPHCM ngày 16/10/2007 | BR25: x
A26: 20 | B26: Phan Văn Thành | C26: X | E26: X | F26: Nam | G26: TPHCM | H26: 25/07/1964 | I26: Khoa Cơ khí | J26: Khoa Cơ khí | K26: 021314535 | L26: 02/03/2007 | M26: CA.TPHCM | N26: Kinh | O26: Không | P26: Xã Bình Mỹ, Huyện Củ Chi, Thành phố Hồ Chí Minh | Q26: 22/1/20 Nguyễn Văn Săng, Tân Sơn Nhì, Q.Tân Phú | S26: 0982387866 | T26: thanh_eduvn@yahoo.com.vn | U26: 0296241623 | W26: 01/10/1987 | X26: Sở GDĐT TPHCM | Y26: 01/10/1987 | Z26: Biên chế | AA26: 01/10/1987 | AB26: GV | AC26: Giảng viên | AH26: 12/12 | AI26: THPT | AJ26: DH | AK26: Đại học | AL26: Chế tạo máy | AM26: Trường ĐH SP KT TPHCM | AN26: 28/9/1989 | AO26: x | AP26: Kỹ sư giáo dục | AQ26: 28/9/1989 | AR26: Trường ĐH SPKT TPHCM | AS26: Chứng chỉ nghề Công nghệ Hàn bậc 3/7 | AT26: 28/12/2017 | AU26: Trường CĐ Lý Tự Trọng TPHCM | AV26: x | AX26: TH UDCB | AY26: 20/12/2018 | AZ26: Trường CĐ Lý Tự Trọng TPHCM | BA26: UD CNTT CB | BC26: B | BD26: A2 | BE26: 15/09/2018 | BF26: Viện Đào tạo và Nâng cao TPHCM | BG26: B | BH26: Sơ cấp | BI26: 15/01/2014 | BJ26: TT BD Chính trị Quận Tân Bình | BQ26: - CC Triết học, PP NC KH, LL dạy học ĐH tại Trường ĐH SPKT TPHCM ngày 16/10/2007 - CN Thiết kế SP, UD CAD/CAM-CNC tại TT Thiết kế chế tạo thiết bị mới ngày 15/9/2008. - CN Sơ cấp Tiếng Nga Tại TT Tiếng Nga ngày 26/12/1988. - CC Kỹ năng dạy lý thuyết tại Viện nghiên cứu Phát triển GD ngày 14/9/2001. | BR26: x
A27: 21 | B27: Trần Minh Thông | C27: X | E27: X | F27: Nam | G27: TP. Hồ Chí Minh | H27: 23/11/1987 | I27: Khoa Cơ khí | J27: Khoa Cơ khí | K27: 024221614 | L27: 03/12/2012 | M27: CA. TPHCM | N27: Kinh | O27: Không | P27: Thành phố Hồ Chí Minh | Q27: 383 ấp Bình Thuận, xã Bình Khánh, huyện Cần Giờ, TP. Hồ Chí Minh | S27: 0987473457 | T27: minhthong_bk@yahoo.com.vn; minhthong2311@gmail.com | U27: 7911380877 | W27: 01/10/2012 | X27: Sở GDĐT TPHCM | Y27: 03/10/2012 | Z27: Hợp đồng không thời hạn | AA27: 03/10/2012 | AB27: GV | AC27: Giảng viên | AH27: 12/12 | AI27: THPT | AJ27: DH | AK27: Đại học | AL27: Kỹ thuật chế tạo | AM27: Trường ĐH Bách khoa TPHCM | AN27: 12/4/2010 | AO27: x | AP27: Nghiệp vụ sư phạm dành cho giảng viên | AQ27: 16/9/2013 | AR27: Trường ĐH SP TPHCM | AX27: TH UDCB | AY27: 43454 | AZ27: Trường CĐ Lý Tự Trọng TPHCM | BA27: UD CNTT CB | BC27: Toeic 420 | BD27: A2 | BE27: 06/01/2019 | BF27: ETS | BG27: A2 | BH27: Sơ cấp | BQ27: - BD GV chính (hạng II) tại Trường ĐH SP TPHCM ngày 15/5/2019. - CN BD GV DN chuyên đề CN lập trình gia công CNC nhiều trục tại Trường ĐH SPKT TPHCM ngày 19/1/2016. | BR27: x
A28: 22 | B28: Trần Thị Hương | C28: X | E28: X | F28: Nữ | G28: Hoàng Nam, Nghĩa Hưng, Nam Định | H28: 05/06/1980 | I28: Khoa Cơ khí | J28: Khoa Cơ khí | K28: 025845340 | L28: 07/11/2013 | M28: CA. TPHCM | N28: Kinh | O28: Không | P28: Xã Hoàng Nam, Huyện Nghĩa Hưng, Tỉnh Nam Ðịnh | Q28: 204B-N07-CCK26 Dương Quảng Hàm, Phường 7, Gò Vấp, TP. Hồ Chí Minh | S28: 0988100633 | T28: khoinguyen020109@yahoo.com | U28: 8903002184 | W28: 01/10/2012 | X28: Sở GDĐT TPHCM | Y28: 01/10/2012 | Z28: Hợp đồng không thời hạn | AA28: 01/10/2012 | AB28: GV | AC28: Giảng viên | AH28: 12/12 | AI28: THPT | AJ28: THS | AK28: - Thạc sỹ - Đại học | AL28: - Công nghệ chế tạo máy - Cơ khí chế tạo máy | AM28: - Học viện Kỹ thuật Quân sự - Trường ĐH SP KT TPHCM | AN28: - 20/8/2006 - 29/4/2004 | AO28: x | AP28: SP Bậc 2 | AQ28: 24/12/2001 | AR28: Trường CĐ SPKT Nam Định | AS28: Chứng chỉ nghề Công nghệ Hàn bậc 3/7 | AT28: 28/12/2017 | AU28: Trường CĐ Lý Tự Trọng TPHCM | AV28: x | AX28: B | AY28: 38965 | AZ28: TT Tin học - Ngoại ngữ DELTA | BA28: B | BC28: C | BD28: B1 | BE28: 18/09/2006 | BF28: Học viện Kỹ thuật Quân sự | BG28: C | BH28: Sơ cấp | BQ28: - CC Triết học Mac - Lenin, LL dạy học ĐH tại Học viện kỹ thuật Quân sự ngày 18/9/2006. | BR28: x
A29: 23 | B29: Trương Thị Phương Hồng | C29: X | E29: X | F29: Nữ | G29: TP. Hồ CHí Minh | H29: 25/08/1975 | I29: Khoa Cơ khí | J29: Khoa Cơ khí | K29: 022813516 | L29: 03/01/2012 | M29: CA.TPHCM | N29: Kinh | O29: Phật | P29: Phường 9, Quận 8, Thành phố Hồ Chí Minh | Q29: 797/288, Hưng Phú P9, Q8 | S29: 0983250875 | U29: 0298118091 | W29: 01/09/1998 | X29: Sở GDĐT TPHCM | Y29: 01/09/1998 | Z29: Biên chế | AA29: 01/09/1998 | AB29: GV | AC29: Giảng viên | AH29: 12/12 | AI29: THPT | AJ29: DH | AK29: Đại học | AL29: Cơ khí chế tạo máy | AM29: Trường ĐH SP KT TPHCM | AN29: 30/9/1998 | AO29: x | AP29: - SP Bậc 1 - SP Bậc 2 | AQ29: - 15/11/2001 - 26/12/2005 | AR29: Trường ĐH SPKT TPHCM | AX29: TH UDCB | AY29: 43454 | AZ29: Trường CĐ Lý Tự Trọng TPHCM | BA29: UD CNTT CB | BC29: B | BD29: A2 | BE29: 23/02/2019 | BF29: Trường CĐ Lý Tự Trọng TPHCM | BG29: B | BH29: Sơ cấp | BI29: 27/5/2016 | BJ29: TT BD Chính trị Quận Tân Bình | BQ29: - SolidWorks trong thiết kế cơ khí tại Trường ĐH SPKT TPHCM ngày 29/12/2017. - CC PP NC KH, LL dạy học ĐH, Triết học tại Trường ĐH SPKT TPHCM ngày 16/10/2007. - CN Thiết kế sản phẩm, ứng dụng CAD/CAM-CNC tại TT Thiết kế Chế tạo thiết bị mới ngày 15/9/2008. - CN Nhận thức về Đảng tại Sở GDĐT TPHCM ngày 10/3/2009. | BR29: x
A30: 24 | B30: Võ Minh Quang | C30: X | E30: X | F30: Nam | G30: Củ Chi, Tp.HCM | H30: 25/08/1963 | I30: Khoa Cơ khí | J30: Khoa Cơ khí | K30: 021722359 | L30: 19/01/2005 | M30: CA.TPHCM | N30: Kinh | O30: Không | P30: Xã Phước Lại, Huyện Cần Giuộc, Tỉnh Long An | Q30: 26/2 Hồ Biểu Chánh, P11, Q.Phú Nhuận | S30: 0903387517 | U30: 0296241598 | W30: 01/05/1989 | X30: Sở GDĐT TPHCM | Y30: 01/05/1989 | Z30: Biên chế | AA30: 01/05/1989 | AB30: GV | AC30: Giảng viên | AF30: 08/07/2004 | AG30: X | AH30: 12/12 | AI30: THPT | AJ30: DH | AK30: Đại học | AL30: Công nghệ chế tạo máy | AM30: Trường ĐH SP KT TPHCM | AN30: 14/9/2015 | AO30: x | AP30: Giáo viên dạy nghề | AQ30: 15/3/1989 | AR30: Trường SPKT IV | AS30: Chứng chỉ nghề Nguội sửa chữa bậc 3/7 | AT30: 16/4/1986 | AU30: Trường SPKT IV | AV30: x | AX30: TH UDCB | AY30: 43454 | AZ30: Trường CĐ Lý Tự Trọng TPHCM | BA30: UD CNTT CB | BC30: B | BD30: A2 | BE30: 15/09/2018 | BF30: Viện Đào tạo và nâng cao TPHCM (IFT) | BG30: B | BH30: Sơ cấp | BI30: 27/5/2016 | BJ30: TT BD Chính trị Quận Tân Bình | BN30: CBQL các Khoa, Phòng trường ÐH, CĐ | BO30: 4/9/2014 | BP30: Học viện Quản lý GD | BQ30: - CC Kỹ năng dạy lý thuyết tại Trường ĐH SPKT TPHCM ngày 14/9/2001. | BR30: x
A31: 25 | B31: Nguyễn Văn Sơn | C31: X | E31: X | F31: Nam | G31: Thanh Hóa | H31: 22/12/1965 | I31: Khoa Cơ khí | J31: Khoa Cơ khí | K31: 038065000896 | L31: 08/08/2016 | M31: Cục Cảnh sát Đăng ký quản lý cư trú | N31: Kinh | O31: Không | P31: Long An | Q31: 139/6/46 Dương Văn Dương, P.Tân Quý, Q.Tân phú | S31: 0903972519 | U31: 0296241596 | W31: 01/05/1989 | X31: Sở GDĐT TPHCM | Y31: 01/05/1989 | Z31: Biên chế | AA31: 01/05/1989 | AB31: GV | AC31: Giảng viên | AH31: 12/12 | AI31: THPT | AJ31: DH | AK31: Đại học | AL31: Điện - điện tử | AM31: Trường ĐH Bách khoa TPHCM | AN31: 26/3/2009 | AO31: chưa có | AP31: Giáo viên dạy nghề | AQ31: 15/3/1989 | AR31: Trường SPKT IV | AX31: TH UDCB | AY31: 43393 | AZ31: Trường CĐ Lý Tự Trọng TPHCM | BA31: UD CNTT CB | BC31: B | BD31: A2 | BE31: 04/10/2007 | BF31: TT Hỗ trợ Phát triển UD CN Tin học - Ngoại ngữ | BG31: B | BH31: Sơ cấp | BR31: x
A32: 26 | B32: Nguyễn Hồng Phúc | C32: X | E32: X | F32: Nam | G32: TPHCM | H32: 03/08/1989 | I32: Khoa Cơ khí | J32: Khoa Cơ khí | K32: 079089004197 | L32: 15/12/2016 | M32: Cục Cảnh sát Đăng ký quản lý cư trú | N32: Kinh | O32: Không | P32: 29/6/3 Đường 409, Ấp 3, Xã Phước Vĩnh An, Huyện Củ Chi, Thành phố Hồ Chí Minh | Q32: 29/6/3 Đường số 409, Ấp 3, Phước Vĩnh An, Củ Chi, TPHCM | U32: #N/A | W32: 01/10/2018 | X32: Sở GDĐT TPHCM | Y32: 01/10/2018 | Z32: Hợp đồng không thời hạn | AA32: 01/8/2016 | AB32: GV | AC32: Giảng viên | AH32: 12/12 | AI32: THPT | AJ32: THS | AK32: - Thạc sỹ - Đại học | AL32: - Kỹ thuật cơ khí - Công nghệ kỹ thuật cơ khí | AM32: Trường ĐH Công nghiệp TPHCM | AN32: - 28/3/2018 - 21/09/2013 | AO32: x | AP32: - SP dạy nghề dành cho GV TCN, CĐN - NVSP dành cho GV CĐ, ĐH | AQ32: - 22/4/2015 - 6/3/2014 | AR32: - Trường ĐH SPKT TPHCM - Trường ĐH Sài Gòn | AX32: B | AY32: 41354 | AZ32: Trường ĐH Công nghiệp TPHCM | BA32: B | BC32: B1 | BD32: B1 | BE32: 12/10/2017 | BF32: Trường ĐH Sư phạm TPHCM | BG32: B1 | BQ32: - BD GV chính (hạng II) tại Trường ĐH SP TPHCM ngày 15/5/2019 | BR32: x
A33: 27 | B33: Nguyễn Khắc Huy | C33: X | E33: X | F33: Nam | G33: Củ Chi | H33: 04/05/1990 | I33: Khoa Cơ khí | J33: Khoa Cơ khí | K33: 024911362 | L33: 02/07/2012 | M33: CA TPHCM | N33: Kinh | O33: Không | P33: Xã Phước Hiệp, Huyện Củ Chi, Thành phố Hồ Chí Minh | Q33: Số 127A, đường Cây Trôm-Mỹ Khánh, Tổ 1, Ấp Trại Đèn, X Phước Hiệp, H Củ Chi, TPHCM | U33: #N/A | W33: 01/04/2019 | X33: Sở GDĐT TPHCM | Y33: 01/4/2019 | Z33: Tập sự | AA33: 01/04/2019 | AB33: GV | AC33: Giảng viên | AH33: 12/12 | AI33: THPT | AJ33: DH | AK33: Đại học | AL33: Công nghệ chế tạo máy | AM33: Trường ĐH SPKT TPHCM | AN33: 25/3/2014 | AO33: x | AP33: NVSP dành cho GV CĐ, ĐH | AQ33: 27/9/2018 | AR33: Trường ĐH Sư phạm HN 2 | AX33: A | AY33: 39772 | AZ33: Trường ĐH Ngoại ngữ - Tin học TPHCM | BA33: A | BC33: B | BD33: A2 | BE33: 20/12/2018 | BF33: Trường ĐH Ngân hàng TPHCM | BG33: B | BR33: x
A37: Số TT | B37: Đơn vị | C37: Tổng | D37: Chức vụ/ Chức danh | I37: Kiêm chức | J37: Trình độ chuyên môn | P37: Trình độ Tin học | Y37: Trình độ Ngoại ngữ | AI37: Trình độ Lý luận Chính trị | AL37: Hợp đồng | AN37: Đảng viên | AO37: Nữ
D38: Trưởng, Phụ trách phòng | E38: Phó Trưởng đơn vị | F38: Trưởng Bộ môn, Tổ trưởng | G38: Nhân viên | H38: Giảng viên | J38: Tiến sỹ | K38: Thạc sỹ | L38: Đại học | M38: Cao đẳng | N38: Trung cấp | O38: Khác | P38: A | Q38: B | R38: TC | S38: CĐ | T38: ĐH | U38: THS | V38: IC3 | W38: UD CNTT CB | X38: UD CNTT NC | Y38: A | Z38: B | AA38: C | AB38: TC | AC38: CĐ | AD38: ĐH | AE38: THS | AF38: B1 | AG38: B2 | AH38: C1 | AI38: SC | AJ38: TC | AK38: Trên TC | AL38: Biên chế + Không thời hạn + Nghị định 68 (Sở) | AM38: Hợp đồng trường
B39: Khoa Cơ khí | C39: =SUM(D39:H39) -> 27 | D39: =SUM((COUNTIF($AB$7:$AB$33,"HT")+(COUNTIF($AB$7:$AB$33,"TK")+(COUNTIF($AB$7:$AB$33,"TP"))+(COUNTIF($AB$7:$AB$33,"TTT"))))) -> 1 | E39: =SUM((COUNTIF($AB$7:$AB$33,"PHT")+(COUNTIF($AB$7:$AB$33,"PK")+(COUNTIF($AB$7:$AB$33,"PTP"))+(COUNTIF($AB$7:$AB$33,"PTT"))))) -> 1 | F39: =SUM((COUNTIF($AB$7:$AB$33,"TBM")+(COUNTIF($AB$7:$AB$33,"TT")))) -> 3 | G39: =COUNTIF($AB$7:$AB$33,"NV") -> 0 | H39: =COUNTIF($AB$7:$AB$33,"GV") -> 22 | I39: =COUNTIF($D$7:$D$33,"x") -> 0 | J39: =COUNTIF($AJ$7:$AJ$33,"TS") -> 0 | K39: =COUNTIF($AJ$7:$AJ$33,"THS") -> 15 | L39: =COUNTIF($AJ$7:$AJ$33,"DH") -> 12 | M39: =COUNTIF($AJ$7:$AJ$33,"CD") -> 0 | N39: =COUNTIF($AJ$7:$AJ$33,"TC") -> 0 | O39: =COUNTIF($AJ$7:$AJ$33,"") -> 0 | P39: =COUNTIF($BA$7:$BA$33,"A") -> 6 | Q39: =COUNTIF($BA$7:$BA$33,"B") -> 3 | R39: =COUNTIF($BA$7:$BA$33,"TC") -> 0 | S39: =COUNTIF($BA$7:$BA$33,"CD") -> 0 | T39: =COUNTIF($BA$7:$BA$33,"DH") -> 0 | U39: =COUNTIF($BA$7:$BA$33,"THS") -> 0 | V39: =COUNTIF($BB$7:$BB$33,"IC3") -> 0 | W39: =COUNTIF($BA$7:$BA$33,"UD CNTT CB") -> 14 | X39: =COUNTIF($BA$7:$BA$33,"UD CNTT NC") -> 0 | Y39: =SUM((COUNTIF($BG$7:$BG$33,"A"))+(COUNTIF($BG$7:$BG$33,"A1"))) -> 0 | Z39: =SUM((COUNTIF($BG$7:$BG$33,"B"))+(COUNTIF($BG$7:$BG$33,"A2"))) -> 12 | AA39: =COUNTIF($BG$7:$BG$33,"C") -> 2 | AB39: =COUNTIF($BG$7:$BG$33,"TC") -> 0 | AC39: =COUNTIF($BG$7:$BG$33,"CD") -> 0 | AD39: =COUNTIF($BG$7:$BG$33,"DH") -> 1 | AE39: =COUNTIF($BG$7:$BG$33,"THS") -> 0 | AF39: =COUNTIF($BG$7:$BG$33,"B1") -> 11 | AG39: =COUNTIF($BG$7:$BG$33,"B2") -> 1 | AH39: =COUNTIF($BG$7:$BG$33,"C1") -> 0 | AI39: =COUNTIF($BH$7:$BH$33,"Sơ cấp") -> 11 | AJ39: =COUNTIF($BH$7:$BH$33,"Trung cấp") -> 4 | AK39: =COUNTIF($BH$7:$BH$33,"Cao cấp") -> 0 | AL39: =COUNTIF($X$7:$X$33,"Sở GDĐT TPHCM") -> 27 | AM39: =COUNTIF($X$7:$X$33,"Trường CĐ Lý Tự Trọng TPHCM") -> 0 | AN39: =COUNTIF($AG$7:$AG$33,"x") -> 3 | AO39: =COUNTIF($F$7:$F$33,"Nữ") -> 6
AP1295: =COUNTIF(AJ7:AJ33,"Thạc sỹ") -> 0

Sheet CNTT
A1: UBND THÀNH PHỐ HỒ CHÍ MINH TRƯỜNG CAO ĐẲNG LÝ TỰ TRỌNG THÀNH PHỐ HỒ CHÍ MINH | AP1: CỘNG HÒA XÃ HỘI CHỦ NGHĨA VIỆT NAM Độc lập - Tự do - Hạnh phúc
A3: DANH SÁCH THỐNG KÊ CHUẨN CHUYÊN MÔN NGHIỆP VỤ CỦA NHÀ GIÁO
A5: STT | B5: Họ tên | C5: GV | D5: kiêm chức | E5: GV + kiêm chức | F5: Giới tính | G5: Nơi sinh | H5: Ngày/tháng/năm sinh | I5: Kiêm chức tại khoa | J5: Đơn vị | K5: Số chứng mình nhân dân | L5: Ngày cấp Chứng minh nhân dân | M5: Nơi cấp chứng minh nhân dân | N5: Dân tộc | O5: Tôn giáo | P5: Quê quán | Q5: Địa chỉ thường trú | R5: Nơi ở hiện nay | S5: Điện thoại DD | T5: Email | U5: Số sổ bảo hiểm xã hội | V5: Ngày hợp đồng | W5: Ngày tuyển dụng | X5: Cơ quan tuyển dụng | Y5: Ngày về cơ quan hiện nay | Z5: Thuộc loại cán bộ | AA5: Ngày vào ngành giáo dục | AB5: Chức vụ/ Chức danh hiện tại (công thức) | AC5: Chức vụ/ Chức danh hiện tại | AD5: Ngày bổ nhiệm chức vụ hiện tại | AE5: Ngày vào đảng | AF5: Ngày vào đảng chính thức | AG5: Đảng viên (công thức) | AH5: Học vấn phổ thông | AI5: Đã tốt nghiệp | AJ5: Trình độ chuyên môn | AP5: Nghiệp vụ sư phạm | AS5: Kỹ năng nghề | AX5: Tin học | BC5: Ngoại ngữ | BH5: Lý luận Chính trị | BK5: Quản lý nhà nước | BN5: Trình độ quản lý giáo dục | BQ5: Chứng chỉ khác
AJ6: Trình độ chuyên môn cao nhất (công thức) | AK6: Trình độ chuyên môn cao nhất | AL6: Chuyên ngành đào tạo | AM6: Nơi đào tạo | AN6: Năm tốt nghiệp | AO6: Bảng điểm | AP6: Chứng chỉ bồi dưỡng nghiệp vụ | AQ6: Ngày cấp chứng chỉ | AR6: Nơi cấp | AS6: Kỹ năng nghề | AT6: Ngày cấp chứng chỉ | AU6: Nơi cấp | AV6: Kỹ năng nghề 3/7 trở lên (công thức) | AW6: Kỹ năng nghề Quốc gia (công thức) | AX6: Trình độ tin học | AY6: Ngày cấp | AZ6: Nơi cấp | BA6: Trình độ tin học (công thức) | BB6: Trình độ tin học Quốc tế (công thức) | BC6: Trình độ ngoại ngữ | BD6: Theo khung NLNN 6 bậc | BE6: Ngày cấp chứng chỉ | BF6: Nơi cấp CC Ngoại ngữ | BG6: Trình độ ngoại ngữ (thống kê) | BH6: Trình độ lý luận chính trị | BI6: Ngày cấp | BJ6: Nơi cấp | BK6: Trình độ quản lý nhà nước | BL6: Ngày cấp | BM6: Nơi cấp | BN6: Trình độ quản lý giáo dục | BO6: Ngày cấp | BP6: Nơi cấp
A7: 01 | B7: Nguyễn Khoa | C7: X | E7: X | F7: Nam | G7: Phước Tuy | H7: 03/09/1963 | I7: Khoa Công nghệ thông tin | J7: Khoa Công nghệ thông tin | K7: 020634880 | L7: 08/07/2010 | M7: CA. TPHCM | N7: Kinh | O7: Không | P7: Tỉnh Bình Thuận | Q7: 20/11 Đường Tỉnh Lộ 42 P.Thạnh Lộc, Q12 | S7: 0958607219 | T7: thnguyenkhoa@yahoo.com.vn | U7: 0201155202 | W7: 01/09/2001 | X7: Sở GDĐT TPHCM | Y7: 01/09/2001 | Z7: Biên chế | AA7: 01/09/2001 | AB7: TK | AC7: Phó Trưởng Khoa, Phụ trách khoa | AD7: 01/07/2015 | AH7: 12/12 | AI7: THPT | AJ7: THS | AK7: - Thạc sỹ - Đại học - Đại học | AL7: - Quản lý giáo dục - Công nghệ thông tin - Kế toán | AM7: - Trường ĐH Vinh - Trường ĐH Bách khoa HN - Viện ĐH Mở HN | AN7: - 18/12/2013 - 16/6/2001 - 5/11/2014 | AO7: - Đã có - Đã có - Chưa có | AP7: - SP bậc 2 - SP bậc 1 | AQ7: - 26/12/2005 - 15/5/2002 | AR7: Trường ĐH SPKT TPHCM | AS7: Chứng chỉ nghề Quản trị mạng máy tính bậc 3/7 | AT7: 28/12/2017 | AU7: Trường CĐ Lý Tự Trọng TPHCM | AV7: x | AX7: - Đại học - IC3 | AY7: - 16/6/2001 - '20/7/2016 | AZ7: - Trường ĐH Bách khoa HN - IIG | BA7: DH | BB7: IC3 | BC7: - Đại học - B1 | BD7: C1 | BE7: - '05/08/2015 - 29/5/2013 | BF7: - ĐH Đà Nẵng - Trường ĐH Vinh | BG7: DH | BH7: Trung cấp | BN7: Thạc sỹ QLGD | BO7: 18/12/2013 | BP7: Trường ĐH Vinh | BQ7: - CC Sơ cấp LLCT tại TT Bồi dưỡng Chính trị Q. Tân Bình ngày 15/1/2014. - CN Kỹ năng biên soạn tài liệu giảng dạy, giáo trình, bài giảng trong ĐT CĐ, TCCN tại TT Tư vấn Đào tạo Kinh tế - Kỹ thuật ngày 23/8/2011. | BR7: x
A8: 02 | B8: Nguyễn Vân Giang | C8: X | E8: X | F8: Nữ | G8: Hà Nội | H8: 15/02/1967 | I8: Khoa Công nghệ thông tin | J8: Khoa Công nghệ thông tin | K8: 022157496 | L8: 13/02/2012 | M8: CA TPHCM | N8: Kinh | O8: Không | P8: Quận Bình Thạnh, Thành phố Hồ Chí Minh | Q8: Số 7 đường 11 Khu Miếu Nổi, P2, Q.Phú Nhuận | S8: 0908660764 | T8: vangianghcm@yahoo.com | U8: 0296241602 | W8: 01/10/1988 | X8: Sở GDĐT TPHCM | Y8: 01/10/1988 | Z8: Biên chế | AA8: 01/10/1988 | AB8: PK | AC8: Phó Trưởng Khoa | AD8: 01/07/2015 | AF8: 19/05/2007 | AG8: X | AH8: 12/12 | AI8: THPT | AJ8: THS | AK8: - Thạc sỹ - Đại học - Đại học | AL8: - Tin học - Công nghệ thông tin - Toán | AM8: - Trường ĐH KHTN TPHCM - Trường ĐH Kỹ thuật - Trường ĐH SP TPHCM | AN8: - 14/3/2003 - 15/9/1997 - 1/6/1991 | AO8: - Đã có - Chưa có - Chưa có | AP8: NVSP dành cho GV CĐ, ĐH | AQ8: 30/10/2019 | AR8: Trường ĐH SP Hà Nội 2 | AS8: Chứng chỉ nghề Quản trị mạng máy tính bậc 3/7 | AT8: 28/12/2017 | AU8: Trường CĐ Lý Tự Trọng TPHCM | AV8: x | AX8: Thạc sỹ | AY8: 37694 | AZ8: Trường ĐH KHTN TPHCM | BA8: THS | BC8: - B1 - C - B - A | BD8: B1 | BE8: - 26/04/2019 - 12/9/2000 - 16/10/1995 - 10/8/1994 | BF8: - Trường ĐH Sài Gòn - Trường ĐH KHTN TPHCM - Trường ĐH SP TPHCM - Trường ĐH SP TPHCM | BG8: B1 | BH8: Trung cấp | BN8: CBQL Khoa, Phòng trường ÐH, CĐ | BO8: 6/11/2012 | BP8: Học viện Quản lý Giáo dục | BQ8: - BD GV chính (hạng II) tại Trường ĐH SP TPHCM ngày 15/5/2019 - CN Sơ cấp LL CT tại TT BD Chính trị Quận Tân Bình ngày 15/1/2014. - CC Triết học, LL dạy học ĐH tại Trường ĐH KHTN TPHCM ngày 6/9/2000. - CC Giáo dục học ĐH tại Viện Chiến lược và Chương trình GD ngày 1/6/2004. | BR8: x
A9: 03 | B9: Trần Vĩnh Xuyên | C9: X | E9: X | F9: Nam | G9: Mỹ Tho – Tiền Giang | H9: 07/04/1981 | I9: Khoa Công nghệ thông tin | J9: Khoa Công nghệ thông tin | K9: 025624118 | L9: 17/04/2013 | M9: CA. TPHCM | N9: Kinh | O9: Không | P9: Mỹ Tho - Tiền Giang | Q9: 186/1 Bình Thới, phường 14, quận 11,TPHCM | S9: 0903979218 | T9: xuyen_dhbk@yahoo.com.au | U9: 7912066219 | W9: 01/09/2012 | X9: Sở GDĐT TPHCM | Y9: 01/09/2012 | Z9: Hợp đồng không thời hạn | AA9: 01/09/2012 | AB9: PK | AC9: Phó Trưởng khoa | AD9: 01/12/2018 | AH9: 12/12 | AI9: THPT | AJ9: THS | AK9: - Thạc sỹ - Đại học | AL9: - Khoa học máy tính - Công nghệ thông tin (chưa có) | AM9: - ĐH Huế - chưa có | AN9: - 20/10/2011 | AO9: - Đã có - Chưa có | AP9: - SP dạy nghề dành cho GV TC, CĐ - NVSP dành cho GV | AQ9: - 7/9/2015 - 15/11/2013 | AR9: - Trường CĐ Nghề TPHCM - Trường ĐH SP TPHCM | AS9: Chứng chỉ nghề Quản trị mạng máy tính bậc 3/7 | AT9: 28/12/2017 | AU9: Trường CĐ Lý Tự Trọng TPHCM | AV9: x | AX9: Thạc sỹ | AY9: 40836 | AZ9: ĐH Huế | BA9: THS | BC9: B1 | BD9: B1 | BE9: 01/07/2011 | BF9: Trường ĐH Ngoại ngữ - ĐH Huế | BG9: B1 | BH9: Sơ cấp | BI9: 27/5/2016 | BJ9: TT BD Chính trị Quận Tân Bình | BQ9: - BD GV chính (hạng II) tại Trường ĐH SP TPHCM ngày 15/5/2019 - CC LL dạy học ĐH tại Trường ĐH SP TPHCM ngày 20/10/2009. | BR9: x
A10: 04 | B10: Nguyễn Văn Đôn | C10: X | E10: X | F10: Nam | G10: Bình Định | H10: 01/01/1974 | I10: Khoa Công nghệ thông tin | J10: Khoa Công nghệ thông tin | K10: 025187897 | L10: 13/01/2010 | M10: CA TPHCM | N10: Kinh | O10: Không | P10: Xã Ân Phong, Huyện Hoài Ân, Tỉnh Bình Ðịnh | Q10: 16/29 Đường 3/4, P. Linh Đông, Q. Thủ Đức, TPHCM | S10: 0983090339 | T10: nvdon@yahoo.com | U10: 7910171249 | W10: 01/09/2009 | X10: Sở GDĐT TPHCM | Y10: 01/09/2009 | Z10: Hợp đồng không thời hạn | AA10: 01/09/2009 | AB10: TBM | AC10: Trưởng Bộ môn | AD10: 01/09/2015 | AH10: 12/12 | AI10: THPT | AJ10: THS | AK10: - Thạc sỹ - Đại học | AL10: - Khoa học máy tính - Công nghệ thông tin | AM10: - Học viện Kỹ thuật Quân sự - Trường ĐH KHTN | AN10: - 8/8/2014 - 10/9/2007 | AO10: x | AP10: - SP dạy nghề dành cho GV TC, CĐ - NVSP dành cho GV CĐ, ĐH | AQ10: - 7/9/2015 - 12/10/2010 | AR10: - Trường CĐ Nghề TPHCM - Trường ĐH KHXH & NV TPHCM | AS10: Chứng chỉ nghề Quản trị mạng máy tính bậc 3/7 | AT10: 28/12/2017 | AU10: Trường CĐ Lý Tự Trọng TPHCM | AV10: x | AX10: - Thạc sỹ - IC3 | AY10: - 8/8/2014 - 13/10/2016 | AZ10: - Học viện kỹ thuật quân sự | BA10: THS | BB10: IC3 | BC10: - B1 - B | BD10: B1 | BE10: - 20/05/2013 - 15/11/1999 | BF10: - Trường ĐH SP TPHCM - Trường ĐH DL Hồng Bàng | BG10: B1 | BH10: Trung cấp | BI10: 31/7/2018 | BJ10: Học viện Cán bộ TPHCM | BQ10: - BD GV chính (hạng II) tại Trường ĐH SP TPHCM ngày 15/5/2019 - CN Đào tạo NVSP tại Trường ĐH KHXH & NV ngày 15/12/2009. - CN Sơ cấp LL CT tại TT BD Chính trị Quận Tân Bình ngày 15/1/2014. - CN Hoàn thành chương trình BD Kiến thức QP - AN đối tượng 4 tại Trường CĐ Lý Tự Trọng TPHCM ngày 19/7/2019. - CN BD nhận thức về Đảng theo quy định của Trung ương tại TT BD Chính trị Quận 3 ngày 6/9/2014. - CC GV, GV về đào tạo theo tín chỉ, biên soạn giáo án và tổ chức học tích hợp, tổ chức đào tạo và đánh giá theo năng lực thực hiện tại Trường CĐ Nghề TPHCM ngày 16/12/2015. - CN Lập trình IOT tại Trường ĐH SP KT TPHCM ngày 5/11/2018. - CN Kỹ năng biên soạn tài liệu giảng dạy, giáo trình bài giảng trong đào tạo CĐ, TCCN tại TT Tư vấn Đào tạo Kinh tế - Kỹ thuật ngày 23/8/2011. | BR10: x
A11: 05 | B11: Trần Việt Khánh | C11: X | E11: X | F11: Nam | G11: TPHCM | H11: 17/02/1979 | I11: Khoa Công nghệ thông tin | J11: Khoa Công nghệ thông tin | K11: 079079002854 | L11: 04/11/2016 | M11: Cục cảnh sát đăng ký quản lý cư trú | N11: Kinh | O11: Phật | P11: Thành phố Hồ Chí Minh | Q11: 50/35 Đinh Tiên Hoàng P1, Q.Bình Thạnh | S11: 0939271893 | T11: tranvietkhanh79@gmail.com | U11: 7909078918 | W11: 01/09/2008 | X11: Sở GDĐT TPHCM | Y11: 01/09/2008 | Z11: Hợp đồng không thời hạn | AA11: 01/09/2008 | AB11: TBM | AC11: Trưởng Bộ môn | AD11: 01/09/2015 | AH11: 12/12 | AI11: THPT | AJ11: THS | AK11: - Thạc sỹ - Đại học | AL11: - Hệ thống thông tin - Công nghệ thông tin | AM11: - Học viện Công nghệ bưu chính viễn thông TPHCM - Trường ĐH KHTN TPHCM | AN11: - 20/1/2014 - 8/11/2006 | AO11: x | AP11: - SP dạy nghề dành cho GV dạy trình độ TC nghề, CĐ nghề - NVSP dành cho GV | AQ11: - 7/9/2015 - 2/3/2010 | AR11: - Trường CĐ Nghề TPHCM - Trường ĐH SP TPHCM | AS11: Chứng chỉ nghề Quản trị mạng máy tính bậc 3/7 | AT11: 28/12/2017 | AU11: Trường CĐ Lý Tự Trọng TPHCM | AV11: x | AX11: - Thạc sỹ - IC3 | AY11: - 20/1/2014 - 13/10/2016 | AZ11: - Học viện Công nghệ bưu chính viễn thông TPHCM - | BA11: THS | BB11: IC3 | BC11: - TOEFL ITP 423 - Đại học | BD11: C1 | BE11: - 13/2/2011 - 18/09/2018 | BF11: - Văn phòng Dự Án tại TP. Hà Nội - Trường ĐH Sài Gòn | BG11: DH | BH11: Trung cấp | BI11: 22/3/2019 | BJ11: Học viện Cán bộ TPHCM | BQ11: - CN Sơ cấp LL CT tại TT BD Chính trị Quận Tân Bình ngày 27/5/2016. | BR11: x
A12: 06 | B12: Vũ Thị Thái Linh | C12: X | E12: X | F12: Nữ | G12: TPHCM | H12: 12/02/1982 | I12: Khoa Công nghệ thông tin | J12: Khoa Công nghệ thông tin | K12: 023646525 | L12: 17/07/2015 | M12: CA. TPHCM | N12: Kinh | O12: Không | P12: xã Phúc Thành, Huyện Kim Thành, Tỉnh Hải Dương | Q12: 259A Đoàn Văn Bơ, xã Phúc Thành, P18, Q4 | S12: 0908289414 | T12: vuthithailinh@yahoo.com | U12: 0206414707 | W12: 01/09/2006 | X12: Sở GDĐT TPHCM | Y12: 01/09/2006 | Z12: Hợp đồng không thời hạn | AA12: 01/09/2006 | AB12: TBM | AC12: Trưởng Bộ môn | AD12: 01/09/2015 | AH12: 12/12 | AI12: THPT | AJ12: THS | AK12: - Thạc sỹ - Đại học | AL12: - Khoa học máy tính - Công nghệ thông tin | AM12: - Trường ĐH Bách khoa TPHCM - Trường ĐH KHTN TPHCM | AN12: - 6/11/2014 - 9/9/2005 | AO12: x | AP12: - SP dạy nghề dành cho GV dạy trình độ TC nghề, CĐ nghề - LL dạy học và giáo dục | AQ12: - 7/9/2015 - 29/6/2005 | AR12: - Trường CĐ Nghề TPHCM - Trường ĐH SP TPHCM | AS12: Chứng chỉ nghề Quản trị mạng máy tính bậc 3/7 | AT12: 28/12/2017 | AU12: Trường CĐ Lý Tự Trọng TPHCM | AV12: x | AX12: - Thạc sỹ | AY12: 41949 | AZ12: Trường ĐH Bách khoa TPHCM | BA12: THS | BB12: IC3 | BC12: Đại học | BD12: C1 | BE12: 12/01/2009 | BF12: Trường ĐH KHXH&NV | BG12: DH | BH12: Trung cấp | BQ12: - BD GV chính (hạng II) tại Trường ĐH SP TPHCM ngày 15/5/2019. - CN Sơ cấp LL CT tại TT BD Chính trị Quận Tân Bình ngày 27/5/2016. - CC Giảng dạy Tiếng Anh (Tesol) tại Trường ĐH KHXH&NV ngày 8/7/2016. - CN học xong học phần QLHCNN và QL ngành GD&ĐT tại Trường ĐH SP TPHCM ngày 15/6/2005. | BR12: x
A13: 07 | B13: Bùi Văn Dũng | C13: X | E13: X | F13: Nam | G13: Nghệ An | H13: 15/05/1975 | I13: Khoa Công nghệ thông tin | J13: Khoa Công nghệ thông tin | K13: 025091414 | L13: 22/08/2011 | M13: CA. TPHCM | N13: Kinh | O13: Không | P13: Xã Thanh Lương, Huyện Thanh Chương, Tỉnh Nghệ An | Q13: 54 Đường số 7 P17, Q.Gò Vấp | S13: 0982868054 | T13: btdsn@yahoo.com | U13: 7909078914 | W13: 01/09/2008 | X13: Sở GDĐT TPHCM | Y13: 01/09/2008 | Z13: Hợp đồng không thời hạn | AA13: 01/09/2008 | AB13: GV | AC13: Giảng viên | AH13: 12/12 | AI13: THCS | AJ13: DH | AK13: Đại học | AL13: Tin học | AM13: Trường ĐH Mở Bán công TPHCM | AN13: 21/9/2004 | AO13: x | AP13: - Giáo viên dạy nghề bậc CĐ - Lý luận dạy học và GD | AQ13: - 13/7/1996 - 17/8/2009 | AR13: - Trường SP Kỹ thuật 3 - Trường ĐH SP TPHCM | AS13: Chứng chỉ nghề Quản trị mạng máy tính bậc 3/7 | AT13: 28/12/2017 | AU13: Trường CĐ Lý Tự Trọng TPHCM | AV13: x | AX13: Đại học | AY13: 38251 | AZ13: Trường ĐH Mở Bán công TPHCM | BA13: DH | BC13: B | BG13: B | BH13: Sơ cấp | BI13: 27/5/2016 | BJ13: TT BD Chính trị Quận Tân Bình | BQ13: - CC Kỹ năng CNTT Chuẩn hóa GV cho đề án 112 tại Viện CNTT ngày 24/6/2005. | BR13: x
A14: 08 | B14: Đặng Ngọc Đoàn | C14: X | E14: X | F14: Nam | G14: TPHCM | H14: 15/03/1977 | I14: Khoa Công nghệ thông tin | J14: Khoa Công nghệ thông tin | K14: 023425372 | L14: 02/07/1997 | M14: CA. TPHCM | N14: Kinh | O14: Không | P14: Tỉnh Trà Vinh | Q14: 51/66/6 Cao Thắng, P3, Q3 | S14: 0983123370 | T14: dangndoan@yahoo.com | U14: 7909078928 | W14: 01/10/2008 | X14: Sở GDĐT TPHCM | Y14: 01/10/2008 | Z14: Hợp đồng không thời hạn | AA14: 01/10/2008 | AB14: GV | AC14: Giảng viên | AH14: 12/12 | AI14: THPT | AJ14: DH | AK14: Đại học | AL14: Công nghệ thông tin | AM14: Trường ĐH CNTT TPHCM | AN14: 31/12/2007 | AO14: x | AP14: - SPDN trình độ TC nghề, CĐ nghề. - LL dạy học và giáo dục | AQ14: - 7/9/2015 - 17/8/2009 | AR14: - Trường CĐ Nghề TPHCM - Trường ĐH SP TPHCM | AS14: Chứng chỉ nghề Quản trị mạng máy tính bậc 3/7 | AT14: 28/12/2017 | AU14: Trường CĐ Lý Tự Trọng TPHCM | AV14: x | AX14: Đại học | AY14: 39447 | AZ14: Trường ĐH CNTT TPHCM | BA14: DH | BC14: B | BD14: A2 | BE14: 25/9/2019 | BF14: Trường CĐ Lý Tự Trọng TPHCM | BG14: B | BH14: Sơ cấp | BI14: 27/5/2016 | BJ14: TT BD Chính trị Quận Tân Bình | BR14: x
A15: 09 | B15: Đỗ Thị Hải Yến | C15: X | E15: X | F15: Nữ | G15: Hà Nam | H15: 06/02/1979 | I15: Khoa Công nghệ thông tin | J15: Khoa Công nghệ thông tin | K15: 023228757 | L15: 10/10/2012 | M15: CA. TPHCM | N15: Kinh | O15: Không | P15: Xã Nhật Tựu, Huyện Kim Bảng, Tỉnh Hà Nam | Q15: 1454 Tỉnh lộ 10, P.Tân Tạo, Q.Bình Tân, TPHCM | S15: 0989888206 | T15: hoagaodo2007@yahoo.com | U15: 7909078916 | W15: 01/09/2008 | X15: Sở GDĐT TPHCM | Y15: 01/09/2008 | Z15: Hợp đồng không thời hạn | AA15: 01/09/2008 | AB15: GV | AC15: Giảng viên | AH15: 12/12 | AI15: THPT | AJ15: DH | AK15: Đại học | AL15: Công nghệ thông tin | AM15: Trường ĐH Dân lập Văn Hiến TPHCM | AN15: 9/9/2006 | AO15: x | AP15: - SPDN trình độ TC nghề, CĐ nghề. - LL dạy học và giáo dục | AQ15: - 7/9/2015 - 25/10/2006 | AR15: - Trường CĐ Nghề TPHCM - Trường ĐH SP TPHCM | AS15: Chứng chỉ nghề Quản trị mạng máy tính bậc 3/7 | AT15: 28/12/2017 | AU15: Trường CĐ Lý Tự Trọng TPHCM | AV15: x | AX15: Đại học | AY15: 38969 | AZ15: Trường ĐH Dân lập Văn Hiến TPHCM | BA15: DH | BC15: B | BD15: A2 | BE15: 25/09/2006 | BF15: Trường CĐ Kinh tế - Kỹ thuật CN II | BG15: B | BH15: Sơ cấp | BI15: 22/8/2016 | BJ15: TT BD Chính trị Quận Tân Bình | BQ15: - CC Triết học tại Trường ĐH SP KT TPHCM ngày 28/9/2010. | BR15: x
A16: 10 | B16: Dương Ngọc Vọng | C16: X | E16: X | F16: Nam | G16: Quảng Ngãi | H16: 25/04/1975 | I16: Khoa Công nghệ thông tin | J16: Khoa Công nghệ thông tin | K16: 024730162 | L16: 18/09/2014 | M16: CA. TPHCM | N16: Kinh | O16: Không | P16: Tỉnh Quảng Ngãi | Q16: 69B Đinh Liệt, P. Phú Thọ Hoà, Q. Tân Phú, TPHCM | S16: 0982939109 | T16: dnvong@yahoo.com | U16: 0204316585 | W16: 01/10/2007 | X16: Sở GDĐT TPHCM | Y16: 01/09/2004 | Z16: Hợp đồng không thời hạn | AA16: 01/09/1998 | AB16: GV | AC16: Giảng viên | AH16: 12/12 | AI16: THPT | AJ16: DH | AK16: Đại học | AL16: Công nghệ thông tin | AM16: Trường ĐH Khoa học Tự nhiên TPHCM | AN16: 27/12/2010 | AO16: x | AP16: SP Bậc 2 | AQ16: 15/9/1997 | AR16: Trường ĐH SPKT TPHCM | AS16: Chứng chỉ nghề Quản trị mạng máy tính bậc 3/7 | AT16: 28/12/2017 | AU16: Trường CĐ Lý Tự Trọng TPHCM | AV16: x | AX16: Đại học | AY16: 40539 | AZ16: Trường ĐH Khoa học Tự nhiên TPHCM | BA16: DH | BC16: B | BD16: A2 | BE16: 10/06/2009 | BF16: Trường ĐH Ngoại ngữ - Tin học | BG16: B | BH16: Sơ cấp | BI16: 27/5/2016 | BJ16: TT BD Chính trị Quận Tân Bình | BQ16: - BD GV chính (hạng II) tại Trường ĐH SP TPHCM ngày 15/5/2019 | BR16: x
A17: 11 | B17: Lê Hồng Thái | C17: X | E17: X | F17: Nữ | G17: Kiên Giang | H17: 07/07/1982 | I17: Khoa Công nghệ thông tin | J17: Khoa Công nghệ thông tin | K17: 025627682 | L17: 16/08/2012 | M17: CA. TPHCM | N17: Kinh | O17: Thiên chúa | P17: Tỉnh Hà Nam | Q17: 20 Lộc Vinh, P6, Q.Tân Bình, TPHCM | S17: 0908598117 | T17: thaihong_kg@yahoo.com | U17: 7909078915 | W17: 01/09/2008 | X17: Sở GDĐT TPHCM | Y17: 01/09/2008 | Z17: Hợp đồng không thời hạn | AA17: 01/09/2008 | AB17: GV | AC17: Giảng viên | AH17: 12/12 | AI17: THPT | AJ17: DH | AK17: Đại học | AL17: Công nghệ thông tin | AM17: Trường ĐH Khoa học Tự nhiên TPHCM | AN17: 10/9/2007 | AO17: x | AP17: NVSP dành cho GV CĐ, ĐH | AQ17: 03/02/2012 | AR17: Trường ĐH KHXH & NV TPHCM | AS17: Chứng chỉ nghề Quản trị mạng máy tính bậc 3/7 | AT17: 28/12/2017 | AU17: Trường CĐ Lý Tự Trọng TPHCM | AV17: x | AX17: Đại học | AY17: 39335 | AZ17: Trường ĐH Khoa học Tự nhiên TPHCM | BA17: DH | BC17: B | BD17: A2 | BE17: 16/06/2007 | BG17: B | BH17: Sơ cấp | BI17: 25/9/2014 | BJ17: TT BD Chính trị Quận Tân Bình | BQ17: - BD GV chính (hạng II) tại Trường ĐH SP TPHCM ngày 15/5/2019 - CN Lý luận dạy học ĐH tại Trường ĐH KHXH & NV ngày 11/11/2009. | BR17: x
A18: 12 | B18: Lê Phi Trường | C18: X | E18: X | F18: Nam | G18: TPHCM | H18: 04/01/1987 | I18: Khoa Công nghệ thông tin | J18: Khoa Công nghệ thông tin | K18: 079087007136 | L18: 10/05/2017 | M18: Cục cảnh sát đăng ký quản lý cư trú | N18: Kinh | O18: Thiên chúa | P18: Tỉnh Long An | Q18: 11 Đường 24A Khu phố chợ An Dương Vương P10 - Q6 | S18: 0908994498 | T18: lephitruong@gmail.com | U18: 7908440424 | W18: 01/01/2010 | X18: Sở GDĐT TPHCM | Y18: 01/10/2008 | Z18: Hợp đồng không thời hạn | AA18: 01/10/2008 | AB18: GV | AC18: Giảng viên | AH18: 12/12 | AI18: THPT | AJ18: DH | AK18: Đại học | AL18: Tin học | AM18: Trường ĐH Mở TPHCM | AN18: 31/3/2011 | AO18: x | AP18: - SP dạy nghề dành cho GV TC, CĐ - NVSP dành cho GV | AQ18: - 7/9/2015 - 3/12/2012 | AR18: - Trường CĐ Nghề TPHCM - Trường ĐH SP TPHCM | AS18: Chứng chỉ nghề Quản trị mạng máy tính bậc 3/7 | AT18: 28/12/2017 | AU18: Trường CĐ Lý Tự Trọng TPHCM | AV18: x | AX18: Đại học | AY18: 40633 | AZ18: Trường ĐH Mở TPHCM | BA18: DH | BC18: TOEIC 475 | BD18: B1 | BE18: 06/10/2013 | BF18: IIG | BG18: B1 | BH18: Sơ cấp | BI18: 25/9/2014 | BJ18: TT BD Chính trị Quận Tân Bình | BR18: x
A19: 13 | B19: Lê Quý Hưng Quốc | C19: X | E19: X | F19: Nam | G19: TPHCM | H19: 25/07/1978 | I19: Khoa Công nghệ thông tin | J19: Khoa Công nghệ thông tin | K19: 023099369 | L19: 30/06/2009 | M19: CA TPHCM | N19: Kinh | O19: Không | P19: Tỉnh Thái Bình | Q19: 119 Đường số 3 Lữ Gia, P15, Q11, TP. HCM | S19: 0903757386 | T19: lqhquoc@yahoo.com | U19: 7908079136 | W19: 01/09/2007 | X19: Sở GDĐT TPHCM | Y19: 01/09/2007 | Z19: Hợp đồng không thời hạn | AA19: 01/09/2007 | AB19: GV | AC19: Giảng viên | AH19: 12/12 | AI19: THPT | AJ19: THS | AK19: - Thạc sỹ - Đại học | AL19: - Khoa học máy tính - Công nghệ thông tin | AM19: - Học viện Kỹ thuật Quân sự - Trường ĐH KHTN | AN19: - 8/12/2017 - 28/4/2005 | AO19: x | AP19: - SPDN trình độ TC nghề, CĐ nghề. - LL dạy học và giáo dục | AQ19: - 7/9/2015 - 24/12/2009 | AR19: - Trường CĐ Nghề TPHCM - Trường ĐH SP TPHCM | AS19: Chứng chỉ nghề Quản trị mạng máy tính bậc 3/7 | AT19: 28/12/2017 | AU19: Trường CĐ Lý Tự Trọng TPHCM | AV19: x | AX19: - Thạc sỹ - IC3 | AY19: - 28/4/2005 - 4/7/2017 | AZ19: - Học viện Kỹ thuật Quân sự | BA19: THS | BB19: IC3 | BC19: - B1 - B | BD19: B1 | BE19: - 23/07/2015 - 21/10/2005 | BF19: - Trường ĐH SP TPHCM - Trường CĐ Bán công CN & QTDN - CTIM | BG19: B1 | BH19: Sơ cấp | BI19: 15/1/2014 | BJ19: TT BD Chính trị Quận Tân Bình | BQ19: - BD GV chính (hạng II) tại Trường ĐH SP TPHCM ngày 15/5/2019 - CC LL dạy học ĐH tại Trường ĐH SP TPHCM ngày 28/12/2007. - CC Quản trị mạng tại Trường Informatics College VietNam ngày 28/5/2005 | BR19: x
A20: 14 | B20: Mai Chiếm Tuấn | C20: X | E20: X | F20: Nam | G20: Quảng Trị | H20: 20/10/1975 | I20: Khoa Công nghệ thông tin | J20: Khoa Công nghệ thông tin | K20: 045075000172 | L20: 24/01/2019 | M20: Cục Cảnh sát QLHC về TTXH | N20: Kinh | O20: Không | P20: Đông Giang, Thị xã Đông Hà, Tỉnh Quảng Trị | Q20: 987/4A Tổ 2, Nguyễn Duy Trinh, KP1, P. Phú Hữu, Q. 9, TPHCM | S20: 0933567479 | U20: 0203017536 | W20: 01/09/2015 | X20: Sở GDĐT TPHCM | Y20: 01/09/2015 | Z20: Hợp đồng không thời hạn | AA20: 01/10/2002 | AB20: GV | AC20: Giảng viên | AH20: 12/12 | AI20: THPT | AJ20: THS | AK20: - Thạc sỹ - Đại học | AL20: - Khoa học máy tính - Công nghệ thông tin | AM20: - Trường ĐH Quốc Gia TPHCM - Trường ĐH KHTN | AN20: - 29/6/2010 - 26/3/2003 | AO20: x | AP20: - SPDN. - SP bậc 2 | AQ20: - 7/9/2015 - 15/9/1997 | AR20: - Trường CĐ Nghề GTVT TW3 - Trường ĐH SP KT TPHCM | AS20: Chứng chỉ nghề Quản trị mạng máy tính bậc 3/7 | AT20: 28/12/2017 | AU20: Trường CĐ Lý Tự Trọng TPHCM | AV20: x | AX20: Thạc sỹ | AY20: 40358 | AZ20: Trường ĐH Quốc Gia TPHCM | BA20: THS | BC20: B | BD20: A2 | BE20: 25/11/1998 | BF20: Trường ĐH An ninh - Nhân dân | BG20: B | BH20: Sơ cấp | BI20: 22/8/2016 | BJ20: TT BD Chính trị Quận Tân Bình | BQ20: - CN BD PP dạy học cho GV hạt nhân tại Trường ĐH SPKT TPHCM ngày 9/4/2005. - CC Kỹ năng tâm lý dành cho lãnh đạo tại CT TNHH UDKH tâm lý Hồn Việt ngày 14/9/2010. - CN Cấu trúc dữ liệu và giải thuật tại Trường ĐH SPKt TPHCM ngày 28/8/2005. - CN Phát triển và QL CT đào tạo nghề tại TT Tư vấn & PT Giáo dục ngày 29/6/2007. - CC LL dạy học ĐH tại Trường ĐH KHXH&NV ngày 21/12/2015. - CN An toàn vệ sinh lao động tại TT Huấn luyện An toán - Vệ sinh lao động ngày 01/7/2007 - CN NVQL các cơ sở dạy nghề tại Tổng cục dạy nghề ngày 28/4/2008. - CC Quản trị nhân sự chuyên nghiệp tại Trường ĐH Kinh tế TPHCM ngày 19/8/2013 | BR20: x
A21: 15 | B21: Nguyễn Cao Phong | C21: X | E21: X | F21: Nam | G21: TP.Hồ Chí Minh | H21: 13/06/1982 | I21: Khoa Công nghệ thông tin | J21: Khoa Công nghệ thông tin | K21: 023730236 | L21: 01/10/2009 | M21: CA. TPHCM | N21: Kinh | O21: Không | P21: Thành phố Hồ Chí Minh | Q21: 556/3 Sư Vạn Hạnh P10, Q.10 | S21: 0908587874 | T21: caophongnguyen@yahoo.com | U21: 0204163837 | W21: 01/10/2006 | X21: Sở GDĐT TPHCM | Y21: 01/10/2004 | Z21: Hợp đồng không thời hạn | AA21: 01/04/2004 | AB21: GV | AC21: Giảng viên | AF21: 30/12/2014 | AG21: X | AH21: 12/12 | AI21: THPT | AJ21: THS | AK21: - Thạc sỹ - Đại học | AL21: - Khoa học máy tính - Công nghệ thông tin | AM21: - Trường ĐH Công nghệ thông tin TPHCM - Trường ĐH KHTN | AN21: - 19/12/2015 - 28/3/2008 | AO21: - Đã có - Chưa có | AP21: SPDN | AQ21: 16/6/2008 | AR21: Trường ĐH SPKT TPHCM | AS21: Chứng chỉ nghề Quản trị mạng bậc 3/7 | AT21: 28/12/2017 | AU21: Trường CĐ Lý Tự Trọng TPHCM | AV21: x | AX21: Thạc sỹ | AY21: 42357 | AZ21: Trường ĐH Công nghệ thông tin | BA21: THS | BC21: TOEFL 450 | BD21: B1 | BE21: 21/10/2015 | BF21: IIG | BG21: B1 | BH21: Trung cấp | BN21: BD CBQL khoa, phòng trường ĐH, CĐ | BO21: 6/11/2012 | BP21: Học viện Quản lý Giáo dục | BQ21: - CC Triết học, LL dạy học ĐH, PP NC KH tại Trường ĐH SP KT TPHCM ngày 16/10/2007. - CN Sơ cấp LL CT tại TT BD Chính trị Quận Tân Bình ngày 25/9/2014. | BR21: x
A22: 16 | B22: Nguyễn Ngọc Tuyên | C22: X | E22: X | F22: Nam | G22: Hà Tây | H22: 08/12/1988 | I22: Khoa Công nghệ thông tin | J22: Khoa Công nghệ thông tin | K22: 001088020529 | L22: 11/12/2017 | M22: Cục cảnh sát đăng lý quản lý cư trú | N22: Kinh | O22: Không | P22: Áng Thượng, Xã Lê Thanh, Huyện Mỹ Đức, Tỉnh Hà Tây | Q22: 77 Ấp 7, xã Xuân Thới Thượng, huyện Hóc môn, TPHCM | S22: 01682345422 | T22: nguyenngoctuyen1988@gmail.com | U22: 7910509233 | W22: 01/09/2012 | X22: Sở GDĐT TPHCM | Y22: 01/09/2010 | Z22: Hợp đồng không thời hạn | AA22: 01/09/2010 | AB22: GV | AC22: Giảng viên | AH22: 12/12 | AI22: THPT | AJ22: THS | AK22: - Thạc sỹ - Đại học | AL22: - Hệ thống thông tin - Sư phạm Tin | AM22: - Học viện Bưu chính Viễn thông - Trường ĐH SP - ĐH Thái Nguyên | AN22: - 18/10/2017 - 24/6/2010 | AO22: x | AP22: ĐH Sư phạm | AQ22: 24/6/2010 | AR22: Trường ĐH SP - ĐH Thái Nguyên | AS22: Chứng chỉ nghề Quản trị mạng bậc 3/7 | AT22: 28/12/2017 | AU22: Trường CĐ Lý Tự Trọng TPHCM | AV22: x | AX22: Thạc sỹ | AY22: 43026 | AZ22: Học viện Bưu chính Viễn thông | BA22: THS | BC22: B1 | BD22: B1 | BE22: 43026 | BF22: Học viện Bưu chính Viễn thông | BG22: B1 | BH22: Sơ cấp | BI22: 27/5/2016 | BJ22: TT BD Chính trị Quận Tân Bình | BQ22: - BD GV chính (hạng II) tại Trường ĐH SP TPHCM ngày 15/5/2019 | BR22: x
A23: 17 | B23: Nguyễn Nguyên Hoàng Ngọc Quyên | C23: X | E23: X | F23: Nữ | G23: TP.Hồ Chí Minh | H23: 03/02/1980 | I23: Khoa Công nghệ thông tin | J23: Khoa Công nghệ thông tin | K23: 023471997 | L23: 31/03/2009 | M23: CA TPHCM | N23: Kinh | O23: Thiên chúa | P23: Tỉnh Hà Nam | Q23: 25 Nguyễn Văn Săng P. Tân Sơn Nhì, Q.Tân Phú | S23: 0918667428 | T23: msquyen@gmail.com | U23: #N/A | W23: 01/09/2005 | X23: Sở GDĐT TPHCM | Y23: 01/09/2005 | Z23: Hợp đồng không thời hạn | AA23: 01/09/2005 | AB23: GV | AC23: Giảng viên | AH23: 12/12 | AI23: THPT | AJ23: DH | AK23: Đại học | AL23: Công nghệ thông tin | AM23: Trường ĐH Hồng Bàng TPHCM | AN23: 05/5/2003 | AO23: x | AP23: - SP Bậc 2 - NVSP dành cho GV CĐ, ĐH | AQ23: - 26/2/2007 - 30/10/2019 | AR23: - Trường ĐH SPKT TPHCM - Trường ĐH SP HN 2 | AS23: Chứng chỉ nghề Quản trị mạng bậc 3/7 | AT23: 28/12/2017 | AU23: Trường CĐ Lý Tự Trọng TPHCM | AV23: x | AX23: Đại học | AY23: 37746 | AZ23: Trường ĐH Hồng Bàng TPHCM | BA23: DH | BC23: B | BD23: A2 | BE23: 07/05/2019 | BF23: Trường CĐ Lý Tự Trọng TPHCM | BG23: B | BH23: Sơ cấp | BI23: 27/5/2016 | BJ23: TT BD Chính trị Quận Tân Bình | BR23: x
A24: 18 | B24: Nguyễn Sanh Cường | C24: X | E24: X | F24: Nam | G24: Bình Định | H24: 15/08/1969 | I24: Khoa Công nghệ thông tin | J24: Khoa Công nghệ thông tin | K24: 024723439 | L24: 07/05/2007 | M24: CA. TPHCM | N24: Kinh | O24: Phật | P24: Xã Thủy Vân, Huyện Hương Thủy, Tỉnh Thừa Thiên - Huế | Q24: 38/3 Tổ 256 KP13 P.Bình Hưng Hòa A, Q.Bình Tân, TPHCM | S24: 0937271189 | T24: nguyensanhcuong@gmail.com | U24: 7908079138 | W24: 01/09/2007 | X24: Sở GDĐT TPHCM | Y24: 01/09/2007 | Z24: Hợp đồng không thời hạn | AA24: 01/09/2007 | AB24: GV | AC24: Giảng viên | AH24: 12/12 | AI24: THPT | AJ24: DH | AK24: - Đại học - Đại học | AL24: - Tin học - Toán học | AM24: - Trường ĐH KHTN - Trường ĐH SP Huế | AN24: - 02/4/2001 - 15/6/1992 | AO24: x | AP24: ĐH Sư phạm | AQ24: 15/6/1992 | AR24: Trường ĐH SP Huế | AS24: Chứng chỉ nghề Quản trị mạng bậc 3/7 | AT24: 28/12/2017 | AU24: Trường CĐ Lý Tự Trọng TPHCM | AV24: x | AX24: Đại học | AY24: 36983 | AZ24: Trường ĐH KHTN TPHCM | BA24: DH | BC24: A2 | BD24: A2 | BE24: 18/06/2018 | BF24: Trường ĐH Ngân hàng TPHCM | BG24: A2 | BH24: Sơ cấp | BI24: 27/5/2016 | BJ24: TT BD Chính trị Quận Tân Bình | BQ24: - CN Nhận thức về Đảng tại Sở GDĐT TPHCM ngày 01/4/2010 | BR24: x
A25: 19 | B25: Nguyễn Thị Khánh Thư | C25: X | E25: X | F25: Nữ | G25: Quảng Ngãi | H25: 07/07/1977 | I25: Khoa Công nghệ thông tin | J25: Khoa Công nghệ thông tin | K25: 025078389 | L25: 14/01/2009 | M25: CA. TPHCM | N25: Kinh | O25: Không | P25: Xã Điện Thọ, huyện Điện Bàn, tỉnh Quảng Nam | Q25: E16 Gò Ô Môi, P. Phú Thuận, Quận 7, TPHCM | S25: 0907478688 | T25: thu_nk77@yahoo.com | U25: 0206052994 | W25: 01/09/2008 | X25: Sở GDĐT TPHCM | Y25: 01/09/2008 | Z25: Hợp đồng không thời hạn | AA25: 01/09/2008 | AB25: GV | AC25: Giảng viên | AH25: 12/12 | AI25: THPT | AJ25: DH | AK25: Đại học | AL25: Công nghệ thông tin | AM25: Trường ĐH KHTN TPHCM | AN25: 10/11/2005 | AO25: x | AP25: SP dạy nghề dành cho GV TC, CĐ | AQ25: 7/9/2015 | AR25: Trường CĐ Nghề TPHCM | AS25: Chứng chỉ nghề Quản trị mạng bậc 3/7 | AT25: 28/12/2017 | AU25: Trường CĐ Lý Tự Trọng TPHCM | AV25: x | AX25: Đại học | AY25: 38666 | AZ25: Trường ĐH KHTN TPHCM | BA25: DH | BC25: B | BD25: A2 | BE25: 07/05/2019 | BF25: Trường CĐ Lý Tự Trọng TPHCM | BG25: B | BH25: Sơ cấp | BI25: 27/5/2016 | BJ25: TT BD Chính trị Quận Tân Bình | BQ25: - BD GV chính (hạng II) tại Trường ĐH SP TPHCM ngày 15/5/2019 - CC LL dạy học & Giáo dục tại Trường ĐH SP TPHCM ngày 6/8/2007 - CN Kỹ năng biên soạn tài liệu giảng dạy, giáo trình, bài giảng trong đào tạo CĐ, TCCN tại TT Tư vấn Đào tạo Kinh tế - Kỹ thuật ngày 23/8/2011. - Bảng ghi kết quả học tập môn PP NCKH tại Trường ĐH SP HN 2 ngày 26/12/2018. | BR25: x
A26: 20 | B26: Nguyễn Thị Thu Hồng | C26: X | E26: X | F26: Nữ | G26: Long An | H26: 24/04/1983 | I26: Khoa Công nghệ thông tin | J26: Khoa Công nghệ thông tin | K26: 080183000458 | L26: 17/10/2018 | M26: Cục cảnh sát đăng ký quản lý cư trú | N26: Kinh | O26: Phật | P26: Xã Nhơn Ninh, Huyện Tân Thạnh, Tỉnh Long An | Q26: 35/13 Đường số 2, KP6, P.Bình Hưng Hòa, Q.Bình Tân | S26: 0976150525 | T26: nguyenhong8x@gmail.com | U26: 7909078921 | W26: 01/09/2008 | X26: Sở GDĐT TPHCM | Y26: 01/09/2008 | Z26: Hợp đồng không thời hạn | AA26: 01/09/2008 | AB26: GV | AC26: Giảng viên | AH26: 12/12 | AI26: THPT | AJ26: DH | AK26: Đại học | AL26: Công nghệ thông tin | AM26: Trường ĐH KHTN TPHCM | AN26: 28/8/2008 | AO26: x | AP26: - SPDN trình độ TC nghề, CĐ nghề. - LL dạy học và giáo dục | AQ26: - 7/9/2015 - 12/5/2008 | AR26: - Trường CĐ Nghề TPHCM - Trường ĐH SP TPHCM | AS26: Chứng chỉ nghề Quản trị mạng bậc 3/7 | AT26: 28/12/2017 | AU26: Trường CĐ Lý Tự Trọng TPHCM | AV26: x | AX26: Đại học | AY26: 39688 | AZ26: Trường ĐH KHTN TPHCM | BA26: DH | BC26: Đại học | BD26: C1 | BE26: 15/07/2019 | BF26: Trường ĐH Sài Gòn | BG26: DH | BH26: Sơ cấp | BI26: 27/5/2016 | BJ26: TT BD Chính trị Quận Tân Bình | BR26: x
A27: 21 | B27: Nguyễn Thị Thủy | C27: X | E27: X | F27: Nữ | G27: Gia Lai | H27: 12/02/1966 | I27: Khoa Công nghệ thông tin | J27: Khoa Công nghệ thông tin | K27: 064166000035 | L27: 30/10/2018 | M27: Cục cảnh sát đăng ký quản lý cư trú | N27: Kinh | O27: Không | P27: Xã Hoà Tiến, Huyện Hoà Vang, Thành phố Ðà Nẵng | Q27: 222 Lô A C/c Khu CN, P.Tây Thạnh, Q.Tân Phú | S27: 0955717680 | T27: thuy_nt_18@yahoo.com | U27: 0205363662 | W27: 01/09/2005 | X27: Sở GDĐT TPHCM | Y27: 01/09/2005 | Z27: Hợp đồng không thời hạn | AA27: 01/09/2005 | AB27: GV | AC27: Giảng viên | AH27: 12/12 | AI27: THPT | AJ27: THS | AK27: - Thạc sỹ - Đại học - Đại học | AL27: - Khoa học máy tính - Công nghệ thông tin - Kỹ thuật công nghiệp | AM27: - ĐH KHTN TPHCM - ĐH KHTN TPHCM - Trường ĐH SPKT TPHCM | AN27: - 20/4/2017 - 2/4/2003 - 10/11/1989 | AO27: - Đã có - Đã có - Chưa có | AP27: Kỹ sư giáo dục | AQ27: 10/11/1989 | AR27: Trường ĐH SP KT TPHCM | AS27: Chứng chỉ nghề Mạng máy tính bậc 3/7 | AT27: 28/12/2017 | AU27: Trường CĐ Lý Tự Trọng TPHCM | AV27: x | AX27: Thạc sỹ | AY27: 37731 | AZ27: Trường ĐH KHTN TPHCM | BA27: THS | BC27: Đại học | BD27: C1 | BE27: 18/05/2000 | BF27: Trường ĐH Mở Bán công TPHCM | BG27: DH | BH27: Sơ cấp | BI27: 15/01/2014 | BJ27: TT BD Chính trị Quận Tân Bình | BR27: x
A28: 22 | B28: Nguyễn Văn Danh | C28: X | E28: X | F28: Nam | G28: Quảng Ngãi | H28: 10/04/1983 | I28: Khoa Công nghệ thông tin | J28: Khoa Công nghệ thông tin | K28: 025251872 | L28: 19/05/2010 | M28: CA. TPHCM | N28: Kinh | O28: Không | P28: Xã Nghĩa Kỳ, Huyện Tư Nghĩa, Tỉnh Quảng Ngãi | Q28: 8/17 Nguyễn Đình Chiểu, Phường Đakao, Quận I, TPHCM | S28: 0989756870 | T28: nvdanh81@gmai.com | U28: 7911094458 | W28: 01/09/2010 | X28: Sở GDĐT TPHCM | Y28: 01/09/2010 | Z28: Hợp đồng không thời hạn | AA28: 01/09/2010 | AB28: GV | AC28: Giảng viên | AH28: 12/12 | AI28: THPT | AJ28: THS | AK28: - Thạc sỹ - Đại học | AL28: - Khoa học máy tính - Tin học | AM28: - Trường ĐH SP TPHCM - Trường ĐH Mở Bán công TPHCM | AN28: - 28/5/2018 - 17/7/2006 | AO28: x | AP28: NVSP dành cho GV ĐH, CĐ | AQ28: 2/10/2012 | AR28: Trường ĐH SP Hà Nội | AS28: Chứng chỉ nghề Quản trị mạng máy tính bậc 3/7 | AT28: 28/12/2017 | AU28: Trường CĐ Lý Tự Trọng TPHCM | AV28: x | AX28: Thạc sỹ | AY28: 43248 | AZ28: Trường ĐH SP TPHCM | BA28: THS | BC28: - B1 - B | BD28: B1 | BE28: - 23/07/2015 - 28/12/2012 | BF28: - Trường ĐH SP TPHCM - TT Ngôn ngữ Việt Mỹ | BG28: B1 | BH28: Sơ cấp | BI28: 22/8/2016 | BJ28: TT BD Chính trị Quận Tân Bình | BQ28: - CC Triết học, LL dạy học ĐH, PP NC KH tại Trường ĐH SP KT TPHCM ngày 30/6/2010. - BD GV chính (hạng II) tại Trường ĐH SP TPHCM ngày 15/5/2019. - CN Lập trình IoT tại Trường ĐH SP KT TPHCM ngày 5/11/2018. | BR28: x
A29: 23 | B29: Nguyễn Văn Minh | C29: X | E29: X | F29: Nam | G29: TPHCM | H29: 28/08/1971 | I29: Khoa Công nghệ thông tin | J29: Khoa Công nghệ thông tin | K29: 022354694 | L29: 08/05/2008 | M29: CA. TPHCM | N29: Kinh | O29: Phật | P29: Huyện Gia Lâm, Thành phố Hà Nội | Q29: 204/16 Hoàng Văn Thụ P4, Q.Tân Bình, TPHCM | S29: 0988877405 | T29: vminh28@yahoo.com | U29: 0296083085 | W29: 01/09/2008 | X29: Sở GDĐT TPHCM | Y29: 01/09/2008 | Z29: Hợp đồng không thời hạn | AA29: 01/09/2008 | AB29: GV | AC29: Giảng viên | AH29: 12/12 | AI29: THPT | AJ29: THS | AK29: - Thạc sỹ - Đại học | AL29: - Khoa học máy tính - SP Tin học | AM29: - Trường ĐH KHTN - Trường ĐH SP TPHCM | AN29: - 20/6/2013 - 30/6/2008 | AO29: x | AP29: TN Sư phạm | AQ29: 30/6/2008 | AR29: Trường ĐH SP TPHCM | AS29: Chứng chỉ nghề Mạng máy tính bậc 3/7 | AT29: 28/12/2017 | AU29: Trường CĐ Lý Tự Trọng TPHCM | AV29: x | AX29: Thạc sỹ | AY29: 20/06/2013 | AZ29: Trường ĐH KHTN TPHCM | BA29: THS | BC29: TOEFL ITP 453 | BD29: B1 | BE29: 09/09/2012 | BF29: IIG | BG29: B1 | BH29: Trung cấp | BN29: CBQL các Khoa, Phòng, Ban trường ÐH | BQ29: - BD GV chính (hạng II) tại Trường ĐH SP TPHCM ngày 15/5/2019 - CN Sơ cấp LL CT tại TT BD Chính trị Quận Tân Bình ngày 15/1/2014. | BR29: x
A30: 24 | B30: Hồ Ngọc Chi | C30: X | E30: X | F30: Nữ | G30: TPHCM | H30: 09/05/1978 | I30: Khoa Công nghệ thông tin | J30: Khoa Công nghệ thông tin | K30: 300881563 | L30: 01/06/2012 | M30: CA. Long An | N30: Kinh | O30: Không | P30: Xã Tân Phú, Huyện Đức Hòa, Tỉnh Long An | Q30: 36 Trần Phong sắc, P4, TP. Tân An, Long An | S30: 0988551295 | U30: #N/A | W30: 01/10/2018 | X30: Sở GDĐT TPHCM | Y30: 01/10/2018 | Z30: Hợp đồng không thời hạn | AA30: 01/01/2002 | AB30: GV | AC30: Giảng viên | AG30: X | AH30: 12/12 | AI30: THPT | AJ30: THS | AK30: - Thạc sỹ - Đại học | AL30: - Khoa học máy tính - Công nghệ thông tin | AM30: - ĐH Huế - Trường ĐH Dân lập Ngoại ngữ - Tin học TPHCM | AN30: - 20/10/2011 - 16/10/2001 | AO30: x | AP30: SP dạy nghề dành cho GV dạy TC nghề, CĐ nghề | AQ30: 2/8/2013 | AR30: Trường CĐ nghề TPHCM | AX30: Thạc sỹ | AY30: 40836 | AZ30: Trường ĐH Huế | BA30: THS | BC30: B1 | BD30: B1 | BE30: 01/07/2011 | BF30: Trường ĐH Ngoại ngữ | BG30: B1 | BQ30: - BD GV chính (hạng II) tại Trường ĐH SP TPHCM ngày 15/5/2019. - CC LL dạy học ĐH tại Trường ĐH SP TPHCM ngày 10/2/2009. | BR30: x
A31: 25 | B31: Huỳnh Quốc Dũng | C31: X | E31: X | F31: Nam | G31: Bến Tre | H31: 22/10/1974 | I31: Khoa Công nghệ thông tin | J31: Khoa Công nghệ thông tin | K31: 024776141 | L31: 03/06/2007 | M31: CA. TPHCM | N31: Kinh | O31: Không | P31: Xã Thanh Tân, Huyện Mỏ Cày, Tỉnh Bến Tre | Q31: 381/2/2 Phạm - H- Lầu, Ấp 4, P. Phước Kiên, NB, TPHCM | S31: 0909304969 | U31: #N/A | W31: 01/10/2018 | X31: Sở GDĐT TPHCM | Y31: 01/10/2018 | Z31: Hợp đồng không thời hạn | AA31: 01/10/2018 | AB31: GV | AC31: Giảng viên | AH31: 12/12 | AI31: THPT | AJ31: THS | AK31: - Thạc sỹ - Đại học | AL31: - Khoa học máy tính - Tin học | AM31: - ĐH Huế - Trường ĐH Cần Thơ | AN31: - 20/10/2011 - 20/11/1998 | AO31: x | AP31: '- SP dạy nghề dành cho GV dạy TC nghề, CĐ nghề - SP bậc 2 | AQ31: - 9/7/2015 - 28/6/2007 | AR31: Trường ĐH SP Vinh - Trường ĐH SP KT TPHCM | AX31: Thạc sỹ | AY31: 40836 | AZ31: Trường ĐH Huế | BA31: THS | BC31: B1 | BD31: B1 | BE31: 28/05/2011 | BF31: Trường ĐH Ngoại ngữ - ĐH Huế | BG31: B1 | BQ31: - BD GV chính (hạng II) tại Trường ĐH SP TPHCM ngày 15/5/2019 | BR31: x
A32: 26 | B32: Huỳnh Thị Minh Ly | C32: x | E32: x | F32: Nữ | G32: Tỉnh Quảng Ngãi | H32: 20/02/1979 | I32: Khoa Công nghệ thông tin | J32: Khoa Công nghệ thông tin | K32: 051179000292 | L32: 27/09/2017 | M32: Cục Cảnh sát Đăng ký quản lý cư trú | N32: Kinh | O32: Thiên chúa | P32: Tỉnh Quảng Ngãi | Q32: 78/31 Chấn Hưng, P6, Q.Tân Bình | S32: 0986725656 | T32: huynhminhlycarot@gmail.com | U32: 0205304955 | W32: 01/01/2010 | X32: Sở GDĐT TPHCM | Y32: 01/10/2005 | Z32: Hợp đồng không thời hạn | AA32: 01/10/2005 | AB32: GV | AC32: Giảng viên | AH32: 12/12 | AI32: THPT | AJ32: THS | AK32: Thạc sỹ | AL32: Khoa học máy tính | AP32: - NVSP bậc 2 - SP dạy nghề - Bồi dưỡng ngạch chuyên viên - NVSP dành cho GV ĐH, CĐ | AX32: THS | BA32: THS | BC32: B1 | BD32: B1 | BG32: B1 | BH32: Sơ cấp | BQ32: - BD GV chính (hạng II) tại Trường ĐH SP TPHCM ngày 15/5/2019 | BR32: x
A35: Số TT | B35: Đơn vị | C35: Tổng | D35: Chức vụ/ Chức danh | I35: Kiêm chức | J35: Trình độ chuyên môn | P35: Trình độ Tin học | Y35: Trình độ Ngoại ngữ | AI35: Trình độ Lý luận Chính trị | AL35: Hợp đồng | AN35: Đảng viên | AO35: Nữ
D36: Trưởng, Phụ trách phòng | E36: Phó Trưởng đơn vị | F36: Trưởng Bộ môn, Tổ trưởng | G36: Nhân viên | H36: Giảng viên | J36: Tiến sỹ | K36: Thạc sỹ | L36: Đại học | M36: Cao đẳng | N36: Trung cấp | O36: Khác | P36: A | Q36: B | R36: TC | S36: CĐ | T36: ĐH | U36: THS | V36: IC3 | W36: UD CNTT CB | X36: UD CNTT NC | Y36: A | Z36: B | AA36: C | AB36: TC | AC36: CĐ | AD36: ĐH | AE36: THS | AF36: B1 | AG36: B2 | AH36: C1 | AI36: SC | AJ36: TC | AK36: Trên TC | AL36: Biên chế + Không thời hạn + Nghị định 68 (Sở) | AM36: Hợp đồng trường
B37: Khoa CNTT | C37: =SUM(D37:H37) -> 26 | D37: =SUM((COUNTIF($AB$7:$AB$32,"HT")+(COUNTIF($AB$7:$AB$32,"TK")+(COUNTIF($AB$7:$AB$32,"TP"))+(COUNTIF($AB$7:$AB$32,"TTT"))))) -> 1 | E37: =SUM((COUNTIF($AB$7:$AB$32,"PHT")+(COUNTIF($AB$7:$AB$32,"PK")+(COUNTIF($AB$7:$AB$32,"PTP"))+(COUNTIF($AB$7:$AB$32,"PTT"))))) -> 2 | F37: =SUM((COUNTIF($AB$7:$AB$32,"TBM")+(COUNTIF($AB$7:$AB$32,"TT")))) -> 3 | G37: =COUNTIF($AB$7:$AB$32,"NV") -> 0 | H37: =COUNTIF($AB$7:$AB$32,"GV") -> 20 | I37: =COUNTIF($D$7:$D$32,"x") -> 0 | J37: =COUNTIF($AJ$7:$AJ$32,"TS") -> 0 | K37: =COUNTIF($AJ$7:$AJ$32,"THS") -> 16 | L37: =COUNTIF($AJ$7:$AJ$32,"DH") -> 10 | M37: =COUNTIF($AJ$7:$AJ$32,"CD") -> 0 | N37: =COUNTIF($AJ$7:$AJ$32,"TC") -> 0 | O37: =COUNTIF($AJ$7:$AJ$32,"") -> 0 | P37: =COUNTIF($BA$7:$BA$32,"A") -> 0 | Q37: =COUNTIF($BA$7:$BA$32,"B") -> 0 | R37: =COUNTIF($BA$7:$BA$32,"TC") -> 0 | S37: =COUNTIF($BA$7:$BA$32,"CD") -> 0 | T37: =COUNTIF($BA$7:$BA$32,"DH") -> 11 | U37: =COUNTIF($BA$7:$BA$32,"THS") -> 15 | V37: =COUNTIF($BB$7:$BB$32,"IC3") -> 5 | W37: =COUNTIF($BA$7:$BA$32,"UD CNTT CB") -> 0 | X37: =COUNTIF($BA$7:$BA$32,"UD CNTT NC") -> 0 | Y37: =SUM((COUNTIF($BG$7:$BG$33,"A"))+(COUNTIF($BG$7:$BG$33,"A1"))) -> 0 | Z37: =SUM((COUNTIF($BG$7:$BG$33,"B"))+(COUNTIF($BG$7:$BG$33,"A2"))) -> 9 | AA37: =COUNTIF($BG$7:$BG$33,"C") -> 0 | AB37: =COUNTIF($BG$7:$BG$33,"TC") -> 0 | AC37: =COUNTIF($BG$7:$BG$33,"CD") -> 0 | AD37: =COUNTIF($BG$7:$BG$33,"DH") -> 5 | AE37: =COUNTIF($BG$7:$BG$33,"THS") -> 0 | AF37: =COUNTIF($BG$7:$BG$33,"B1") -> 12 | AG37: =COUNTIF($BG$7:$BG$33,"B2") -> 0 | AH37: =COUNTIF($BG$7:$BG$33,"C1") -> 0 | AI37: =COUNTIF($BH$7:$BH$33,"Sơ cấp") -> 17 | AJ37: =COUNTIF($BH$7:$BH$33,"Trung cấp") -> 7 | AK37: =COUNTIF($BH$7:$BH$33,"Cao cấp") -> 0 | AL37: =COUNTIF($X$7:$X$33,"Sở GDĐT TPHCM") -> 26 | AM37: =COUNTIF($X$7:$X$33,"Trường CĐ Lý Tự Trọng TPHCM") -> 0 | AN37: =COUNTIF($AG$7:$AG$33,"x") -> 3 | AO37: =COUNTIF($F$7:$F$33,"Nữ") -> 10
AP1295: =COUNTIF(AJ7:AJ31,"Thạc sỹ") -> 0

Sheet DIEN TU
A1: UBND THÀNH PHỐ HỒ CHÍ MINH TRƯỜNG CAO ĐẲNG LÝ TỰ TRỌNG THÀNH PHỐ HỒ CHÍ MINH | AP1: CỘNG HÒA XÃ HỘI CHỦ NGHĨA VIỆT NAM Độc lập - Tự do - Hạnh phúc
A3: DANH SÁCH THỐNG KÊ CHUẨN CHUYÊN MÔN NGHIỆP VỤ CỦA NHÀ GIÁO
A5: STT | B5: Họ tên | C5: GV | D5: kiêm chức | E5: GV + kiêm chức | F5: Giới tính | G5: Nơi sinh | H5: Ngày/tháng/năm sinh | I5: Kiêm chức tại khoa | J5: Đơn vị | K5: Số chứng mình nhân dân | L5: Ngày cấp Chứng minh nhân dân | M5: Nơi cấp chứng minh nhân dân | N5: Dân tộc | O5: Tôn giáo | P5: Quê quán | Q5: Địa chỉ thường trú | R5: Nơi ở hiện nay | S5: Điện thoại DD | T5: Email | U5: Số sổ bảo hiểm xã hội | V5: Ngày hợp đồng | W5: Ngày tuyển dụng | X5: Cơ quan tuyển dụng | Y5: Ngày về cơ quan hiện nay | Z5: Thuộc loại cán bộ | AA5: Ngày vào ngành giáo dục | AB5: Chức vụ/ Chức danh hiện tại (công thức) | AC5: Chức vụ/ Chức danh hiện tại | AD5: Ngày bổ nhiệm chức vụ hiện tại | AE5: Ngày vào đảng | AF5: Ngày vào đảng chính thức | AG5: Đảng viên (công thức) | AH5: Học vấn phổ thông | AI5: Đã tốt nghiệp | AJ5: Trình độ chuyên môn | AP5: Nghiệp vụ sư phạm | AS5: Kỹ năng nghề | AX5: Tin học | BC5: Ngoại ngữ | BH5: Lý luận Chính trị | BK5: Quản lý nhà nước | BN5: Trình độ quản lý giáo dục | BQ5: Chứng chỉ khác
AJ6: Trình độ chuyên môn cao nhất (công thức) | AK6: Trình độ chuyên môn cao nhất | AL6: Chuyên ngành đào tạo | AM6: Nơi đào tạo | AN6: Năm tốt nghiệp | AO6: Bảng điểm | AP6: Chứng chỉ bồi dưỡng nghiệp vụ | AQ6: Ngày cấp chứng chỉ | AR6: Nơi cấp | AS6: Kỹ năng nghề | AT6: Ngày cấp chứng chỉ | AU6: Nơi cấp | AV6: Kỹ năng nghề 3/7 trở lên (công thức) | AW6: Kỹ năng nghề Quốc gia (công thức) | AX6: Trình độ tin học | AY6: Ngày cấp | AZ6: Nơi cấp | BA6: Trình độ tin học (công thức) | BB6: Trình độ tin học Quốc tế (công thức) | BC6: Trình độ ngoại ngữ | BD6: Theo khung NLNN 6 bậc | BE6: Ngày cấp chứng chỉ | BF6: Nơi cấp CC Ngoại ngữ | BG6: Trình độ ngoại ngữ (thống kê) | BH6: Trình độ lý luận chính trị | BI6: Ngày cấp | BJ6: Nơi cấp | BK6: Trình độ quản lý nhà nước | BL6: Ngày cấp | BM6: Nơi cấp | BN6: Trình độ quản lý giáo dục | BO6: Ngày cấp | BP6: Nơi cấp
A7: 01 | B7: Tạ Minh Cường | C7: X | E7: X | F7: Nam | G7: Tân Hiệp, Kiên Giang | H7: 01/07/1965 | I7: Khoa Điện - Điện tử | J7: Khoa Điện - Điện tử | K7: 091065000076 | L7: 12/06/2019 | M7: Cục Cảnh sát QLHC về TTXH | N7: Kinh | O7: Thiên chúa | P7: Xã Trực Hùng, Huyện Trực Ninh, Tỉnh Nam Ðịnh | Q7: 73/9 Nguyễn Thượng Hiền, P5, Bình Thạnh | S7: 0903043765 | T7: taminhcuong@gmail.com | U7: 5396009947 | W7: 01/09/2003 | X7: Sở GDĐT TPHCM | Y7: 01/09/2003 | Z7: Biên chế | AA7: 08/03/1992 | AB7: TK | AC7: - Phó Trưởng Khoa - Phụ trách khoa | AD7: 01/01/2014 01/05/2019 | AH7: 12/12 | AI7: THPT | AJ7: THS | AK7: - Thạc sỹ - Đại học | AL7: - Kỹ thuật Điện - Điện khí hóa & CC điện | AM7: - Trường ĐH KT Công nghệ TPHCM - Trường ĐH SPKT TPHCM | AN7: - 26/9/2012 - 10/10/1999 | AO7: x | AP7: Giáo viên dạy nghề Điện xí nghiệp bậc CĐ | AQ7: 26/2/1992 | AR7: Trường SPKT IV | AS7: Chứng chỉ nghề Điện bậc 3/7 | AT7: 15/3/1989 | AU7: Trường SPKT IV | AV7: x | AX7: - B - A | AY7: - 28/5/1998 - 22/4/1996 | AZ7: - Trường CĐ SPKT IV - Trường ĐH SP TPHCM | BA7: B | BC7: B1 | BD7: B1 | BE7: 11/4/2012 | BF7: Trường ĐH Kỹ thuật Công nghệ TPHCM | BG7: B1 | BH7: Trung cấp | BI7: 31/7/2018 | BJ7: Học viện Cán bộ TPHCM | BN7: CBQL các Khoa, Phòng, Ban trường ÐH | BQ7: - BD Kiến thức quốc phòng và an ninh đối tượng 3 - BD GV chính (hạng II) tại Trường ĐH SP TPHCM ngày 15/5/2019 - Thiết kế điện hợp chuẩn nâng cao Trường ĐH SPKT TPHCM ngày 05/11/2018. - Thiết kế hệ thống điện hợp chuẩn cho các tòa nhà Trường ĐH SPKT TPHCM ngày 29/12/2017. - CN BD CB UD CNTT 2001 trong công tác dạy nghề tại CT Máy tính VN 1 ngày 24/02/2001. - CC GV, GV về đào tạo theo tín chỉ, biên soạn giáo án và tổ chức dạy học tích hợp, tổ chức đào tạo và đánh giá theo năng lực thực hiện tại Trường CĐ nghề TPHCM ngày 16/12/2015. - CN Học thức về Đảng tại Đảng ủy Sở GDĐT TPHCM ngày 10/3/2009. | BR7: x
A8: 02 | B8: Huỳnh Ngọc Mai | C8: X | E8: X | F8: Nam | G8: Sài Gòn | H8: 09/04/1972 | I8: Khoa Điện - Điện tử | J8: Khoa Điện - Điện tử | K8: 023230246 | L8: 21/08/2009 | M8: CA TPHCM | N8: Kinh | O8: Phật | P8: Phường An Khánh, Quận 2, Thành phố Hồ Chí Minh | Q8: 395/2 Tân Thới Hiệp 21, Tổ 19, KP1, P.Tân Thới Hiệp, Q.12 | S8: 0908155383 | T8: huynhngocmailtt@gmail.com | U8: 0296241665 | W8: 18/05/1996 | X8: Sở GDĐT TPHCM | Y8: 18/05/1996 | Z8: Biên chế | AA8: 18/05/1996 | AB8: PK | AC8: - Trưởng Bộ môn - Phó Trưởng Khoa | AD8: - 01/09/2015 - 10/06/2019 | AF8: 01/04/2009 | AG8: X | AH8: 12/12 | AI8: THPT | AJ8: THS | AK8: - Thạc sỹ - Đại học | AL8: - Tự động hoá - Kỹ thuật Điện - Điện tử | AM8: - Trường ĐH Giao thông vận tải TPHCM - Trường ĐH SPKT TPHCM | AN8: - 9/3/2009 - 5/9/1995 | AO8: - chưa có - Đã có | AP8: SP Bậc 2 | AQ8: 5/9/1995 | AR8: Trường ĐH SPKT TPHCM | AS8: Chứng chỉ nghề Tự động hóa bậc 3/7 | AT8: 28/12/2017 | AU8: Trường CĐ Lý Tự Trọng TPHCM | AV8: x | AX8: Đại học | AY8: 37553 | AZ8: 24/10/2002 | BA8: DH | BC8: B | BD8: A2 | BE8: 16/12/1997 | BF8: Trường ĐH SP TPHCM | BG8: B | BH8: Trung cấp | BI8: 31/5/2019 | BJ8: Học viện Cán bộ TPHCM | BQ8: - BD GV chính (hạng II) tại Trường ĐH SP TPHCM ngày 15/5/2019. - CN Sơ cấp LLCT tại TT BD Chính trị Quận Tân Bình ngày 25/9/2014. - CN BD Kiến thức QP-AN đối tượng 3 tại Trường Quân sự TPHCM ngày 29/11/2019 | BR8: x
A9: 03 | B9: Quách Minh Thử | C9: X | E9: X | F9: Nam | G9: Long Định - Bình Đại - Bến Tre | H9: 14/05/1979 | I9: Khoa Điện - Điện tử | J9: Khoa Điện - Điện tử | K9: 024610718 | L9: 07/08/2006 | M9: CA TPHCM | N9: Kinh | O9: Không | P9: Xã Long Định, Huyện Bình Đại, Tỉnh Bến Tre | Q9: 11/31/10 KP3, đường Tân Thới Hiệp 08, Phường Tân Thới Hiệp, Quận 12 | S9: 0979701817 | T9: thuquachminhlytc@gmail.com | U9: 0206414708 | W9: 01/09/2006 | X9: Sở GDĐT TPHCM | Y9: 01/09/2006 | Z9: Hợp đồng không thời hạn | AA9: 01/09/2006 | AB9: TBM | AC9: Trưởng Bộ môn | AD9: 01/09/2015 | AH9: 12/12 | AI9: THPT | AJ9: THS | AK9: - Thạc sỹ - Đại học | AL9: - Kỹ thuật Điện - Điện khí hóa & CC điện | AM9: - Trường ĐH KT Công nghệ TPHCM - Trường ĐH SPKT TPHCM | AN9: - 26/9/2012 - 15/10/2004 | AO9: x | AP9: SP Bậc 2 | AQ9: 15/10/2004 | AR9: Trường ĐH SPKT TPHCM | AS9: Chứng chỉ nghề Điện công nghiệp bậc 3/7 | AT9: 28/12/2017 | AU9: Trường CĐ Lý Tự Trọng TPHCM | AV9: x | AX9: TH UDCB | AY9: 43393 | AZ9: Trường CĐ Lý Tự Trọng TPHCM | BA9: UD CNTT CB | BC9: B1 | BD9: B1 | BE9: 11/04/2012 | BF9: Trường ĐH Kỹ thuật Công nghệ TPHCM | BG9: B1 | BH9: Trung cấp | BI9: 31/7/2018 | BJ9: Học viện Cán bộ TPHCM | BQ9: - BD GV chính (hạng II) tại Trường ĐH SP TPHCM ngày 15/5/2019 - Thiết kế điện hợp chuẩn nâng cao Trường ĐH SPKT TPHCM ngày 05/11/2018. - Thiết kế hệ thống điện hợp chuẩn cho các tòa nhà Trường ĐH SPKT TPHCM ngày 29/12/2017. - CN Sơ cấp LLCT tại TT BD Chính trị Quận Tân Bình ngày 25/9/2014. | BR9: x
A10: 04 | B10: Võ Cường | C10: X | E10: X | F10: Nam | G10: Thành phố Hồ Chí Minh | H10: 16/11/1966 | I10: Khoa Điện - Điện tử | J10: Khoa Điện - Điện tử | K10: 079066001159 | L10: 12/04/2016 | M10: CA TPHCM | N10: Kinh | O10: Phật | P10: Huyện Phú Vang, Tỉnh Thừa Thiên - Huế | Q10: 512A C/c Gia Phú, P. Bình Hưng Hòa, Q. Bình Tân | S10: 0903634753 | T10: mailboxcuong@gmail.com | U10: 0202201604 | W10: 01/09/2002 | X10: Sở GDĐT TPHCM | Y10: 01/09/2002 | Z10: Biên chế | AA10: 01/09/2002 | AB10: TBM | AC10: Trưởng Bộ môn | AD10: 01/09/2015 | AH10: 12/12 | AI10: THPT | AJ10: THS | AK10: - Thạc sỹ - Đại học | AL10: - Kỹ thuật Cơ Điện tử - Kỹ thuật Điện - Điện tử | AM10: - Trường ĐH Công nghệ TPHCM - Trường ĐH SPKT TPHCM | AN10: - 14/2/2014 - 15/5/2002 | AO10: x | AP10: SP Bậc 2 | AQ10: 15/5/2002 | AR10: Trường ĐH SPKT TPHCM | AS10: - CN Kỹ năng nghề Quốc gia nghề Điện tử công nghiệp bậc 3 | AT10: - 9/10/2018 | AU10: - Tổng cục GDNN | AW10: x | AX10: UD CNTT CB | AY10: 43294 | AZ10: Trường ĐH Trà Vinh | BA10: UD CNTT CB | BC10: B1 | BD10: B1 | BE10: 19/01/2013 | BF10: Trường ĐH Công nghệ TPHCM | BG10: B1 | BH10: Trung cấp | BI10: 31/7/2018 | BJ10: Học viện Cán bộ TPHCM | BQ10: - BD GV chính (hạng II) tại Trường ĐH SP TPHCM ngày 15/5/2019 - CN Học thức về Đảng tại Đảng ủy Sở GDĐT TPHCM ngày 01/4/2010 - CN Sơ cấp LLCT tại TT BD Chính trị Quận Tân Bình ngày 22/8/2016. - CC Triết học, PP NCKH tại Trường ĐH SPKT TPHCM ngày 16/10/2007. | BR10: x
A11: 05 | B11: Cao Văn Tuấn | C11: X | E11: X | F11: Nam | G11: Quảng Ngãi | H11: 02/12/1988 | I11: Khoa Điện - Điện tử | J11: Khoa Điện - Điện tử | K11: 051088000077 | L11: 10/2/2017 | M11: CA TPHCM | N11: Kinh | O11: Thiên chúa | P11: Xã Đức Minh, Huyện Mộ Đức, Tỉnh Quảng Ngãi | Q11: 242/2/5 Bà Hom, Phường 13, Quận 6, TPHCM | S11: 0907907093 | U11: #N/A | W11: 01/04/2018 | X11: Sở GDĐT TPHCM | Y11: 01/4/2018 | Z11: Hợp đồng không thời hạn | AA11: 01/4/2018 | AB11: GV | AC11: Giảng viên | AH11: THPT | AI11: 12/12 | AJ11: THS | AK11: - Thạc sỹ - Đại học | AL11: - Kỹ thuật Điện - CN KT Điện | AM11: - Trường ĐH SPKT TPHCM - Trường ĐH Công nghiệp TPHCM | AN11: - 30/6/2016 - 17/5/2016 | AO11: Chưa có | AP11: NVSP dành cho GV CĐ, ĐH | AQ11: 9/01/2015 | AR11: Trường ĐH SP HN | AX11: - A - TH UDCB | AY11: - 29/10/2007 - 20/10/2018 | AZ11: - Trường ĐH Công nghiệp TPHCM - Trường CĐ Lý Tự trọng TPHCM | BA11: A | BC11: - B1 - B | BD11: B1 | BE11: - 29/01/2016 - 26/6/2007 | BF11: - Trường ĐH SP KT TPHCM - Trường ĐH Công nghiệp TPHCM | BG11: B1 | BQ11: - BD GV chính (hạng II) tại Trường ĐH SP TPHCM ngày 15/5/2019 | BR11: x
A12: 06 | B12: Đặng Đức Minh | C12: X | E12: X | F12: Nam | G12: Hà Nội | H12: 10/06/1974 | I12: Khoa Điện - Điện tử | J12: Khoa Điện - Điện tử | K12: 022765460 | L12: 18/08/2009 | M12: CA TPHCM | N12: Kinh | O12: Không | P12: Xã Phổ Ninh, Huyện Đức Phổ, Tỉnh Quảng Ngãi | Q12: 25 Cư xá Nguyễn Cảnh Chân, P Nguyễn Cư Trinh, Q1 | S12: 0989212633 | U12: 0203318105 | W12: 01/09/2003 | X12: Sở GDĐT TPHCM | Y12: 01/09/2003 | Z12: Biên chế | AA12: 01/09/2003 | AB12: GV | AC12: Giảng viên | AH12: 12/12 | AI12: THPT | AJ12: THS | AK12: - Thạc sỹ - Đại học | AL12: - KT Điện tử - KT Điện - Điện tử | AM12: - Trường ĐH Giao thông vận tải TPHCM - Trường ĐH SPKT TPHCM | AN12: - 02/8/2012 - 12/9/2002 | AO12: chưa có bảng điểm ĐH | AP12: - SP Bậc 2 | AQ12: 12/9/2002 | AR12: Trường ĐH SPKT TPHCM | AS12: Chứng chỉ nghề Điện tử công nghiệp bậc 5/7 | AT12: 10/3/2017 | AU12: Trường CĐ Nghề TPHCM | AV12: x | AX12: B | AY12: 39092 | AZ12: Trường ĐH Nha Trang | BA12: B | BC12: - B1 - B | BD12: B1 | BE12: - 03/10/2013 - 18/03/2016 | BF12: - Trường ĐH GTVT TPHCM - Trường CĐ Nghề Hàng hải TPHCM | BG12: B1 | BH12: Sơ cấp | BI12: 22/8/2016 | BJ12: TT BD Chính trị Q. Tân Bình | BQ12: - BD GV chính (hạng II) tại Trường ĐH SP TPHCM ngày 15/5/2019 - CC SD CN mạng PLC và Scada của Rockwell Automation tại Trường SPKT TPHCM ngày 05/11/2018 - CN BD GV dạy nghề chuyên đề CN về mạng PLC và Scada tại Trường ĐH SPKT TPHCM ngày 19/01/2016. | BR12: x
A13: 07 | B13: Đỗ Huỳnh Thanh Phong | C13: X | E13: X | F13: Nam | G13: Bến Tre | H13: 02/02/1983 | I13: Khoa Điện - Điện tử | J13: Khoa Điện - Điện tử | K13: 025764174 | L13: 22/05/2013 | M13: CA TPHCM | N13: Kinh | O13: Không | P13: Phường 7, Thành phố Mỹ Tho, Tỉnh Tiền Giang | Q13: 08 Hiền Vương, Phú Thạnh, Tân Phú, TPHCM | S13: 0937 365 910 | T13: thanhphong20082008@yahoo.com.vn | U13: 7911094452 | W13: 01/09/2010 | X13: Sở GDĐT TPHCM | Y13: 01/09/2010 | Z13: Hợp đồng không thời hạn | AA13: 01/09/2010 | AB13: GV | AC13: Giảng viên | AH13: 12/12 | AI13: THPT | AJ13: THS | AK13: - Thạc sỹ - Đại học | AL13: - Kỹ thuật Điện (chưa có) - CN KT Điện | AM13: - Trường ĐH SPKT TPHCM - Trường ĐH Công nghiệp TPHCM | AN13: - 31/12/2013 - 26/11/2008 | AO13: x | AP13: SP Bậc 2 | AQ13: 03/10/2006 | AR13: Trường ĐH SPKT TPHCM | AS13: Chứng chỉ nghề Điện công nghiệp bậc 3/7 | AT13: 28/12/2017 | AU13: Trường CĐ Lý Tự Trọng TPHCM | AV13: x | AX13: TH UDCB | AY13: 43393 | AZ13: Trường CĐ Lý Tự trọng TPHCM | BA13: UD CNTT CB | BC13: B1 | BD13: B1 | BE13: 28/08/2012 | BF13: Trường ĐH SPKT TPHCM | BG13: B1 | BH13: Sơ cấp | BI13: 27/5/2016 | BJ13: TT BD Chính trị Q. Tân Bình | BQ13: - BD GV chính (hạng II) tại Trường ĐH SP TPHCM ngày 15/5/2019 - Thiết kế điện hợp chuẩn nâng cao tại Trường ĐH SPKT TPHCM ngày 5/11/2018. - Thiết kế hệ thống điện hợp chuẩn cho các tòa nhà tại Trường ĐH SPKT TPHCM ngày 29/12/2017. | BR13: x
A14: 08 | B14: Lê Thế Huân | C14: X | E14: X | F14: Nam | G14: TPHCM | H14: 23/08/1965 | I14: Khoa Điện - Điện tử | J14: Khoa Điện - Điện tử | K14: 021710558 | L14: 16/12/2003 | M14: CA TPHCM | N14: Kinh | O14: Phật | P14: Quận Hải An, Thành phố Hải Phòng | Q14: 453/25 Nguyễn Kiệm, P9, Q.Phú Nhuận | S14: 0985956872 | T14: thehuanle@gmail.com | U14: 0203318109 | W14: 01/09/2003 | X14: Sở GDĐT TPHCM | Y14: 01/09/2003 | Z14: Biên chế | AA14: 01/09/2003 | AB14: GV | AC14: Giảng viên | AH14: 12/12 | AI14: THPT | AJ14: DH | AK14: Đại học | AL14: - Điện khí hóa và cung cấp điện - Quản trị kinh doanh | AM14: - Trường ĐH SPKT TPHCM - Trường ĐH Kinh tế TPHCM | AN14: - 10/8/1991 - 01/12/2003 | AO14: - Bảng điểm - chưa có | AP14: Kỹ sư giáo dục | AQ14: 10/8/1991 | AR14: Trường ĐH SPKT TPHCM | AS14: Chứng chỉ nghề Điện công nghiệp bậc 3/7 | AT14: 28/12/2017 | AU14: Trường CĐ Lý Tự Trọng TPHCM | AV14: x | AX14: TH UDCB | AY14: 43393 | AZ14: Trường CĐ Lý Tự Trọng TPHCM | BA14: UD CNTT CB | BC14: B | BD14: A2 | BE14: 07/05/2019 | BF14: Trường CĐ Lý Tự Trọng TPHCM | BG14: B | BH14: Sơ cấp | BI14: 22/8/2016 | BJ14: TT BD Chính trị Q. Tân Bình | BQ14: - BD GV chính (hạng II) tại Trường ĐH SP TPHCM ngày 15/5/2019. - CN Thiết kế điện hợp chuẩn nâng cao tại Trường SPKT TPHCM ngày 05/11/2018. | BR14: x
A15: 09 | B15: Lê Tiến Đạt | C15: X | E15: X | F15: Nam | G15: Đồng Nai | H15: 13/03/1976 | I15: Khoa Điện - Điện tử | J15: Khoa Điện - Điện tử | K15: 022999157 | L15: 14/01/2005 | M15: CA.TPHCM | N15: Kinh | O15: Thiên chúa | P15: Tỉnh Hà Nam | Q15: 453/47 KA Lê Văn Sĩ, P12, Q3 | S15: 0909888219 | U15: 0203318106 | W15: 01/09/2003 | X15: Sở GDĐT TPHCM | Y15: 01/09/2003 | Z15: Biên chế | AA15: 01/09/2003 | AB15: GV | AC15: Giảng viên | AH15: 12/12 | AI15: THPT | AJ15: THS | AK15: - Thạc sỹ - Đại học | AL15: - Tự động hóa - KT Điện - Điện tử | AM15: - Trường ĐH Giao thông vận tải TPHCM - Trường ĐH SPKT TPHCM | AN15: - 20/10/2014 - 15/9/2000 | AO15: x | AP15: SP Bậc 2 | AQ15: 15/9/2000 | AR15: Trường ĐH SPKT TPHCM | AS15: Chứng chỉ nghề Điện công nghiệp bậc 3/7 | AT15: 28/12/2017 | AU15: Trường CĐ Lý Tự Trọng TPHCM | AV15: x | AX15: UD CNTT CB | AY15: 43294 | AZ15: Trường ĐH Trà Vinh | BA15: UD CNTT CB | BC15: - B1 - B | BD15: B1 | BE15: - 31/10/2019 - 15/1/2000 | BF15: - Trường ĐH GTVT TPHCM - Học viện CTQG TPHCM | BG15: B1 | BQ15: - BD GV chính (hạng II) tại Trường ĐH SP TPHCM ngày 15/5/2019 - CC Lắp ráp máy tính tại Trường ĐH SPKT TPHCM ngày 25/10/1999. - CC Triết học, LL dạy học ĐH, PP NCKH tại Trường ĐH SPKT TPHCM ngày 22/8/2007. - CN Lập trình PLC S7-300, S7-400 ứng dụng trong hệ thống CN tại Trường ĐH SPKT TPHCM ngày 5/11/2018. - CN UD CNTT trong giang dạy kỹ thuật tại Trường ĐH SPKT TPHCM ngày 31/3/2012. | BR15: x
A16: 10 | B16: Mạnh Lê Hoàn | C16: X | E16: X | F16: Nam | G16: Phú Yên | H16: 14/10/1979 | I16: Khoa Điện - Điện tử | J16: Khoa Điện - Điện tử | K16: 023205612 | L16: 23/03/2008 | M16: CA TPHCM | N16: Kinh | O16: Không | P16: Huyện Đồng Xuân, Tỉnh Phú Yên | Q16: 200/41 Hoàng Hoa Thám P5, Q.Bình Thạnh | S16: 01272777707 | T16: manhlehoan@gmail.com | U16: #N/A | W16: 01/09/2003 | X16: Sở GDĐT TPHCM | Y16: 18/07/2007 | Z16: Biên chế | AA16: 31/08/2004 | AB16: GV | AC16: Giảng viên | AH16: 12/12 | AI16: THPT | AJ16: THS | AK16: - Thạc sỹ - Đại học | AL16: - Kỹ thuật Điều khiển và Tự động hóa - Điện tự động điều khiển | AM16: - Trường ĐH Giao thông vận tải TPHCM - Trường ĐH GTVT TPHCM | AN16: - 5/12/2013 - 2/6/2003 | AO16: x | AP16: Sư phạm dạy nghề cho GV dạy trình độ TC nghề, GV dạy trình độ CĐ nghề. | AQ16: 07/9/2015 | AR16: Trường CĐ Nghề TPHCM | AS16: Chứng chỉ nghề Tự động hóa bậc 3/7 | AT16: 28/12/2017 | AU16: Trường CĐ Lý Tự Trọng TPHCM | AV16: x | BC16: C | BD16: B1 | BE16: 17/04/2002 | BF16: Viện ĐH Mở Hà Nội | BG16: C | BQ16: - CC LL DH & GD tại Trường ĐH SP TPHCM ngày 10/9/2003. - CC Triết học, LL DH ĐH tại Trường SPKT TPHCM ngày 16/10/2007 - CC Thiết kế điện công trình dân dụng và công nghiệp tại Sở XD ngày 27/8/2010. | BR16: x
A17: 11 | B17: Ngô Hoàng Anh | C17: X | E17: X | F17: Nam | G17: Quảng Hoà - Quảng Trạch - Quảng Bình | H17: 20/10/1976 | I17: Khoa Điện - Điện tử | J17: Khoa Điện - Điện tử | K17: 024951998 | L17: 10/01/2009 | M17: CA. TPHCM | N17: Kinh | O17: Không | P17: Xã Quảng Hòa, Huyện Quảng Trạch, Tỉnh Quảng Bình | Q17: 51 Đường số 6, P. Bình An, Q.2 | S17: 0903966016 | T17: thshoanganh@gmail.com | U17: 0201155205 | W17: 01/09/2001 | X17: Sở GDĐT TPHCM | Y17: 01/09/2000 | Z17: Biên chế | AA17: 01/09/2000 | AB17: GV | AC17: Giảng viên | AH17: 12/12 | AI17: THPT | AJ17: THS | AK17: - Thạc sỹ - Đại học | AL17: - Thiết bị, mạng, nhà máy điện - Điện khí hóa và cung cấp điện | AM17: - Trường ĐH SP Kỹ thuật TPHCM - Trường ĐH SP Kỹ thuật TPHCM | AN17: - 04/04/2006 - 05/04/1999 | AO17: - Đã có - Đã có | AP17: - SP Bậc 2 | AQ17: -21/03/1999 | AR17: - Trường ĐH SP Kỹ thuật TPHCM | AS17: - Chứng chỉ nghề bậc 3/7 | AT17: -28/12/2017 | AU17: - Trường CĐ Lý Tự Trọng TPHCM | AX17: TH UDCB | AY17: -20/10/2018 | AZ17: Trường CĐ Lý Tự Trọng TPHCM | BA17: UD CNTT CB | BC17: B | BD17: A2 | BE17: 20/06/2000 | BF17: Trường Đại học Lạc Hồng | BG17: A2 | BH17: Sơ cấp | BQ17: - Bồi dưỡng nhận thức về Đảng cho đối tượng phát triển Đảng khóa III/2011 của TT Bồi dưỡng Chính trị Quận 3 ngày 18/07/2011. - Chứng nhận UD CNTT trong GD Kỹ thuật do dự án phát triển GV THPT và TCCN và ĐH SPKT TPHCM của ĐH SPKT TPHCM từ ngày 26/03 đến 31/03/2016. | BR17: x
A18: 12 | B18: Ngô Phong Cường | C18: X | E18: X | F18: Nam | G18: Thừa Thiên Huế | H18: 20/09/1968 | I18: Khoa Điện - Điện tử | J18: Khoa Điện - Điện tử | K18: 046068000245 | L18: 06/02/2018 | M18: Cục Cảnh sát Đăng ký quản lý cư trú | N18: Kinh | O18: Không | P18: Huyện Hương Thủy, Tỉnh Thừa Thiên - Huế | Q18: 737/46 Lạc Long Quân, Phường 10, Quận Tân Bình, TPHCM | S18: 0918196341 | T18: phongcuong04@yahoo.com.vn | U18: 0204124288 | W18: 01/09/2007 | X18: Sở GDĐT TPHCM | Y18: 01/09/2007 | Z18: Hợp đồng không thời hạn | AA18: 01/09/2007 | AB18: GV | AC18: Giảng viên | AH18: 12/12 | AI18: THPT | AJ18: THS | AK18: - Thạc sỹ - Đại học | AL18: - Kỹ thuật Cơ Điện tử - Kỹ thuật Điện - Điện tử | AM18: - Trường ĐH Công nghệ TPHCM - Trường ĐH SPKT TPHCM | AN18: - 14/2/2014 - 10/9/2001 | AO18: x | AP18: SP Bậc 2 | AQ18: 10/9/2001 | AR18: Trường ĐH SPKT TPHCM | AS18: Chứng chỉ nghề Tự động hóa bậc 3/7 | AT18: 28/12/2017 | AU18: Trường CĐ Lý Tự Trọng TPHCM | AV18: x | AX18: UD CNTT CB | AY18: 43294 | AZ18: Trường ĐH Trà Vinh | BA18: UD CNTT CB | BC18: - B1 - B | BD18: B1 | BE18: - 19/01/2013 - 01/6/2001 | BF18: - Trường ĐH Kỹ thuật Công nghệ TPHCM - Viện ĐH Mở HN | BG18: B1 | BH18: Sơ cấp | BI18: 22/8/2016 | BJ18: TT BD Chính trị Q. Tân Bình | BQ18: - CC SD CN mạng PLC và Scada của Rockwell Automation tại Trường SPKT TPHCM ngày 05/11/2018 | BR18: x
A19: 13 | B19: Nguyễn Anh Tăng | C19: X | E19: X | F19: Nam | G19: TPHCM | H19: 31/08/1967 | I19: Khoa Điện - Điện tử | J19: Khoa Điện - Điện tử | K19: 023624194 | L19: 19/03/2013 | M19: CA TPHCM | N19: Kinh | O19: Không | P19: Xã Đại Hòa, Huyện Đại Lộc, Tỉnh Quảng Nam | Q19: 350/18/46 Lê Đức Thọ, Phường 6, Quận Gò Vấp, TPHCM | S19: 0916675678 | T19: nguyenanhtang@yahoo.com | U19: 0201155204 | W19: 01/09/2001 | X19: Sở GDĐT TPHCM | Y19: 01/09/2001 | Z19: Biên chế | AA19: 01/09/2001 | AB19: GV | AC19: Giảng viên | AH19: 12/12 | AI19: THPT | AJ19: THS | AK19: - Thạc sỹ - Đại học | AL19: - Thiết bị, mạng & Nhà máy điện - Điện khí hóa & CC điện | AM19: - Trường ĐH Bách khoa TPHCM - Trường ĐH Kỹ thuật TPHCM | AN19: - 26/3/2007 - 25/9/1998 | AO19: x | AP19: SP Bậc 2 | AQ19: 30/9/1998 | AR19: Trường ĐH SPKT TPHCM | AS19: Chứng chỉ nghề Điện công nghiệp bậc 3/7 | AT19: 28/12/2017 | AU19: Trường CĐ Lý Tự Trọng TPHCM | AV19: x | AX19: TH UDCB | AY19: 43393 | AZ19: Trường CĐ Lý Tự Trọng TPHCM | BA19: UD CNTT CB | BC19: - C - Toeic 625 | BD19: B2 | BE19: - 26/3/2007 - 24/02/2019 | BF19: - Trường ĐH Bách khoa TPHCM - IIG | BG19: B2 | BH19: Sơ cấp | BI19: 22/8/2016 | BJ19: TT BD CT Quận Tân Bình | BQ19: - BD GV chính (hạng II) tại Trường ĐH SP TPHCM ngày 15/5/2019. - Thiết kế điện hợp chuẩn nâng cao tại Trường ĐH SPKT TPHCM ngày 5/11/2018. - Thiết kế hệ thống điện hợp chuẩn cho các tòa nhà tại Trường ĐH SPKT TPHCM ngày 29/12/2017. - CN PP Giảng dạy ĐH tại Trường ĐH SP TPHCM ngày 17/6/2006. | BR19: x
A20: 14 | B20: Nguyễn Hồng Đức | C20: X | E20: X | F20: Nam | G20: Sai gon | H20: 21/02/1971 | I20: Khoa Điện - Điện tử | J20: Khoa Điện - Điện tử | K20: 022228240 | L20: 09/08/2005 | M20: CA TPHCM | N20: Kinh | O20: Không | P20: Xã Bình Phú, Huyện Cai Lậy, Tỉnh Tiền Giang | Q20: 219/3/1 Lê Quang Định, P7, Bình Thạnh | S20: 0903833923 | T20: hongduc2102@yahoo.com | U20: 0296241670 | W20: 01/01/1996 | X20: Sở GDĐT TPHCM | Y20: 31/12/1990 | Z20: Biên chế | AA20: 30/12/1990 | AB20: GV | AC20: Giảng viên | AH20: 12/12 | AI20: THPT | AJ20: DH | AK20: Đại học | AL20: Điện công nghiệp | AM20: Trường ĐH Bách khoa TPHCM | AN20: 15/4/1996 | AO20: x | AP20: SP Bậc 2 | AQ20: 26/11/1996 | AR20: Trường ĐH SPKT TPHCM | AS20: - CN Kỹ năng nghề Quốc gia nghề Điện tử công nghiệp bậc 3 - Chứng chỉ nghề Điện tử 3/7 | AT20: - 9/10/2018 - 20/7/1990 | AU20: - Tổng cục GDNN - Trường CĐ Lý Tự Trọng TPHCM | AV20: x | AW20: x | AX20: - A - TH UDCB | AY20: - 4/5/1998 - 20/10/2018 | AZ20: - Trường ĐH SP TPHCM - Trường CĐ Lý Tự Trọng TPHCM | BA20: A | BC20: B | BD20: A2 | BE20: 07/05/2019 | BF20: Trường CĐ Lý Tự Trọng TPHCM | BG20: B1 | BH20: Sơ cấp | BI20: 22/8/2016 | BJ20: TT BD CT Quận Tân Bình | BQ20: - BD GV chính (hạng II) tại Trường ĐH SP TPHCM ngày 15/5/2019 - Thiết kế hệ thống cơ điện ứng dụng phần mềm Revit MEP tại Trường ĐH SPKT TPHCM ngày 29/12/2017 - CC Kỹ năng dạy lý thuyết tại Viện nghiên cứu phát triển GD ngày 14/9/2001. | BR20: x
A21: 15 | B21: Nguyễn Minh Đức | C21: X | E21: X | F21: Nam | G21: Đà Lạt | H21: 19/02/1960 | I21: Khoa Điện - Điện tử | J21: Khoa Điện - Điện tử | K21: 068060000066 | L21: 05/01/2019 | M21: Cục Cảnh sát Đăng ký quản lý cư trú | N21: Kinh | O21: Thiên chúa | P21: Huyện Lương Tài, Tỉnh Bắc Ninh | Q21: 438 Điện Biên Phủ, P17, Bình Thạnh | S21: 0908 042 421 | T21: nguyenminh_do@yahoo.com | U21: #N/A | W21: 01/10/1987 | X21: Sở GDĐT TPHCM | Y21: 01/10/1987 | Z21: Biên chế | AA21: 01/10/1987 | AB21: GV | AC21: Giảng viên | AH21: 12/12 | AI21: THPT | AJ21: DH | AK21: Đại học | AL21: Điện tử công nghiệp | AM21: Trường ĐH SPKT TPHCM | AN21: 28/9/1989 | AO21: Chưa có | AP21: Kỹ sư giáo dục | AQ21: 28/9/1989 | AR21: Trường ĐH SPKT TPHCM | AX21: TH UDCB | AY21: 43393 | AZ21: Trường CĐ Lý Tự Trọng TPHCM | BA21: UD CNTT CB | BC21: - A - B | BD21: A2 | BE21: - 25/4/1995 - 09/05/1994 | BF21: - Trường ĐH SPKT TPHCM - Trường ĐH Tổng hợp TPHCM | BG21: B | BH21: Sơ cấp | BI21: 22/8/2016 | BJ21: TT BD CT Quận Tân Bình | BQ21: - CC Kỹ năng dạy lý thuyết tại Viện Nghiên cứu Phát triển giáo dục ngày 14/9/2001. - CC Đào tạo và BD nghề Quản lý chất lượng tại CH Liên bang Đức ngày 7/10/1998. | BR21: x
A22: 16 | B22: Nguyễn Minh Đức | C22: X | E22: X | F22: Nam | G22: Gia Định | H22: 03/12/1966 | I22: Khoa Điện - Điện tử | J22: Khoa Điện - Điện tử | K22: 021684792 | L22: 27/05/2015 | M22: CA TPHCM | N22: Kinh | O22: Thiên chúa | P22: Huyện Lương Tài, Tỉnh Bắc Ninh | Q22: 511/6 Tổ 115, Đường Thống Nhất, Phường 16, Quận Gò Vấp, TPHCM | S22: 0988896877 | T22: ducsavie2003@yahoo.com | U22: #N/A | W22: 01/09/1998 | X22: Sở GDĐT TPHCM | Y22: 01/09/1998 | Z22: Biên chế | AA22: 01/09/1998 | AB22: GV | AC22: Giảng viên | AH22: 12/12 | AI22: THPT | AJ22: DH | AK22: Đại học | AL22: Tự động | AM22: Trường ĐH SPKT TPHCM | AN22: 10/9/1989 | AO22: x | AP22: - Sư phạm dạy nghề dành cho GV dạy trình độ TC nghề, CĐ nghề - SP bậc 1 | AQ22: - 7/9/2015 - 15/11/2001 | AR22: - 'Trường CĐ Nghề TPHCM - Trường ĐH SPKT TPHCM | AS22: Chứng chỉ nghề Tự động hóa bậc 3/7 | AT22: 28/12/2017 | AU22: Trường CĐ Lý Tự Trọng TPHCM | AV22: x | AX22: TH UDCB | AY22: 43393 | AZ22: Trường CĐ Lý Tự Trọng TPHCM | BA22: UD CNTT CB | BC22: - Trung cấp - B(2019) | BD22: B1 | BE22: - 29/5/1992 - 07/05/2019 | BF22: - Trường ĐH SP TPHCM | BG22: TC | BH22: Sơ cấp | BI22: 22/8/2016 | BJ22: TT BD CT Quận Tân Bình | BQ22: - CC Kỹ năng dạy lý thuyết tại Viện nghiên cứu phát triển GD ngày 14/9/2001. - CC SD CN mạng PLC và Scada của Rockwell Automation tại Trường SPKT TPHCM ngày 05/11/2018. - CC LL dạy học ĐH tại Trường ĐH SPKT TPHCM ngày 16/10/2007. | BR22: x
A23: 17 | B23: Nguyễn Minh Đức Cường | C23: X | E23: X | F23: Nam | G23: Kiên Giang | H23: 19/01/1985 | I23: Khoa Điện - Điện tử | J23: Khoa Điện - Điện tử | K23: 025633696 | L23: 20/06/2012 | M23: CA. TPHCM | N23: Kinh | O23: Thiên chúa | P23: Quận 3, Thành phố Hồ Chí Minh | Q23: 10/6A ấp Mỹ Hòa 3, xã Tân Xuân, huyện Hóc Môn, TPHCM | S23: 0988847874 | T23: duccuong852002@yahoo.com | U23: 7911094459 | W23: 01/09/2010 | X23: Sở GDĐT TPHCM | Y23: 01/09/2010 | Z23: Hợp đồng không thời hạn | AA23: 01/09/2010 | AB23: GV | AC23: Giảng viên | AH23: 12/12 | AI23: THPT | AJ23: THS | AK23: - Thạc sỹ - Đại học | AL23: - Kỹ thuật Điện - Điện khí hóa & CC điện | AM23: Trường ĐH SPKT TPHCM | AN23: - 20/4/2013 - 22/4/2008 | AO23: x | AP23: SP Bậc 2 | AQ23: 22/4/2008 | AR23: Trường ĐH SPKT TPHCM | AS23: Chứng chỉ nghề Điện công nghiệp bậc 3/7 | AT23: 28/12/2017 | AU23: Trường CĐ Lý Tự Trọng TPHCM | AV23: x | AX23: - A - TH UDCB | AY23: - 5/9/2007 - 20/10/2018 | AZ23: - Trường ĐH SPKT TPHCM - Trường CĐ Lý Tự Trọng TPHCM | BA23: A | BC23: - B1 - B | BD23: B1 | BE23: - 28/08/2012 - 6/9/2007 | BF23: - Trường ĐH SPKT TPHCM - Trường CĐ KT KT Công nghiệp II | BG23: B1 | BH23: Sơ cấp | BI23: 22/8/2016 | BJ23: TT BD CT Quận Tân Bình | BQ23: - BD GV chính (hạng II) tại Trường ĐH SP TPHCM ngày 15/5/2019 - Thiết kế điện hợp chuẩn nâng cao tại Trường ĐH SPKT TPHCM ngày 5/11/2018. - Thiết kế hệ thống điện hợp chuẩn cho các tòa nhà tại Trường ĐH SPKT TPHCM ngày 29/12/2017. - CN Điều khiển lập trình PLC tại Trường ĐH SPKT TPHCM ngày 4/5/2006. - CC Kỹ thuật điều khiển lập trình PLC SIMATIC S7-300 System Handling tại Trường ĐH SPKT TPHCM ngày 16/5/2006. | BR23: x
A24: 18 | B24: Nguyễn Thị Ngọc Hiền | C24: X | E24: X | F24: Nữ | G24: Xã Giao Long, Châu Thành, Bến Tre | H24: 22/10/1978 | I24: Khoa Điện - Điện tử | J24: Khoa Điện - Điện tử | K24: 024346476 | L24: 16/03/2005 | M24: CA TPHCM | N24: Kinh | O24: Không | P24: Xã Qưới Sơn, Huyện Châu Thành, Tỉnh Bến Tre | Q24: 51/10/12 Cao Thắng, P3, Q3 | S24: 0919422710 | T24: ngochien782003@yahoo.com | U24: 0203318107 | W24: 01/09/2003 | X24: Sở GDĐT TPHCM | Y24: 01/09/2003 | Z24: Biên chế | AA24: 01/09/2003 | AB24: GV | AC24: Giảng viên | AH24: 12/12 | AI24: THPT | AJ24: DH | AK24: Đại học | AL24: Vật lý | AM24: Trường ĐH KHTN TPHCM | AN24: 4/9/2001 | AO24: x | AP24: - SP Bậc 2 - NVSP dành cho GV CĐ, ĐH | AQ24: - 15/3/2005 - 30/10/2019 | AR24: - Trường ĐH SPKT TPHCM - Trường ĐH SP HN 2 | AS24: Chứng chỉ nghề Điện tử công nghiệp bậc 3/7 | AT24: 28/12/2017 | AU24: Trường CĐ Lý Tự Trọng TPHCM | AV24: x | AX24: TH UDCB | AY24: 43393 | AZ24: Trường CĐ Lý Tự Trọng TPHCM | BA24: UD CNTT CB | BC24: - B - Đại học | BD24: C1 | BE24: - 12/12/2000 - 26/04/2013 | BF24: - Trường ĐH SP TPHCM - Trường ĐH Ngoại ngữ - Hà Nội | BG24: DH | BH24: Sơ cấp | BI24: 22/8/2016 | BJ24: TT BD CT Quận Tân Bình | BQ24: - CC Triết học, LL dạy học ĐH, PP NCKH tại Trường ĐH SPKT TPHCM ngày 16/10/2007. | BR24: x
A25: 19 | B25: Nguyễn Thị Tố Nga | C25: X | E25: X | F25: Nữ | G25: Biên Hòa | H25: 02/01/1980 | I25: Khoa Điện - Điện tử | J25: Khoa Điện - Điện tử | K25: 025602565 | L25: 15/05/2012 | M25: CA. TPHCM | N25: Kinh | O25: Không | P25: Nam Định | Q25: 159/97/5 Trần Văn Đang, P11, Q3 | S25: 0984540244 | T25: tongaltt@yahoo.com | U25: 0203318103 | W25: 01/09/2003 | X25: Sở GDĐT TPHCM | Y25: 01/09/2003 | Z25: Biên chế | AA25: 01/09/2003 | AB25: GV | AC25: Giảng viên | AH25: 12/12 | AI25: THPT | AJ25: THS | AK25: - Thạc sỹ - Đại học | AL25: - Tự động hóa - KT Điện - Điện tử | AM25: - Trường ĐH Giao thông vận tải TPHCM - Trường ĐH SPKT TPHCM | AN25: - 4/5/2012 - 24/4/2003 | AO25: x | AP25: SP Bậc 2 | AQ25: 24/4/2003 | AR25: Trường ĐH SPKT TPHCM | AS25: - CN Kỹ năng nghề Quốc gia nghề Điện tử công nghiệp bậc 3 - Chứng chỉ nghề Điện tử công nghiệp bậc 5/7 | AT25: - 9/10/2018 - 10/3/2017 | AU25: - Tổng cục GDNN - Trường CĐ Nghề TPHCM | AV25: x | AW25: x | AX25: - B - UD CNTT CB | AY25: - 23/12/2011 - 13/7/2018 | AZ25: - Trường ĐH CNTT TPHCM - Trường ĐH Trà Vinh | BA25: UD CNTT CB | BC25: - B1 - B | BD25: B1 | BE25: - 19/12/2013 - 18/3/2016 | BF25: - Trường ĐH GTVT TPHCM - Trường CĐ Nghề Hàng hải TPHCM | BG25: B1 | BH25: Sơ cấp | BI25: 22/8/2016 | BJ25: TT BD CT Quận Tân Bình | BQ25: - BD GV chính (hạng II) tại Trường ĐH SP TPHCM ngày 15/5/2019 | BR25: x
A26: 20 | B26: Nguyễn Thùy Linh | C26: X | E26: X | F26: Nữ | G26: TPHCM | H26: 03/02/1986 | I26: Khoa Điện - Điện tử | J26: Khoa Điện - Điện tử | K26: 079186007086 | L26: 03/04/2017 | M26: Cục Cảnh sát đăng ký quản lý cư trú | N26: Kinh | O26: Không | P26: Xã Yên Trung, Huyện Ý Yên, Tỉnh Nam Ðịnh | Q26: 238/15 hoàng Văn Thụ, Phường 4, Quận Tân Bình, TPHCM | S26: 0909323207 | U26: 7910171247 | W26: 01/09/2009 | X26: Sở GDĐT TPHCM | Y26: 01/09/2009 | Z26: Hợp đồng không thời hạn | AA26: 01/09/2009 | AB26: GV | AC26: Giảng viên | AH26: 12/12 | AI26: THPT | AJ26: THS | AK26: - Thạc sỹ - Đại học | AL26: - Kỹ thuật Điện - Điện khí hóa & CC điện | AM26: Trường ĐH SPKT TPHCM | AN26: - 01/7/2013 - 20/5/2009 | AO26: x | AP26: SP Bậc 2 | AQ26: 10/4/2009 | AR26: Trường ĐH SPKT TPHCM | AS26: Chứng chỉ nghề Điện công nghiệp bậc 3/7 | AT26: 28/12/2017 | AU26: Trường CĐ Lý Tự Trọng TPHCM | AV26: x | AX26: TH UDCB | AY26: 43393 | AZ26: Trường CĐ Lý Tự Trọng TPHCM | BA26: UD CNTT CB | BC26: B1 | BD26: B1 | BE26: 28/08/2012 | BF26: Trường ĐH SPKT TPHCM | BG26: B1 | BH26: Sơ cấp | BI26: 22/8/2016 | BJ26: TT BD CT Quận Tân Bình | BQ26: - BD GV chính (hạng II) tại Trường ĐH SP TPHCM ngày 15/5/2019 - Lập trình PLC S7-300, S7-400 ứng dụng trong hệ thống CN PLC S7-300, S7-400 and Scada System for Industry tại Trường ĐH SPKT TPHCM ngày 5/11/2018. | BR26: x
A27: 21 | B27: Nguyễn Trần Thanh Nhàn | C27: X | E27: X | F27: Nữ | G27: TP.HCM | H27: 15/07/1979 | I27: Khoa Điện - Điện tử | J27: Khoa Điện - Điện tử | K27: 023273100 | L27: 15/11/2011 | M27: CA TPHCM | N27: Kinh | O27: Không | P27: Tỉnh Nam Ðịnh | Q27: 166/21 Hồ Bá Kiện, Phường 15, Quận 10 | S27: 0908832047 | T27: hainhan66@yahoo.com | U27: 0202201605 | W27: 01/09/2002 | X27: Sở GDĐT TPHCM | Y27: 01/09/2002 | Z27: Biên chế | AA27: 01/09/2002 | AB27: GV | AC27: Giảng viên | AH27: 12/12 | AI27: THPT | AJ27: DH | AK27: Đại học | AL27: Kỹ thuật điện và điện tử | AM27: Trường ĐH SPKT TPHCM | AN27: 12/9/2002 | AO27: x | AP27: SP Bậc 2 | AQ27: 16/9/2000 | AR27: Trường ĐH SPKT TPHCM | AS27: Chứng chỉ nghề Điện tử công nghiệp bậc 3/7 | AT27: 28/12/2017 | AU27: Trường CĐ Lý Tự Trọng TPHCM | AV27: x | AX27: - A - UD CNTT CB | AY27: - 14/1/2002 - 20/10/2018 | AZ27: - Trường ĐH SP TPHCM - Trường CĐ Lý Tự Trọng TPHCM | BA27: A | BC27: - A - B | BD27: A2 | BE27: - 12/8/2003 - 23/02/2019 | BF27: - Trường ĐH SP TPHCM - Trường CĐ Lý Tự Trọng TPHCM | BG27: B | BH27: Sơ cấp | BI27: 27/8/2016 | BJ27: TT BD Chính trị Quận Tân Bình | BR27: x
A28: 22 | B28: Nguyễn Văn Yên | C28: X | E28: X | F28: Nam | G28: TPHCM | H28: 25/06/1973 | I28: Khoa Điện - Điện tử | J28: Khoa Điện - Điện tử | K28: 079073005167 | L28: 27/04/2017 | M28: Cục Cảnh sát đăng ký quản lý cư trú | N28: Kinh | O28: Không | P28: Xã Trung Lập Thượng, Huyện Củ Chi, Thành phố Hồ Chí Minh | Q28: Tổ 7, ấp Vân Hàn, Xã Trung Lập Thượng, Củ Chi, TPHCM | S28: 0918059147 | T28: ngvanyenltt@yahoo.com | U28: 0299118225 | W28: 01/09/1999 | X28: Sở GDĐT TPHCM | Y28: 01/09/1999 | Z28: Biên chế | AA28: 01/08/2010 | AB28: GV | AC28: Giảng viên | AF28: 19/05/2009 | AG28: X | AH28: 12/12 | AI28: THPT | AJ28: THS | AK28: - Thạc sỹ - Đại học | AL28: - Thiết bị, mạng và nhà máy điện - Điện khí hóa & CC điện | AM28: Trường ĐH SPKT TPHCM | AN28: - 25/5/2010 - 30/9/1998 | AO28: chưa có | AP28: - Sư phạm dạy nghề dành cho GV dạy trình độ TC nghề, CĐ nghề - SP bậc 1 | AQ28: - 7/9/2015 - 30/9/1998 | AR28: - 'Trường CĐ Nghề TPHCM - Trường ĐH SPKT TPHCM | AS28: Chứng chỉ nghề Điện xí nghiệp bậc 3/7 | AT28: 27/9/1994 | AU28: Trường CĐ Lý Tự Trọng TPHCM | AV28: x | AX28: TH UDCB | AY28: 43393 | AZ28: Trường CĐ Lý Tự Trọng TPHCM | BA28: UD CNTT CB | BC28: C | BD28: B1 | BE28: 24/03/1998 | BF28: Trường CĐ SP TPHCM | BG28: C | BH28: Trung cấp | BN28: BD CBCCNN ngành GDĐT | BO28: 4/2/2004 | BP28: Trường CB QLGD - ĐT II | BQ28: - BD GV chính (hạng II) tại Trường ĐH SP TPHCM ngày 15/5/2019. - CN Phát triển chương trình và tài liệu hướng tại Trường ĐH SPKT TPHCM ngày 24/9/2005. - Thiết kế điện hợp chuẩn nâng cao tại Trường ĐH SPKT TPHCM ngày 5/11/2018. - CC Kỹ năng dạy lý thuyết tại Viện nghiên cứu phát triển GD ngày 14/9/2001. - CC Triết học, PP NC KH, LL dạy học ĐH tại Trường ĐH SPKT TPHCM ngày 01/10/2008. - CN PP dạy học bộ môn tại Hưng Yên ngày 18/7/2003. - CC Các PP và phương thức ĐT mới cho GV KT và dạy nghề tại Trường ĐH SPKT TPHCM ngày 30/12/2005. | BR28: x
A29: 23 | B29: Tăng Cẩm Huê | C29: X | E29: X | F29: Nữ | G29: Trung Quốc | H29: 07/11/1977 | I29: Khoa Điện - Điện tử | J29: Khoa Điện - Điện tử | K29: 023179583 | L29: 12/11/2008 | M29: CA TPHCM | N29: Hoa | O29: Không | P29: Trung Quốc | Q29: 689 Âu Cơ, P.Tân Thành, Q.Tân Phú | S29: 0906649728 | T29: 2engjinhua@yahoo.com | U29: 0201036366 | W29: 01/09/2002 | X29: Sở GDĐT TPHCM | Y29: 01/09/2002 | Z29: Biên chế | AA29: 01/09/2002 | AB29: GV | AC29: Giảng viên | AH29: 12/12 | AI29: THPT | AJ29: DH | AK29: Đại học | AL29: Kỹ thuật điện và điện tử | AM29: Trường ĐH SPKT TPHCM | AN29: 10/5/2000 | AO29: x | AP29: SP Bậc 2 | AQ29: 10/5/2000 | AR29: Trường ĐH SPKT TPHCM | AS29: Chứng chỉ nghề Điện tử công nghiệp bậc 3/7 | AT29: 28/12/2017 | AU29: Trường CĐ Lý Tự Trọng TPHCM | AV29: x | AX29: TH UDCB | AY29: 43393 | AZ29: Trường CĐ Lý Tự Trọng TPHCM | BA29: UD CNTT CB | BC29: - A - B | BD29: A2 | BE29: - 22/4/2003 - 23/02/2019 | BF29: - Trường ĐH SP TPHCM - Trường CĐ Lý Tự Trọng TPHCM | BG29: B | BH29: Sơ cấp | BI29: 22/8/2016 | BJ29: TT BD Chính trị Quận Tân Bình | BQ29: - CC nghề vi tính văn phòng tại TT Dạy nghề Q. Tân Bình ngày 29/10/2000. | BR29: x
A30: 24 | B30: Trần Công Tiến | C30: X | E30: X | F30: Nam | G30: TPHCM | H30: 10/08/1972 | I30: Khoa Điện - Điện tử | J30: Khoa Điện - Điện tử | K30: 079072000577 | L30: 05/02/2016 | M30: CA TPHCM | N30: Kinh | O30: Không | P30: Xã Thạnh Trị, Huyện Gò Công Tây, Tỉnh Tiền Giang | Q30: 51/10/12 Cao Thắng, P3, Q3 | S30: 0913710780 | T30: trancongtien72@yahoo.com | U30: 0296241664 | W30: 18/05/1996 | X30: Sở GDĐT TPHCM | Y30: 18/05/1996 | Z30: Biên chế | AA30: 02/09/1995 | AB30: GV | AC30: Giảng viên | AH30: 12/12 | AI30: THPT | AJ30: DH | AK30: Đại học | AL30: Kỹ thuật điện và điện tử | AM30: Trường ĐH SPKT TPHCM | AN30: 5/9/1995 | AO30: x | AP30: - SP Bậc 2 - NVSP dành cho GV CĐ, ĐH | AQ30: - 5/9/1995 - 30/10/2019 | AR30: - Trường ĐH SPKT TPHCM - Trường ĐH SP HN | AS30: Chứng chỉ nghề Điện tử công nghiệp bậc 3/7 | AT30: 28/12/2017 | AU30: Trường CĐ Lý Tự Trọng TPHCM | AV30: x | AX30: - B - A - TH UDCB | AY30: - 23/2/1998 - 4/8/1997 - 20/10/2018 | AZ30: - Trường ĐH SP TPHCM - Trường ĐH SP TPHCM - Trường CĐ Lý Tự Trọng TPHCM | BC30: B | BD30: A2 | BE30: 07/05/2019 | BF30: Trường CĐ Lý Tự Trọng TPHCM | BG30: B | BH30: Sơ cấp | BI30: 27/8/2016 | BJ30: TT BD Chính trị Quận Tân Bình | BQ30: - CC Kỹ năng dạy lý thuyết tại Viện nghiên cứu Phát triển GD ngày 17/9/2001. - CC Triết học, PP NC KH, LL dạy học ĐH tại Trường ĐH SPKT TPHCM ngày 16/10/2007. | BR30: x
A31: 25 | B31: Trần Hiếu Trinh | C31: X | E31: X | F31: Nữ | G31: Thành phố Hồ Chí Minh | H31: 17/12/1977 | I31: Khoa Điện - Điện tử | J31: Khoa Điện - Điện tử | K31: 023070412 | L31: 04/05/2011 | M31: CA TPHCM | N31: Kinh | O31: Không | P31: Tỉnh Long An | Q31: 17/8/7 Đường số 2, KP 22, Phường Bình Hưng Hòa A, Quận Bình Tân, TPHCM | S31: 0973705860 | T31: htrinhltt@yahoo.com | U31: 0203318104 | W31: 01/09/2003 | X31: Sở GDĐT TPHCM | Y31: 01/09/2003 | Z31: Biên chế | AA31: 01/09/2003 | AB31: GV | AC31: Giảng viên | AH31: 12/12 | AI31: THPT | AJ31: DH | AK31: Đại học | AL31: Vật lý | AM31: Trường ĐH Khoa học Tự nhiên | AN31: 02/4/2001 | AO31: x | AP31: - SP Bậc 1 - SP Bậc 2 | AQ31: - 15/5/2002 - 15/3/2005 | AR31: Trường ĐH SPKT TPHCM | AX31: UD CNTT CB | AY31: 43294 | AZ31: Trường ĐH Trà Vinh | BA31: UD CNTT CB | BC31: B | BD31: A2 | BE31: 04/04/2001 | BF31: Trường ĐH Luật TPHCM | BG31: B | BH31: Sơ cấp | BI31: 22/8/2016 | BJ31: TT BD Chính trị Quận Tân Bình | BQ31: - CN nhận thức về Đảng tại Sở GDĐT TPHCM ngày 10/3/2009. | BR31: x
A32: 26 | B32: Trần Nam Anh | C32: X | E32: X | F32: Nam | G32: TPHCM | H32: 13/04/1989 | I32: Khoa Điện - Điện tử | J32: Khoa Điện - Điện tử | K32: 024255580 | L32: 31/03/2011 | M32: CA TPHCM | N32: Kinh | O32: Không | P32: Xã An Nhơn Tây, Huyện Củ Chi, Thành phố Hồ Chí Minh | Q32: Số 1233, Tỉnh lộ 7, Ấp Xóm Trại, Xã An Nhơn Tây, Huyện Củ Chi, Thành phố Hồ Chí Minh | S32: 0934051615 | U32: #N/A | W32: 01/04/2018 | X32: Sở GDĐT TPHCM | Y32: 01/4/2018 | Z32: Hợp đồng không thời hạn | AA32: 0/01/2015 | AB32: GV | AC32: Giảng viên | AH32: THPT | AI32: 12/12 | AJ32: THS | AK32: - Thạc sỹ - Đại học | AL32: - Kỹ thuật Điện - CN KT Điện - Điện tử | AM32: Trường ĐH SPKT TPHCM | AN32: - chưa có bằng - '30/7/2017 | AO32: x | AP32: Sư phạm dạy nghề cho GV dạy trình độ TC nghề, GV dạy trình độ CĐ nghề. | AQ32: 05/10/2017 | AR32: Trường CĐ Nghề TPHCM | AX32: - A - TH UDCB | AY32: - 26/9/2005 - 20/10/2018 | AZ32: - ĐH KHTN TPHCM - Trường CĐ Lý Tự Trọng TPHCM | BA32: A | BC32: - B1 - A2 - A2 | BD32: B1 | BE32: - 24/08/2018 - 3/8/2018 - 3/7/2017 | BF32: - Trường ĐH SPKT TPHCM - Trường ĐH SP TPHCM - Trường CĐ Điện lực TPHCM | BG32: B1 | BQ32: - BD GV chính (hạng II) tại Trường ĐH SP TPHCM ngày 15/5/2019 - CN Sử dụng CN Mạng PLC và SCADA của Rockwell Automation tại Trường ĐH SPKT TPHCM ngày 5/11/2018. | BR32: x
A33: 27 | B33: Trần Nguyên Bảo Trân | C33: X | E33: X | F33: Nam | G33: Thừa Thiên Huế | H33: 02/04/1977 | I33: Khoa Điện - Điện tử | J33: Khoa Điện - Điện tử | K33: 046077000191 | L33: 25/09/2017 | M33: Cục Cảnh sát đăng ký quản lý cư trú | N33: Kinh | O33: Phật | P33: Tỉnh Thừa Thiên - Huế | Q33: 34/3 Đường Cống Lở, Phường 15, Quận Tân Bình, TPHCM | S33: 0908225475 | U33: 0203083819 | W33: 01/09/2015 | X33: Sở GDĐT TPHCM | Y33: 01/09/2015 | Z33: Hợp đồng không thời hạn | AA33: 01/09/2015 | AB33: TBM | AC33: Trưởng Bộ môn Cơ điện tử và Tự động hóa | AD33: 01/01/2020 | AH33: 12/12 | AI33: THPT | AJ33: THS | AK33: - Thạc sỹ - Đại học | AL33: - Điều khiển học kỹ thuật - KT Điện - Điện tử | AM33: - Trường ĐH Bách khoa TPHCM - Trường ĐH Kỹ thuật TPHCM | AN33: - 04/4/2005 - 25/4/1999 | AO33: x | AP33: - Sư phạm dạy nghề dành cho GV giảng dạy TC nghề, CĐ nghề | AQ33: 26/9/2016 | AR33: Trường CĐ Nghề TPHCM | AS33: Chứng chỉ nghề Tự động hóa bậc 3/7 | AT33: 28/12/2017 | AU33: Trường CĐ Lý Tự Trọng TPHCM | AV33: x | AX33: A | AY33: 37714 | AZ33: Trường ĐH KHTN TPHCM | BA33: A | BC33: - A - C | BD33: B1 | BE33: - 7/10/2002 - 13/10/1999 | BF33: - Trường ĐH Luật TPHCM - Sở GDĐT TPHCM | BG33: C | BH33: Sơ cấp | BI33: 22/8/2016 | BJ33: TT BD Chính trị Quận Tân Bình | BQ33: - BD GV chính (hạng II) tại Trường ĐH SP TPHCM ngày 15/5/2019 | BR33: x
A34: 28 | B34: Trần Trung Hiếu | C34: X | E34: X | F34: Nam | G34: TP. Hồ Chí Minh | H34: 28/02/1978 | I34: Khoa Điện - Điện tử | J34: Khoa Điện - Điện tử | K34: 023172993 | L34: 28/04/2009 | M34: CA TPHCM | N34: Kinh | O34: Không | P34: Phường Tân Thành, Quận Tân Phú, Thành phố Hồ Chí Minh | Q34: 05 Ngô Quyền, P.Tân Thành, Q.Tân Phú | S34: 0919490816 | T34: IRIS_th2006@yahoo.com | U34: 0202201602 | W34: 01/09/2002 | X34: Sở GDĐT TPHCM | Y34: 01/09/2002 | Z34: Biên chế | AA34: 01/09/2002 | AB34: GV | AC34: Giảng viên | AH34: 12/12 | AI34: THPT | AJ34: DH | AK34: Đại học | AL34: Điện khí hóa và cung cấp điện | AM34: Trường ĐH SPKT TPHCM | AN34: 15/5/2002 | AO34: x | AP34: SP Bậc 2 | AQ34: 15/5/2002 | AR34: Trường ĐH SPKT TPHCM | AS34: Chứng chỉ nghề Điện xí nghiệp bậc 3/7 | AT34: 29/3/1997 | AU34: Trường CĐ Lý Tự Trọng TPHCM | AV34: x | AX34: UD CNTT CB | AY34: 43294 | AZ34: Trường ĐH Trà Vinh | BA34: UD CNTT CB | BC34: B | BD34: A2 | BE34: 23/02/2019 | BF34: Trường CĐ Lý Tự Trọng TPHCM | BG34: B | BH34: Sơ cấp | BI34: 22/8/2016 | BJ34: TT BD Chính trị Quận Tân Bình | BQ34: - Thiết kế điện hợp chuẩn nâng cao tại Trường ĐH SPKT TPHCM ngày 5/11/2018. - Phương pháp nghiên cứu khoa học tại Trường ĐH SPKT TPHCM ngày 22/8/2007. | BR34: x
A35: 29 | B35: Vũ Hạnh Chiêu | C35: X | E35: X | F35: Nữ | G35: TPHCM | H35: 10/03/1982 | I35: Khoa Điện - Điện tử | J35: Khoa Điện - Điện tử | K35: 024280248 | L35: 03/11/2005 | M35: CA.TPHCM | N35: Kinh | O35: Thiên chúa | P35: Thành phố Hải Phòng | Q35: 52/12A Nguyễn Sỹ Sách, Phường 15, Quận Tân Bình, TPHCM | S35: 0909305082 | T35: chieuhanhvu@yahoo.com | U35: 0205361857 | W35: 01/09/2005 | X35: Sở GDĐT TPHCM | Y35: 01/09/2008 | Z35: Hợp đồng không thời hạn | AA35: 01/09/2005 | AB35: GV | AC35: Giảng viên | AH35: 12/12 | AI35: THPT | AJ35: THS | AK35: -Thạc sỹ -Đại học | AL35: - Kỹ thuật điện - Điện khí hóa và cung cấp điện | AM35: - Trường ĐH Kỹ thuật Công nghệ TPHCM - Trường ĐH SP Kỹ thuật TPHCM | AN35: - 04/6/2013 - 28/4/2005 | AO35: - Đã có - Đã có | AP35: - Sư phạm dạy nghề | AQ35: 07/09/2015 | AR35: Trường CĐ nghề TPHCM | AS35: Trung học nghề 3/7 | AT35: 10/10/2000 | AU35: Trường TH Kỹ thuật Lý Tự Trọng TPHCM | AX35: Tin học UDCB | AY35: 20/10/2018 | AZ35: Trường CĐ Lý Tự Trọng TPHCM | BC35: Đại học | BD35: C1 | BE35: 11/11/2011 | BF35: Trường D9H KHXH và NV | BG35: DH | BH35: Sơ cấp | BQ35: - BD GV chính (hạng II) tại Trường ĐH SP TPHCM ngày 15/05/2019 - Chứng chỉ Lý luận dạy học và giáo dục của Trường ĐH SPKT TPHCM ngày 28/02/2005 | BR35: x
A36: 30 | B36: Trần Giang Nam | C36: X | E36: X | F36: Nam | G36: Củ Chi, TPHCM | H36: 06/09/1985 | I36: Khoa Điện - Điện tử | J36: Khoa Điện - Điện tử | K36: 079085003003 | L36: 22/05/2018 | M36: Cục Cảnh sát đăng ký quản lý cư trú | N36: Kinh | O36: Không | P36: Xã An Nhơn Tây, Huyện Củ Chi, Thành phố Hồ Chí Minh | Q36: 442/91/51/96A Quốc lộ 1A, P. An Phú Đông, Quận 12, TPHCM | S36: 0903371549 | U36: #N/A | W36: 01/01/2019 | X36: Sở GDĐT TPHCM | Y36: 01/01/2019 | Z36: Tập sự | AA36: 01/01/2019 | AB36: GV | AC36: Giảng viên | AH36: 12/12 | AI36: THPT | AJ36: DH | AK36: Đại học | AL36: Điện tử viễn thông | AM36: Trường ĐH Công nghiệp TPHCM | AN36: 23/6/2009 | AO36: x | AP36: SP dạy nghề dành cho GV dạy TC nghề, CĐ nghề | AQ36: 11/9/2018 | AR36: Trường CĐ Nghề TPHCM | AX36: B | AY36: 18/4/2006 | AZ36: Trường ĐH Công nghiệp TPHCM | BA36: B | BC36: - B1 - B | BD36: B | BE36: 15/03/2005 | BF36: Trường ĐH Công nghiệp TPHCM | BG36: B | BR36: x
A40: Số TT | B40: Đơn vị | C40: Tổng | D40: Chức vụ/ Chức danh | I40: Kiêm chức | J40: Trình độ chuyên môn | P40: Trình độ Tin học | Y40: Trình độ Ngoại ngữ | AI40: Trình độ Lý luận Chính trị | AL40: Hợp đồng | AN40: Đảng viên | AO40: Nữ
D41: Trưởng, Phụ trách phòng | E41: Phó Trưởng đơn vị | F41: Trưởng Bộ môn, Tổ trưởng | G41: Nhân viên | H41: Giảng viên | J41: Tiến sỹ | K41: Thạc sỹ | L41: Đại học | M41: Cao đẳng | N41: Trung cấp | O41: Khác | P41: A | Q41: B | R41: TC | S41: CĐ | T41: ĐH | U41: THS | V41: IC3 | W41: UD CNTT CB | X41: UD CNTT NC | Y41: A | Z41: B | AA41: C | AB41: TC | AC41: CĐ | AD41: ĐH | AE41: THS | AF41: B1 | AG41: B2 | AH41: C1 | AI41: SC | AJ41: TC | AK41: Trên TC | AL41: Biên chế + Không thời hạn + Nghị định 68 (Sở) | AM41: Hợp đồng trường
B42: Khoa Điện tử | C42: =SUM(D42:H42) -> 30 | D42: =SUM((COUNTIF($AB$7:$AB$37,"HT")+(COUNTIF($AB$7:$AB$37,"TK")+(COUNTIF($AB$7:$AB$37,"TP"))+(COUNTIF($AB$7:$AB$37,"TTT"))))) -> 1 | E42: =SUM((COUNTIF($AB$7:$AB$37,"PHT")+(COUNTIF($AB$7:$AB$37,"PK")+(COUNTIF($AB$7:$AB$37,"PTP"))+(COUNTIF($AB$7:$AB$37,"PTT"))))) -> 1 | F42: =SUM((COUNTIF($AB$7:$AB$37,"TBM")+(COUNTIF($AB$7:$AB$37,"TT")))) -> 3 | G42: =COUNTIF($AB$7:$AB$37,"NV") -> 0 | H42: =COUNTIF($AB$7:$AB$37,"GV") -> 25 | I42: =COUNTIF($D$7:$D$37,"x") -> 0 | J42: =COUNTIF($AJ$7:$AJ$37,"TS") -> 0 | K42: =COUNTIF($AJ$7:$AJ$37,"THS") -> 19 | L42: =COUNTIF($AJ$7:$AJ$37,"DH") -> 11 | M42: =COUNTIF($AJ$7:$AJ$37,"CD") -> 0 | N42: =COUNTIF($AJ$7:$AJ$37,"TC") -> 0 | O42: =COUNTIF($AJ$7:$AJ$36,"") -> 0 | P42: =COUNTIF($BA$7:$BA$37,"A") -> 6 | Q42: =COUNTIF($BA$7:$BA$37,"B") -> 3 | R42: =COUNTIF($BA$7:$BA$37,"TC") -> 0 | S42: =COUNTIF($BA$7:$BA$37,"CD") -> 0 | T42: =COUNTIF($BA$7:$BA$37,"DH") -> 1 | U42: =COUNTIF($BA$7:$BA$37,"THS") -> 0 | V42: =COUNTIF($BB$7:$BB$37,"IC3") -> 0 | W42: =COUNTIF($BA$7:$BA$37,"UD CNTT CB") -> 17 | X42: =COUNTIF($BA$7:$BA$37,"UD CNTT NC") -> 0 | Y42: =SUM((COUNTIF($BG$7:$BG$37,"A"))+(COUNTIF($BG$7:$BG$37,"A1"))) -> 0 | Z42: =SUM((COUNTIF($BG$7:$BG$37,"B"))+(COUNTIF($BG$7:$BG$37,"A2"))) -> 10 | AA42: =COUNTIF($BG$7:$BG$37,"C") -> 3 | AB42: =COUNTIF($BG$7:$BG$37,"TC") -> 1 | AC42: =COUNTIF($BG$7:$BG$37,"CD") -> 0 | AD42: =COUNTIF($BG$7:$BG$37,"DH") -> 2 | AE42: =COUNTIF($BG$7:$BG$37,"THS") -> 0 | AF42: =COUNTIF($BG$7:$BG$37,"B1") -> 13 | AG42: =COUNTIF($BG$7:$BG$37,"B2") -> 1 | AH42: =COUNTIF($BG$7:$BG$37,"C1") -> 0 | AI42: =COUNTIF($BH$7:$BH$37,"Sơ cấp") -> 20 | AJ42: =COUNTIF($BH$7:$BH$37,"Trung cấp") -> 5 | AK42: =COUNTIF($BH$7:$BH$37,"Cao cấp") -> 0 | AL42: =COUNTIF($X$7:$X$37,"Sở GDĐT TPHCM") -> 30 | AM42: =COUNTIF($X$7:$X$37,"Trường CĐ Lý Tự Trọng TPHCM") -> 0 | AN42: =COUNTIF($AG$7:$AG$37,"x") -> 2 | AO42: =COUNTIF($F$7:$F$37,"Nữ") -> 7
AP1297: =COUNTIF(#REF!,"Thạc sỹ") -> #REF!

Sheet KHCB
A1: UBND THÀNH PHỐ HỒ CHÍ MINH TRƯỜNG CAO ĐẲNG LÝ TỰ TRỌNG THÀNH PHỐ HỒ CHÍ MINH | AP1: CỘNG HÒA XÃ HỘI CHỦ NGHĨA VIỆT NAM Độc lập - Tự do - Hạnh phúc
A3: DANH SÁCH THỐNG KÊ CHUẨN CHUYÊN MÔN NGHIỆP VỤ CỦA NHÀ GIÁO
A5: STT | B5: Họ tên | C5: GV | D5: kiêm chức | E5: GV + kiêm chức | F5: Giới tính | G5: Nơi sinh | H5: Ngày/tháng/năm sinh | I5: Kiêm chức tại khoa | J5: Đơn vị | K5: Số chứng mình nhân dân | L5: Ngày cấp Chứng minh nhân dân | M5: Nơi cấp chứng minh nhân dân | N5: Dân tộc | O5: Tôn giáo | P5: Quê quán | Q5: Địa chỉ thường trú | R5: Nơi ở hiện nay | S5: Điện thoại DD | T5: Email | U5: Số sổ bảo hiểm xã hội | V5: Ngày hợp đồng | W5: Ngày tuyển dụng | X5: Cơ quan tuyển dụng | Y5: Ngày về cơ quan hiện nay | Z5: Thuộc loại cán bộ | AA5: Ngày vào ngành giáo dục | AB5: Chức vụ/ Chức danh hiện tại (công thức) | AC5: Chức vụ/ Chức danh hiện tại | AD5: Ngày bổ nhiệm chức vụ hiện tại | AE5: Ngày vào đảng | AF5: Ngày vào đảng chính thức | AG5: Đảng viên (công thức) | AH5: Học vấn phổ thông | AI5: Đã tốt nghiệp | AJ5: Trình độ chuyên môn | AP5: Nghiệp vụ sư phạm | AS5: Kỹ năng nghề | AX5: Tin học | BC5: Ngoại ngữ | BH5: Lý luận Chính trị | BK5: Quản lý nhà nước | BN5: Trình độ quản lý giáo dục | BQ5: Chứng chỉ khác
AJ6: Trình độ chuyên môn cao nhất (công thức) | AK6: Trình độ chuyên môn cao nhất | AL6: Chuyên ngành đào tạo | AM6: Nơi đào tạo | AN6: Năm tốt nghiệp | AO6: Bảng điểm | AP6: Chứng chỉ bồi dưỡng nghiệp vụ | AQ6: Ngày cấp chứng chỉ | AR6: Nơi cấp | AS6: Kỹ năng nghề | AT6: Ngày cấp chứng chỉ | AU6: Nơi cấp | AV6: Kỹ năng nghề 3/7 trở lên (công thức) | AW6: Kỹ năng nghề Quốc gia (công thức) | AX6: Trình độ tin học | AY6: Ngày cấp | AZ6: Nơi cấp | BA6: Trình độ tin học (công thức) | BB6: Trình độ tin học Quốc tế (công thức) | BC6: Trình độ ngoại ngữ | BD6: Theo khung NLNN 6 bậc | BE6: Ngày cấp chứng chỉ | BF6: Nơi cấp CC Ngoại ngữ | BG6: Trình độ ngoại ngữ (thống kê) | BH6: Trình độ lý luận chính trị | BI6: Ngày cấp | BJ6: Nơi cấp | BK6: Trình độ quản lý nhà nước | BL6: Ngày cấp | BM6: Nơi cấp | BN6: Trình độ quản lý giáo dục | BO6: Ngày cấp | BP6: Nơi cấp
A7: 01 | B7: Phạm Thị Thu Hiền | C7: X | E7: X | F7: Nữ | G7: Nam Định | H7: 04/06/1988 | I7: Khoa Khoa học cơ bản | J7: Khoa Khoa học cơ bản | K7: 024104165 | L7: 02/10/2013 | M7: CA. TPHCM | N7: Kinh | O7: Không | P7: Tỉnh Nam Ðịnh | Q7: 97 Đường Nguyễn Văn Lượng, Phường 17, Quận Gò Vấp, TPHCM | S7: 0934724986 | T7: hienthu.ph@gmail.com | U7: 7916116096 | W7: 01/09/2015 | X7: Sở GDĐT TPHCM | Y7: 01/09/2015 | Z7: Hợp đồng không thời hạn | AA7: 01/10/2010 | AB7: GV | AC7: Giảng viên | AH7: 12/12 | AI7: THPT | AJ7: THS | AK7: - Thạc sỹ - Đại học | AL7: Tiếng Anh | AM7: - Trường ĐH Deli - Trường ĐH Công nghiệp TPHCM | AN7: - 14/3/2014 - 5/10/2010 | AO7: x | AP7: - NVSP dành cho GV CĐ, ĐH - PP giảng dạy TOEIC | AQ7: - 18/11/2015 - 28/8/2016 | AR7: - Trường ĐH SP HN - IIG | AX7: B | AY7: 30/11/2010 | AZ7: Trường ĐH GTVT TPHCM | BA7: B | BC7: - Thạc sỹ - IELTS 6.5 - Tiếng Hoa C | BD7: THS | BE7: - 14/03/2014 - 01/9/2016 - 10/11/2010 | BF7: - Trường ĐH Deli - IDP VN - Trường ĐH Công nghiệp TPHCM | BG7: THS | BH7: Sơ cấp | BI7: 27/5/2016 | BJ7: TT BD Chính trị Quận Tân Bình | BR7: x
A8: 02 | B8: Trần Thanh Trúc | C8: X | E8: X | F8: Nữ | G8: TP. Hồ Chí Minh | H8: 22/09/1990 | I8: Khoa Khoa học cơ bản | J8: Khoa Khoa học cơ bản | K8: 024327951 | L8: 11/08/2015 | M8: CA. TPHCM | N8: Kinh | O8: Không | P8: Thành phố Hồ Chí Minh | Q8: 379/3 Thống Nhất, P. 11, Q. Gò Vấp, TPHCM | S8: 0908343857 | T8: tranthanhtruc.tn@gmail.com | U8: 7916074717 | W8: 01/09/2015 | X8: Sở GDĐT TPHCM | Y8: 01/09/2015 | Z8: Hợp đồng không thời hạn | AA8: 01/09/2015 | AB8: GV | AC8: Giảng viên | AH8: 12/12 | AI8: THPT | AJ8: THS | AK8: - Thạc sỹ - Đại học | AL8: - Lý luận và Phương pháp dạy học bộ môn Tiếng Anh - Tiếng Anh | AM8: - Trường ĐH KHXH&NV TPHCM - Trường ĐH Nông Lâm TPHCM | AN8: 16/11/2015 - 14/11/2012 | AO8: x | AP8: - NVSP dành cho GV CĐ, ĐH - LL dạy học và giáo dục - PP giảng dạy TOEIC | AQ8: - 7/3/2016 - 12/11/2010 - 28/8/2016 | AR8: - Trường ĐH KHXH&NV TPHCM - Trường ĐH SP TPHCM - IIG | AX8: B | AY8: 20/2/2012 | AZ8: Trường ĐH Nông Lâm TPHCM | BA8: B | BC8: - Thạc sỹ - Tiếng Pháp B | BD8: THS | BE8: - 16/11/2015 - 28/01/2016 | BF8: Trường ĐH KHXH&NV TPHCM | BG8: THS | BH8: Sơ cấp | BI8: 22/8/2016 | BJ8: TT BD Chính trị Quận Tân Bình | BR8: x
A9: 03 | B9: Nguyễn Thị Thu Hà | C9: X | E9: X | F9: Nữ | G9: TP. Hồ Chí Minh | H9: 21/04/1982 | I9: Khoa Khoa học cơ bản | J9: Khoa Khoa học cơ bản | K9: 074182000157 | L9: 18/12/2018 | M9: Cục Cảnh sát Đăng ký quản lý cư trú | N9: Kinh | O9: Không | P9: Tỉnh Bình Dương | Q9: 354/8 Lý Thường Kiệt, Phường 14, Quận 10, TPHCM | S9: 0909873009 | T9: rivernguyen1982@gmail.com | U9: 0204305711 | W9: 01/09/2015 | X9: Sở GDĐT TPHCM | Y9: 01/09/2015 | Z9: Hợp đồng không thời hạn | AA9: 01/09/2015 | AB9: GV | AC9: Giảng viên | AH9: 12/12 | AI9: THPT | AJ9: THS | AK9: - Thạc sỹ - Đại học | AL9: - Giảng dạy Tiếng Anh cho những người nói ngôn ngữ khác - Ngữ Văn Anh | AM9: - ĐH Victoria (Úc) - Trường ĐH KHXH&NV | AN9: - 3/6/2013 - 01/02/2010 | AO9: x | AP9: - LL dạy học và giáo dục - PP giảng dạy TOEIC | AQ9: - 6/8/2010 - 28/8/2016 | AR9: - Trường ĐH SP TPHCM - IIG | AX9: A | AY9: 12/11/2008 | AZ9: Trường CĐ CNTT TPHCM | BA9: A | BC9: - Thạc sỹ - IELTS 6.0 - Tiếng Pháp B | BD9: THS | BE9: - 03/06/2013 - 04/04/2019 - 3/10/2008 | BF9: - ĐH Victoria (Úc) - IDP Education - TT UDCN & Thiết kế công trình Viễn thông Tin học | BG9: THS | BH9: Sơ cấp | BI9: 27/5/2016 | BJ9: TT BD Chính trị Quận Tân Bình | BR9: x
A10: 04 | B10: Lê Nguyễn Mỹ Trâm | C10: X | E10: X | F10: Nữ | G10: TP. Hồ Chí Minh | H10: 27/10/1971 | I10: Khoa Khoa học cơ bản | J10: Khoa Khoa học cơ bản | K10: 079171008822 | L10: 20/06/2018 | M10: Cục Cảnh sát Đăng ký quản lý cư trú | N10: Kinh | O10: Không | P10: Xã Tân Thanh, Huyện Giồng Trôm, Tỉnh Bến Tre | Q10: 62/23A Nhất Chi Mai, Phường 13, Quận Tân Bình, TPHCM | S10: 0909989504 | U10: 0207022148 | W10: 01/09/2010 | X10: Sở GDĐT TPHCM | Y10: 01/09/2010 | Z10: Hợp đồng không thời hạn | AA10: 01/09/1998 | AB10: GV | AC10: Giảng viên | AH10: 12/12 | AI10: THPT | AJ10: THS | AK10: - Thạc sỹ - Đại học | AL10: - Ngôn ngữ học ứng dụng - Anh văn | AM10: - Trường Đại học Công nghệ Curtin - Trường ĐH SP TPHCM | AN10: - 3/7/2009 - 20/1/1998 | AO10: x | AP10: NVSP dành cho GV CĐ, ĐH | AQ10: 30/10/2019 | AR10: Trường ĐH SP HN 2 | AX10: A | AY10: 22/08/2007 | AZ10: Viện Nghiên cứu Phát triển Văn Hóa và Giáo dục Đông Nam Á (Seacedi) | BA10: A | BC10: - Thạc sỹ - IELTS 6.0 - Tiếng Pháp B - TEFL | BD10: THS | BE10: 03/07/2009 - 29/1/2015 - 17/7/2017 - 30/7/2011 | BF10: - Trường Đại học Công nghệ Curtin - IDP Education CN - Viện Đào tạo và Nâng cao TPHCM - Trường ĐH Quốc Gia TPHCM | BG10: THS | BH10: Sơ cấp | BI10: 22/8/2016 | BJ10: TT BD Chính trị Quận Tân Bình | BQ10: - BD GV chính (hạng II) tại Trường ĐH SP TPHCM ngày 15/5/2019 - CC Hoàn thành khóa học khởi đầu chương trình dạy học của intel tại Sở GDĐT TPHCM ngày 06/8/2008 - Bảng ghi kết quả học tập môn PP nghiên cứu khoa học tại Trường ĐH SP HN 2 ngày 26/12/2018. | BR10: x
A11: 05 | B11: Nguyễn Thị Bảo Trân | C11: X | E11: X | F11: Nữ | G11: Thành Phố Hồ Chí Minh | H11: 09/12/1978 | I11: Khoa Khoa học cơ bản | J11: Khoa Khoa học cơ bản | K11: 023334538 | L11: 06/08/2007 | M11: CA.TPHCM | N11: Kinh | O11: Phật | P11: Thành phố Hồ Chí Minh | Q11: 350/6A1 Hoàng Văn Thụ, P. 4, Q.Tân Bình | S11: 0908875179 | T11: tranph179@yahoo.com | U11: 0201155200 | W11: 01/09/2001 | X11: Sở GDĐT TPHCM | Y11: 01/09/2001 | Z11: Biên chế | AA11: 01/09/2001 | AB11: GV | AC11: Giảng viên | AH11: 12/12 | AI11: THPT | AJ11: THS | AK11: - Thạc sỹ - Đại học - Đại học | AL11: - Lý luận và Phương pháp dạy học bộ môn Tiếng Anh - Anh văn - Kinh tế đối ngoại | AM11: - Trường ĐH KHXH&NV - Trường ĐH SP TPHCM - Trường ĐH Ngoại thương | AN11: - 28/10/2010 - 16/8/2000 - 28/6/2002 | AO11: - Đã có - chưa có - chưa có | AP11: TN Sư phạm | AQ11: 20/8/2000 | AR11: Trường ĐH SP TPHCM | AY11: 40479 | BC11: - Thạc sỹ - B2 - TEFL | BD11: THS | BE11: - 28/10/2010 - 31/10/2013 - 30/7/2011 | BF11: - Trường ĐH KHXH&NV - Trường ĐH SP TPHCM - Trường ĐH Quốc Gia | BG11: THS | BH11: Sơ cấp | BI11: 16/9/2016 | BJ11: TT BD Chính trị Quận Tân Bình | BQ11: - BD GV chính (hạng II) tại Trường ĐH SP TPHCM ngày 15/5/2019 | BR11: x
A12: 06 | B12: Nguyễn Thị Thanh Tú | C12: X | E12: X | F12: Nữ | G12: Bình Định | H12: 29/08/1978 | I12: Khoa Khoa học cơ bản | J12: Khoa Khoa học cơ bản | K12: 024906495 | L12: 18/03/2008 | M12: CA. TPHCM | N12: Kinh | O12: Không | P12: Xã Cát Hanh, Huyện Phù Cát, Tỉnh Bình Ðịnh | Q12: 229/16/7 Tây Thạnh, Phường Tây Thạnh, Quận Tân Phú, TPHCM | S12: 0932482715 | T12: tuhi_182298@yahoo.com | U12: 0205247947 | W12: 01/09/2007 | X12: Sở GDĐT TPHCM | Y12: 01/09/2007 | Z12: Hợp đồng không thời hạn | AA12: 01/09/2007 | AB12: GV | AC12: Giảng viên | AH12: 12/12 | AI12: THPT | AJ12: THS | AK12: - Thạc sỹ - Đại học | AL12: - Ngôn ngữ Anh - Sư phạm Tiếng Anh | AM12: - Trường ĐH Công nghệ TPHCM - Trường ĐH SP - ĐH Đà Nẵng | AN12: - 15/7/2019 - 18/8/2000 | AO12: - Đã có - Chưa có | AP12: - NVSP dành cho GV CĐ, ĐH - PP giảng dạy TOEIC - CC LL &PP giảng dạy Tiếng Anh | AQ12: - 17/6/2019 - 28/7/2016 - 12/4/2016 | AR12: - Trường ĐH SP HN 2 - IIG VN- Trường ĐH Mở TPHCM | AX12: Tin học UDCB | AY12: 25/02/2019 | AZ12: Trường CĐ Lý Tự Trọng TPHCM | BC12: - Thạc sỹ - TEFL - B1 | BD12: THS | BE12: - 15/7/2019 - 18/7/2012 - 31/10/2013 | BF12: - Trường ĐH Công nghệ TPHCM - Trường ĐH Quốc Gia TPHCM - Trường ĐH SP TPHCM | BG12: THS | BH12: Sơ cấp | BI12: 22/8/2016 | BJ12: TT BD Chính trị Quận Tân Bình | BQ12: - BD GV chính (hạng II) tại Trường ĐH SP TPHCM ngày 15/5/2019 | BR12: x
A13: 07 | B13: Nguyễn Thị Thu Tâm | C13: X | E13: X | F13: Nữ | G13: TPHCM | H13: 21/10/1976 | I13: Khoa Khoa học cơ bản | J13: Khoa Khoa học cơ bản | K13: 022848142 | L13: 14/04/2006 | M13: CA. TPHCM | N13: Kinh | O13: Phật | P13: Xã Phổ Minh, Huyện Đức Phổ, Tỉnh Quảng Ngãi | Q13: 344/575 CMT8, Phường 5, Q Tân Bình | S13: 01264643406 | T13: thutam2110@yahoo.com.vn | U13: 0202045532 | W13: 01/09/2001 | X13: Sở GDĐT TPHCM | Y13: 18/07/2006 | Z13: Biên chế | AA13: 01/09/2001 | AB13: GV | AC13: Giảng viên | AH13: 12/12 | AI13: THPT | AJ13: DH | AK13: - Đại học - Đại học | AL13: - SP Tiếng Anh - Luật học | AM13: - Trường ĐH DL Ngoại ngữ - Tin học - Trường ĐH Luật TPHCM | AN13: - 10/10/1999 - 20/5/2013 | AO13: - Đã có - chưa có | AP13: TN Sư phạm | AQ13: 10/10/1999 | AR13: Trường ĐH DL Ngoại ngữ - Tin học | AX13: - A - B | AY13: - 7/4/2006 - 10/10/1999 | AZ13: - Sở GDĐT TPHCM | BA13: A | BC13: - TEFL - Đại học - A2 | BD13: C1 | BE13: - 23/7/2011 - 10/10/1999 - 31/10/2013 | BF13: - ĐH Quốc Gia - Trường ĐH DL Ngoại ngữ - Tin học - Trường ĐH SP TPHCM | BG13: DH | BH13: Sơ cấp | BI13: 22/8/2016 | BJ13: TT BD Chính trị Quận Tân Bình | BQ13: - CC Triết học, PP NC Kh tại Trường ĐH SPKT TPHCM ngày 16/10/2007 - CC LL DH ĐH tại Trường ĐH SP TPHCM ngày 08/6/2007 - CN Thư ký Giám đốc và QT VP tại Trường ĐH Kinh tế TPHCM ngày 28/9/2001 | BR13: x
A14: 08 | B14: Võ Thị Hồng Lan | C14: X | E14: X | F14: Nữ | G14: Bình Thuận | H14: 03/01/1974 | I14: Khoa Khoa học cơ bản | J14: Khoa Khoa học cơ bản | K14: 024917765 | L14: 03/03/2010 | M14: CA TPHCM | N14: Kinh | O14: Không | P14: Tỉnh Phú Yên | Q14: 595/315 CMT8, Phường 15, Quận 10 | S14: 0919748478 | T14: lantri1974@gmail.com.vn | U14: 4699022328 | W14: 01/09/1998 | X14: Sở GDĐT TPHCM | Y14: 30/08/2008 | Z14: Biên chế | AA14: 01/09/1998 | AB14: GV | AC14: Giảng viên | AH14: 12/12 | AI14: THPT | AJ14: DH | AK14: Đại học | AL14: Sư phạm Tiếng Anh | AM14: Trường ĐH Huế | AN14: 21/4/2008 | AO14: x | AP14: TN Sư phạm | AQ14: 21/4/2008 | AR14: Trường ĐH Huế | AX14: A | AY14: 24/7/2006 | AZ14: Trường ĐH SP KT TPHCM | BC14: - Đại học - B2 - B1 - A2 - TEFL | BD14: C1 | BE14: - 21/04/2008 - 16/7/2015 - 30/7/2014 - 31/10/2013 - 30/7/2011 | BF14: - Trường ĐH Huế - Trường ĐH Ngoại Ngữ - ĐH Huế - CamBridge English - Trường ĐH SP TPHCM - Trường ĐH Quốc Gia | BG14: DH | BH14: Sơ cấp | BI14: 22/8/2016 | BJ14: TT BD Chính trị Quận Tân Bình | BR14: x
A15: 09 | B15: Vương Thanh Thủy | C15: X | E15: X | F15: Nữ | G15: Hà Tây | H15: 03/12/1972 | I15: Khoa Khoa học cơ bản | J15: Khoa Khoa học cơ bản | K15: 001172012821 | L15: 29/08/2002 | M15: CA TPHCM | N15: Kinh | O15: Không | P15: Xã Nam Thành, Huyện Yên Thành, Tỉnh Nghệ An | Q15: 331/16 Vườn Lài , P. Phú Thọ Hòa, Q. Tân Phú | S15: 0903934422 | T15: vtthuy1972@gmail.com | U15: 0201155199 | W15: 01/09/2001 | X15: Sở GDĐT TPHCM | Y15: 01/09/2001 | Z15: Biên chế | AA15: 01/09/2001 | AB15: GV | AC15: Giảng viên | AH15: 12/12 | AI15: THPT | AJ15: THS | AK15: - Thạc sỹ - Đại học - Đại học | AL15: - Lý luận và Phương pháp dạy học bộ môn Tiếng Anh - Anh văn - Kinh tế | AM15: - Trường ĐH Mở TPHCM - Trường ĐH SP TPHCM - Trường ĐH Tổng hợp TPHCM | AN15: - 29/11/2011 - 10/8/2001 - 01/12/1994 | AO15: - Đã có - Chưa có - Chưa có | AP15: NVSP dành cho GV CĐ, ĐH | AQ15: 30/10/2019 | AR15: Trường ĐH SP HN 2 | AX15: TH UDCB | AY15: 40876 | BC15: - Thạc sỹ '- C1 - B1 - B2 | BD15: THS | BE15: - 29/11/2011 - 22/2/2016 - 31/12/2013 - 29/5/2014 | BF15: - Trường ĐH Mở TPHCM - Trường ĐH SP TPHCM - Trường ĐH SP TPHCM - Cambridge English | BG15: THS | BH15: Sơ cấp | BI15: 22/8/2016 | BJ15: TT BD Chính trị Quận Tân Bình | BR15: x
A16: 10 | B16: Nguyễn Thành Nam | C16: X | E16: X | F16: Nam | G16: Xã Quỳnh Thạch, Huyện Quỳnh Lưu, Tỉnh Nghệ An | H16: 16/02/1979 | I16: Khoa Khoa học cơ bản | J16: Khoa Khoa học cơ bản | K16: 024858065 | L16: 08/01/2014 | M16: CA. TPHCM | N16: Kinh | O16: Không | P16: Xã Quỳnh Thạch, Huyện Quỳnh Lưu, Tỉnh Nghệ An | Q16: 34/2T, Ấp Mới 1, xã Tân Xuân, huyện Hóc Môn, TPHCM | S16: 0973803279 | T16: hoanam_8779@gmail.com | U16: 0203334244 | W16: 01/03/2016 | X16: Sở GDĐT TPHCM | Y16: 01/02/2016 | Z16: Hợp đồng không thời hạn | AA16: 01/09/2001 | AB16: TK | AC16: Trưởng Khoa | AD16: 01/02/2020 | AH16: 12/12 | AI16: THPT | AJ16: THS | AK16: - Thạc sỹ - Đại học | AL16: - Đại số và lý thuyết số - Toán học | AM16: Trường ĐH SP TPHCM | AN16: - 30/7/2009 - 20/11/2001 | AO16: x | AP16: NVSP dành cho GV | AQ16: 15/5/2017 | AR16: Trường ĐH SP TPHCM | AX16: TH UDCB | AY16: 6/9/2018 | AZ16: Trường CĐ Lý Tự Trọng TPHCM | BA16: UD CNTT CB | BC16: - TOEIC 610 - B | BD16: B2 | BE16: - 8/4/2014 - 10/8/2009 | BF16: - ETS - Trường CĐ CN Thực phẩm TPHCM | BG16: B2 | BH16: Trung cấp | BI16: 22/3/2019 | BJ16: Học viện Cán bộ TPHCM | BN16: ĐT, BD CBQL GDNN | BO16: 28/9/2018 | BP16: Học viện Cán bộ TPHCM | BQ16: - CN Hoàn thành chương trình BD Kiến thức QP AN đối tượng 3 tại Trường quân sự TPHCM ngày 6/7/2018. - CN QLHC - NS tại Viện nghiên cứu Châu Á ngày 22/7/2017. - CN Sơ cấp LLCT tại TT BD Chính trị Quận Tân Bình ngày 22/8/2016. | BR16: x
A17: 11 | B17: Phạm Thị Thu Nga | C17: X | E17: X | F17: Nữ | G17: Nghệ An | H17: 02/11/1976 | I17: Khoa Khoa học cơ bản | J17: Khoa Khoa học cơ bản | K17: 040176000521 | L17: 18/07/2017 | M17: Cục Cảnh sát Đăng ký quản lý cư trú | N17: Kinh | O17: Không | P17: Phường Đông Lễ, Thị xã Đông Hà, Tỉnh Quảng Trị | Q17: 9/28 Đoàn Thị Điểm, P. 1, Q. Phú Nhuận | S17: 0908250261 | T17: utnga2001@yahoo.com | U17: 0201155195 | W17: 01/09/2001 | X17: Sở GDĐT TPHCM | Y17: 01/09/2001 | Z17: Biên chế | AA17: 01/09/2001 | AB17: PK | AC17: Phó Trưởng Khoa | AD17: 1/8/2018 | AF17: 05/02/2010 | AG17: X | AH17: 12/12 | AI17: THPT | AJ17: THS | AK17: - Thạc sỹ - Đại học | AL17: - LL&PP dạy học BM Toán - Toán | AM17: - Trường ĐH SP HN - Trường ĐH SP TPHCM | AN17: - 28/3/2008 - 10/8/1999 | AO17: - Đã có - Chưa có | AP17: NVSP dành cho GV CĐ, ĐH | AQ17: 17/6/2019 | AR17: Trường ĐH SP HN 2 | AX17: TH UDCB | AY17: 20/12/2018 | AZ17: Trường CĐ Lý Tự Trọng TPHCM | BA17: UD CNTT CB | BC17: - B1 - B | BD17: B1 | BE17: - 3/5/2018 - 25/12/1999 | BF17: - Trường ĐH Sài Gòn - Viện ĐH Mở HN | BG17: B1 | BH17: Trung cấp | BI17: 31/7/2018 | BJ17: Học viện Cán bộ TPHCM | BQ17: - BD GV chính (hạng II) tại Trường ĐH SP TPHCM ngày 15/5/2019 - CN Sơ cấp LLCT tại TT BD Chính trị Quận Tân Bình TPHCM ngày 15/1/2014. | BR17: x
A18: 12 | B18: Nguyễn Thị Huyền Nga | C18: X | E18: X | F18: Nữ | G18: Nghệ An | H18: 03/05/1974 | I18: Khoa Khoa học cơ bản | J18: Khoa Khoa học cơ bản | K18: 040174000144 | L18: 16/06/2016 | M18: Cục Cảnh sát Đăng ký quản lý cư trú | N18: Kinh | O18: Không | P18: Huyện Diễn Châu, Tỉnh Nghệ An | Q18: 202A C4 - K300, P. 12, Q. Tân Bình, TPHCM | S18: 00969191166 | T18: hangnga1199@gmail.com | U18: 2299065197 | W18: 13/11/1997 | X18: Sở GDĐT TPHCM | Y18: 01/08/2006 | Z18: Biên chế | AA18: 13/11/1997 | AB18: TBM | AC18: Trưởng Bộ môn | AD18: 01/09/2015 | AF18: 30/03/2006 | AG18: X | AH18: 12/12 | AI18: THPT | AJ18: THS | AK18: - Thạc sỹ - Đại học | AL18: - Hoá vô cơ - Hóa học | AM18: - Trường ĐH KHTN TPHCM - Trường ĐH SP TPHCM | AN18: - 31/3/2015 - 15/6/1997 | AO18: - Đã có - Chưa có | AP18: NVSP dành cho GV CĐ, ĐH | AQ18: 17/6/2019 | AR18: Trường ĐH SP HN 2 | AX18: TH UDCB | AY18: 20/12/2018 | AZ18: Trường CĐ Lý Tự Trọng TPHCM | BA18: UD CNTT CB | BC18: Toefl ITP 467 | BD18: B1 | BE18: 41745 | BF18: IIG | BG18: B1 | BH18: Trung cấp | BI18: 31/7/2018 | BJ18: Học viện Cán bộ TPHCM | BQ18: - BD GV chính (hạng II) tại Trường ĐH SP TPHCM ngày 15/5/2019 - CN Sơ cấp LLCT tại TT BD Chính trị Quận Tân Bình TPHCM ngày 15/1/2014. - CC Triết học, LL dạy học ĐH, PP NC KH và GD, QLGD, Tâm lý học SP tại Trường ĐH SP KT TPHCM ngày 30/6/2006. | BR18: x
A19: 13 | B19: Lê Thái Hùng | C19: X | E19: X | F19: Nam | G19: Bình Thuận | H19: 21/12/1974 | I19: Khoa Khoa học cơ bản | J19: Khoa Khoa học cơ bản | K19: 060074000079 | L19: 23/08/2017 | M19: Cục Cảnh sát Đăng ký quản lý cư trú | N19: Kinh | O19: Không | P19: Huyện Bắc Bình, Tỉnh Bình Thuận | Q19: 31/2 Đường số 48, KP6. P.Hiệp Bình Chánh, Q.Thủ Đức | S19: 0908453132 | T19: lethaihung2112@gmail.com | U19: 0296009808 | W19: 01/09/2005 | X19: Sở GDĐT TPHCM | Y19: 01/09/2005 | Z19: Hợp đồng không thời hạn | AA19: 01/09/1996 | AB19: TBM | AC19: Trưởng Bộ môn | AD19: 03/05/2017 | AH19: 12/12 | AI19: THPT | AJ19: THS | AK19: - Thạc sỹ - Đại học | AL19: - Khoa học giáo dục - Giáo dục thể chất | AM19: - Trường ĐH Thể dục thể thao - Trường ĐH Thể dục thể thao I | AN19: - 02/11/2016 - 25/9/2004 | AO19: x | AP19: NVSP dành cho GV ĐH, CĐ | AQ19: 3/7/2018 | AR19: Trường ĐH SP HN 2 | AX19: A | AY19: 3/1/2007 | AZ19: Trường CĐ BC CN & QTDN | BA19: A | BC19: B | BD19: A2 | BE19: 10/6/2006 | BF19: Trường CĐ CN Thực phẩm TPHCM | BG19: B | BH19: Sơ cấp | BI19: 22/8/2016 | BJ19: TT BD Chính trị Quận Tân Bình | BQ19: - BD GV chính (hạng II) tại Trường ĐH SP TPHCM ngày 15/5/2019 - CN BD GV, GV môn GDQP-AN các trường ĐH, CĐ, TCCN năm 2012 tại Bộ GDĐT TPHCM ngày 11/8/2012 | BR19: x
A20: 14 | B20: Trần Thị Ánh Tuyết | C20: X | E20: X | F20: Nữ | G20: Tây Ninh | H20: 24/08/1979 | I20: Khoa Khoa học cơ bản | J20: Khoa Khoa học cơ bản | K20: 024943379 | L20: 19/08/2008 | M20: CA. TPHCM | N20: Kinh | O20: Không | P20: Huyện Trảng Bàng, Tỉnh Tây Ninh | Q20: 41/28 Cô Giang, P.Cầu Ông Lãnh, Q. 1, TPHCM | S20: 0983024006 | U20: 0207418841 | W20: 01/09/2008 | X20: Sở GDĐT TPHCM | Y20: 01/09/2008 | Z20: Hợp đồng không thời hạn | AA20: 01/09/2005 | AB20: GV | AC20: Giảng viên | AH20: 12/12 | AI20: THPT | AJ20: THS | AK20: - Thạc sỹ - Đại học | AL20: - LL&PP dạy học BM Vật lý - Vật lý | AM20: - Trường ĐH Vinh - Trường ĐH KHTN | AN20: - 18/6/2012 - 15/3/2005 | AO20: x | AP20: - SPDN dành cho GV dạy TCN, CĐN - LL dạy học và GD phục vụ cho việc lên lớp giảng dạy | AQ20: - 7/9/2015 - 28/02/2005 | AR20: - Trường CĐ Nghề TPHCM - Trường ĐH SP TPHCM | AX20: A | AY20: 29/7/2004 | AZ20: Trường CĐ Lý Tự Trọng TPHCM | BA20: A | BC20: - Đại học - C | BD20: C1 | BE20: - 26/4/2012 - 10/11/2010 | BF20: - Trường ĐH Vinh - Trường ĐH Sài Gòn | BG20: DH | BH20: Sơ cấp | BI20: 22/8/2016 | BJ20: TT BD Chính trị Quận Tân Bình | BR20: x
A21: 15 | B21: Đặng Thị Kiến Trúc | C21: X | E21: X | F21: Nữ | G21: Long Khánh, Cai Lậy, Tiền Giang | H21: 01/01/1975 | I21: Khoa Khoa học cơ bản | J21: Khoa Khoa học cơ bản | K21: 082175000189 | L21: 23/10/2017 | M21: Cục Cảnh sát Đăng ký quản lý cư trú | N21: Kinh | O21: Không | P21: Xã Long Khánh, Huyện Cai Lậy, Tỉnh Tiền Giang | Q21: 70 Đường số 1, P. 16, Q. Gò Vấp, TPHCM | S21: 0918376847 | T21: kientruc1975@yahoo.com | U21: 0204285799 | W21: 01/09/2005 | X21: Sở GDĐT TPHCM | Y21: 01/09/2005 | Z21: Hợp đồng không thời hạn | AA21: 01/09/2005 | AB21: GV | AC21: Giảng viên | AH21: 12/12 | AI21: THPT | AJ21: THS | AK21: - Thạc sỹ - Đại học | AL21: - Vật lý nguyên tử, hạt nhân và năng lượng cao - Vật lý | AM21: Trường ĐH SP TPHCM | AN21: - 21/5/2011 - 10/8/1998 | AO21: x | AP21: NVSP dành cho GV CĐ, ĐH | AQ21: 30/10/2019 | AR21: Trường ĐH SP HN 2 | AX21: TH UDCB | AY21: 20/12/2018 | AZ21: Trường CĐ Lý Tự Trọng TPHCM | BA21: UD CNTT CB | BC21: - C - B (2019) | BD21: B1 | BE21: 19/10/2009 | BF21: Trường ĐH SP TPHCM | BG21: C | BH21: Sơ cấp | BI21: 22/8/2016 | BJ21: TT BD Chính trị Quận Tân Bình | BQ21: - CN Học thức về Đảng tại TT BD Chính trị ngày 23/3/2011. CN hoàn thành chương trình BDTX GV môn Vật lý tại Sở GDĐT TPHCM ngày 30/8/2001 | BR21: x
A22: 16 | B22: Dương Đức Kiên | C22: X | E22: X | F22: Nam | G22: Xã Trung Lương, Thị xã Hồng Lĩnh, Tỉnh Hà Tĩnh | H22: 12/02/1986 | I22: Khoa Khoa học cơ bản | J22: Khoa Khoa học cơ bản | K22: 025583771 | L22: 31/01/2015 | M22: CA. TPHCM | N22: Kinh | O22: Không | P22: Xã Trung Lương, Thị xã Hồng Lĩnh, Tỉnh Hà Tĩnh | Q22: 104D3, Đường số 2, cư xá Đài Ra Đa Phú Lâm, Phường 13, Quận 6, TPHCM | S22: 0904884585 | T22: duong.kien86@gmail.com | U22: 7914159578 | W22: 01/09/2013 | X22: Sở GDĐT TPHCM | Y22: 01/09/2013 | Z22: Hợp đồng không thời hạn | AA22: 01/09/2013 | AB22: GV | AC22: Giảng viên | AH22: 12/12 | AI22: THPT | AJ22: THS | AK22: - Thạc sỹ - Đại học | AL22: - Toán giải tích - Toán - Tin ứng dụng | AM22: Trường ĐH Vinh | AN22: - 11/12/2015 - 16/8/2010 | AO22: x | AP22: - NVSP dành cho GV CĐ, ĐH - SP bậc 1 | AQ22: - 18/10/2013 - 4/4/2010 | AR22: - Trường ĐH SP HN - Trường ĐH SP KT Vinh | AX22: Đại học | AY22: 16/8/2010 | AZ22: Trường ĐH Vinh | BA22: DH | BC22: B1 | BD22: B1 | BE22: 12/5/2015 | BF22: Trường ĐH Sài Gòn | BG22: B1 | BH22: Sơ cấp | BI22: 25/9/2014 | BJ22: TT BD Chính trị Quận Tân Bình | BQ22: - BD GV chính (hạng II) tại Trường ĐH SP TPHCM ngày 15/5/2019 - CC LL dạy học ĐH tại Trường ĐH SP HN ngày 6/12/2013. | BR22: x
A23: 17 | B23: Giang Phi Hùng | C23: X | E23: X | F23: Nam | G23: Long An | H23: 16/12/1983 | I23: Khoa Khoa học cơ bản | J23: Khoa Khoa học cơ bản | K23: 080083000079 | L23: 06/06/2016 | M23: Cục Cảnh sát Đăng ký quản lý cư trú | N23: Kinh | O23: Không | P23: Thị trấn Hiệp Hòa, Huyện Đức Hòa, Tỉnh Long An | Q23: Ấp Hòa Bình 2, Xã Hiệp Hòa, Huyện Đức Hòa, Tỉnh Long An | S23: 0906151733 | U23: 0207272975 | W23: 01/09/2009 | X23: Sở GDĐT TPHCM | Y23: 01/09/2009 | Z23: Hợp đồng không thời hạn | AA23: 01/09/2009 | AB23: GV | AC23: Giảng viên | AG23: X | AH23: 12/12 | AI23: THPT | AJ23: DH | AK23: - Đại học - Đại học | AL23: - Giáo dục thể chất - GDQP-AN | AM23: - Trường ĐH SP Thể dục - thể thao TPHCM - Trường ĐH SP TPHCM | AN23: - 18/3/2009 - 6/6/2017 | AO23: x | AP23: NVSP dành cho GV ĐH, CĐ | AQ23: 30/10/2019 | AR23: Trường ĐH SP HN 2 | AX23: A | AY23: 24/9/2008 | AZ23: Trường ĐH KHTN TPHCM | BA23: A | BC23: - B - A | BD23: A2 | BE23: - 7/5/2019 - 13/8/2009 | BF23: - Trường CĐ Lý Tự Trọng TPHCM - Viện NC PT VH và GD Đông nam Á (SEACEDI) | BG23: B | BH23: Trung cấp | BI23: 22/3/2019 | BJ23: TT BD Chính trị Quận Tân Bình | BQ23: - BD GV chính (hạng II) tại Trường ĐH SP TPHCM ngày 15/5/2019 - CN Sơ cấp LLCT tại TT BD Chính trị Quận Tân Bình TPHCM ngày 15/1/2014 | BR23: x
A24: 18 | B24: Hà Như Mai | C24: X | E24: X | F24: Nữ | G24: Vĩnh Phú | H24: 08/04/1986 | I24: Khoa Khoa học cơ bản | J24: Khoa Khoa học cơ bản | K24: 024497762 | L24: 28/07/2006 | M24: CA. TPHCM | N24: Kinh | O24: Không | P24: Xã Thanh Hà, Huyện Thanh Ba, Tỉnh Phú Thọ | Q24: 111/6C Ấp 4, xã Xuân Thới Thượng, Hóc Môn | S24: 0978666804 | U24: 7909078922 | W24: 01/09/2008 | X24: Sở GDĐT TPHCM | Y24: 01/09/2008 | Z24: Hợp đồng không thời hạn | AA24: 01/09/2008 | AB24: GV | AC24: Giảng viên | AH24: 12/12 | AI24: THPT | AJ24: THS | AK24: - Thạc sỹ - Đại học | AL24: - Toán ứng dụng - Toán - Tin học | AM24: - Trường ĐH Bách khoa TPHCM - Trường ĐH Đà Lạt | AN24: - 10/01/2013 - 14/6/2008 | AO24: x | AP24: - SP dạy nghề dành cho GV dạy TCN, CĐN - Nghiệp vụ sư phạm | AQ24: - 7/9/2015 - 18/01/2008 | AR24: - Trường CĐ Nghề TPHCM - Trường ĐH Đà Lạt | AX24: - Đại học - B | AY24: - 14/6/2008 - 28/01/2008 | AZ24: - Trường ĐH Đà Lạt - Sở GDĐT Lâm Đồng | BA24: DH | BC24: Toefl ITP 513 | BD24: B1 | BE24: 3/7/2013 | BF24: IIG | BG24: B1 | BH24: Sơ cấp | BI24: 27/5/2016 | BJ24: TT BD Chính trị Quận Tân Bình | BQ24: - BD GV chính (hạng II) tại Trường ĐH SP TPHCM ngày 15/5/2019 - CN QLHC NN & QL ngành GD - ĐT tại Trường ĐH Đà Lạt ngày 25/12/2007. - CC GDQP tại Trường ĐH Đà Lạt ngày 24/1/2008. - CC GDTC tại Trường ĐH Đà Lạt ngày 25/1/2008. | BR24: x
A25: 19 | B25: Lê Văn Bình | C25: X | E25: X | F25: Nam | G25: Đồng Tháp | H25: 23/07/1982 | I25: Khoa Khoa học cơ bản | J25: Khoa Khoa học cơ bản | K25: 025013400 | L25: 24/07/2013 | M25: CA. TPHCM | N25: Kinh | O25: Không | P25: Tỉnh Ðồng Tháp | Q25: 64 Đường 1011 Phạm Thế Hiển, Phường 5, Quận 8, TPHCM | S25: 0909661000 | U25: 7510069755 | W25: 01/09/2015 | X25: Sở GDĐT TPHCM | Y25: 01/09/2015 | Z25: Hợp đồng không thời hạn | AA25: 01/11/2012 | AB25: GV | AC25: Giảng viên | AH25: 12/12 | AI25: THPT | AJ25: THS | AK25: - Thạc sỹ - Đại học - Đại học | AL25: - Công nghệ sinh học - Công nghệ sinh học - Quản trị kinh doanh | AM25: - Trường ĐH Bách khoa TPHCM - Trường ĐH Nông Lâm TPHCM- Trường ĐH Kinh tế TPHCM | AN25: - 27/10/2008 - 20/10/2005 - 20/9/2018 | AO25: - Đã có - Đã có - Chưa có | AP25: - SPDN dành cho GV dạy TCN, CĐN - NVSP dành cho GV CĐ, ĐH | AQ25: - 7/8/2014- 28/11/2019 | AR25: - Trường ĐH SPKT TPHCM - Trường ĐH KHXH&NV | AS25: CC nghề Powerpoint 2002 | AT25: 11/5/2004 | AU25: TT KTTH HNDN Q1 | AX25: - B - A | AY25: - 10/10/2003 - 15/7/2003 | AZ25: Trường ĐH Bách khoa TPHCM | BA25: B | BC25: TOEIC 615 | BD25: B2 | BE25: 23/12/2007 | BF25: TOEIC VN | BG25: B2 | BH25: Sơ cấp | BI25: 27/5/2016 | BJ25: TT BD Chính trị Quận Tân Bình | BQ25: - BD GV chính (hạng II) tại Trường ĐH SP TPHCM ngày 15/5/2019 - CC Lắp ráp máy tính tại Trường ĐH Bách khoa TPHCM ngày 5/4/2004 - CN XD và AD hệ thống quản lý chất lượng theo TCVN ISO 9001:2000 tại TT Kỹ thuật Tiêu chuẩn Đo lường Chất lượng 3 ngày 03/10/2008- CN LL dạy học ĐH tại Trường ĐH KHXH&NV ngày 27/8/2012 - CC Certificate Completion tại Trường Đào tạo Việt Mỹ ngày 22/10/2005. - CC BD GV, GV về đào tạo theo tín chỉ, biên soạn giáo án và tổ chức dạy học tích hợp, tổ chức đào tạo và đánh giá theo năng lực thực hiện tại Trường CĐ Nghề TPHCM ngày 20/12/2018 - CN BD Kiến thức QPAN đối tượng 4 tại Trường CĐ Nghề ngày 19/7/2019 - CN Sơ cấp LLCT tại TT BD Chính trị Quận tân Bình TPHCM ngày 27/5/2016. | BR25: x
A26: 20 | B26: Ngô Thanh Điền | C26: X | E26: X | F26: Nam | G26: Tiền Giang | H26: 12/09/1979 | I26: Khoa Khoa học cơ bản | J26: Khoa Khoa học cơ bản | K26: 024345241 | L26: 19/11/2012 | M26: CA. TPHCM | N26: Kinh | O26: Thiên chúa | P26: Tỉnh Tiền Giang | Q26: 8/26 Thống Nhất, P16, Gò Vấp | S26: 0908124776 | T26: thanhdien1209@yahoo.com | U26: 0202192376 | W26: 31/08/2004 | X26: Sở GDĐT TPHCM | Y26: 31/08/2004 | Z26: Hợp đồng không thời hạn | AA26: 31/08/2001 | AB26: GV | AC26: Giảng viên | AH26: 12/12 | AI26: THPT | AJ26: THS | AK26: - Thạc sỹ - Đại học | AL26: - Khoa học giáo dục - Giáo dục thể chất | AM26: - Trường ĐH Thể dục thể thao - Trường ĐH SP Thể dục thể thao | AN26: - 6/6/2017 - 27/9/2010 | AO26: - Đã có - Chưa có | AP26: NVSP dành cho GV CĐ, ĐH | AQ26: 16/01/2019 | AR26: Trường ĐH SP HN 2 | AX26: TH UDCB | BC26: B1 | BD26: B1 | BE26: 10/5/2017 | BF26: Trường ĐH Thể dục Thể thao TPHCM | BG26: B1 | BH26: Sơ cấp | BI26: 22/8/2016 | BJ26: TT BD Chính trị Quận Tân Bình | BQ26: - BD GV chính (hạng II) tại Trường ĐH SP TPHCM ngày 15/5/2019 | BR26: x
A27: 21 | B27: Nguyễn Đức Thắng | C27: X | E27: X | F27: Nam | G27: TP. Hồ Chí Minh | H27: 02/09/1965 | I27: Khoa Khoa học cơ bản | J27: Khoa Khoa học cơ bản | K27: 021652916 | L27: 15/02/2011 | M27: CA TPHCM | N27: Kinh | O27: Phật | P27: Đồng Thanh - Hưng Yên | Q27: 59/56 Huỳnh Tịnh Của, P. 8, Q. 3 | S27: 0908221056 | U27: 0296011832 | W27: 01/11/1987 | X27: Sở GDĐT TPHCM | Y27: 01/08/2001 | Z27: Biên chế | AA27: 01/11/1987 | AB27: GV | AC27: Giảng viên | AH27: 12/12 | AI27: THPT | AJ27: DH | AK27: Đại học | AL27: Thể dục Thể thao | AM27: Trường ĐH Thể dục thể thao | AN27: 28/9/1989 | AO27: chưa có | AP27: SP dạy nghề dành cho GV dạy TCN, CĐN | AQ27: 7/9/2015 | AR27: Trường ĐH SP HN 2 | AX27: TH UDCB | AY27: 20/12/2018 | AZ27: Trường CĐ Lý Tự Trọng TPHCM | BA27: UD CNTT CB | BC27: B1 | BD27: B1 | BE27: 25/3/2019 | BF27: Trường ĐH Sài Gòn | BG27: B1 | BH27: Sơ cấp | BI27: 15/01/2014 | BJ27: TT BD Chính trị Quận Tân Bình | BQ27: - Bảng ghi kết quả học tập môn PP NC KH tại Trường ĐH SP HN 2 ngày 26/12/2018. | BR27: x
A28: 22 | B28: Nguyễn Mạnh Phương | C28: X | E28: X | F28: Nam | G28: Tây Ninh | H28: 09/12/1981 | I28: Khoa Khoa học cơ bản | J28: Khoa Khoa học cơ bản | K28: 072081001354 | L28: 14/07/2017 | M28: Cục Cảnh sát Đăng ký quản lý cư trú | N28: Kinh | O28: Không | P28: Thành phố Hải Phòng | Q28: 1A Mai Hắc Đế, P15, Q8 | S28: 0918003216 | U28: 0206038645 | W28: 01/09/2008 | X28: Sở GDĐT TPHCM | Y28: 01/09/2008 | Z28: Hợp đồng không thời hạn | AA28: 01/09/2008 | AB28: GV | AC28: Giảng viên | AH28: 12/12 | AI28: THPT | AJ28: DH | AK28: Đại học | AL28: Giáo dục thể chất | AM28: Trường ĐH SP TPHCM | AN28: 20/7/2005 | AO28: Chưa có | AP28: TN Sư phạm | AQ28: 20/7/2005 | AR28: Trường ĐH SP TPHCM | AX28: B | AY28: 17/01/2003 | AZ28: Trường CĐ Bán công CN&QTDN - CTIM | BA28: B | BC28: B (2019) | BD28: A2 | BG28: B | BH28: Sơ cấp | BI28: 27/5/2016 | BJ28: TT BD Chính trị Quận Tân Bình | BQ28: - BD GV chính (hạng II) tại Trường ĐH SP TPHCM ngày 15/5/2019 | BR28: x
A29: 23 | B29: Nguyễn Phú Tân | C29: X | E29: X | F29: Nam | G29: Đồng Tháp | H29: 01/01/1977 | I29: Khoa Khoa học cơ bản | J29: Khoa Khoa học cơ bản | K29: 024960154 | L29: 11/07/2008 | M29: CA. TPHCM | N29: Kinh | O29: Không | P29: Xã Tịnh Thới, Thị xã Cao Lãnh, Tỉnh Ðồng Tháp | Q29: 9 Chu Văn An, P. 1, Q. 6, TPHCM | S29: 0932169199 | T29: nguyenphutan@gmail.com | U29: 4902001553 | W29: 01/09/2008 | X29: Sở GDĐT TPHCM | Y29: 01/09/2008 | Z29: Hợp đồng không thời hạn | AA29: 01/09/2001 | AB29: GV | AC29: Giảng viên | AH29: 12/12 | AI29: THPT | AJ29: DH | AK29: Đại học | AL29: Giáo dục thể chất | AM29: Trường ĐH SP Đồng Tháp | AN29: 28/02/2008 | AO29: chưa có | AP29: TN Sư phạm | AQ29: 28/02/2008 | AR29: Trường ĐH SP Đồng Tháp | AX29: UD CNTT cơ bản | AY29: 6/4/2018 | AZ29: Trường ĐH SP TPHCM | BA29: UD CNTT CB | BC29: B1 | BD29: B1 | BE29: 11/01/2019 | BF29: Trường ĐH Sài Gòn | BG29: B1 | BH29: Sơ cấp | BI29: 22/8/2016 | BJ29: TT BD Chính trị Quận Tân Bình | BQ29: - BD GV chính (hạng II) tại Trường ĐH SP TPHCM ngày 15/5/2019 - CN Hoàn thành khóa BD GV, GV môn GDQP - AN các trường ĐH, CĐ, THCN năm 2012 tại Bộ GDĐT ngày 11/8/2012 | BR29: x
A30: 24 | B30: Nguyễn Phương Hà | C30: X | E30: X | F30: Nữ | G30: TP. Hồ Chí Minh | H30: 29/11/1979 | I30: Khoa Khoa học cơ bản | J30: Khoa Khoa học cơ bản | K30: 023621571 | L30: 29/08/2008 | M30: CA. TPHCM | N30: Kinh | O30: Không | P30: Tỉnh Ðồng Nai | Q30: 453/30/5 Tỉnh lộ 43, KP1, P. Tam Phú, Q. Thủ Đức | S30: 0988193279 | U30: 0205363659 | W30: 01/09/2005 | X30: Sở GDĐT TPHCM | Y30: 01/09/2005 | Z30: Hợp đồng không thời hạn | AA30: 01/09/2005 | AB30: GV | AC30: Giảng viên | AH30: 12/12 | AI30: THPT | AJ30: THS | AK30: - Thạc sỹ - Đại học | AL30: - Giáo dục học - Toán học | AM30: - Trường ĐH SP KT TPHCM - Trường ĐH Bách khoa TPHCM | AN30: - 01/3/2012 - 18/10/2004 | AO30: - chưa có - Đã có | AP30: - SPDN - LL dạy học và GD phục vụ cho việc lên lớp và GD | AQ30: - 16/6/2008 - 29/6/2005 | AR30: - Trường ĐH Sư phạm TPHCM - Trường ĐH SP KT TPHCM | AX30: A | AY30: 19/8/2002 | AZ30: Trường ĐH SP KT TPHCM | BA30: A | BC30: TOEFL ITP 450 | BD30: B1 | BE30: 25/8/2010 | BF30: IIG | BG30: B1 | BH30: Sơ cấp | BI30: 22/8/2016 | BJ30: TT BD Chính trị Quận Tân Bình | BQ30: - BD GV chính (hạng II) tại Trường ĐH SP TPHCM ngày 15/5/2019 - CC Triết học, LL dạy học ĐH, PP NC KH tại Trường ĐH SP KT TPHCM ngày 22/8/2007. - CN QLHC NN và QL ngành GD&ĐT tại Trường ĐH SP TPHCM ngày 15/6/2005 | BR30: x
A31: 25 | B31: Nguyễn Thanh Tú | C31: X | E31: X | F31: Nam | G31: TP. Hồ Chí Minh | H31: 18/09/1976 | I31: Khoa Khoa học cơ bản | J31: Khoa Khoa học cơ bản | K31: 079076002757 | L31: 22/08/2016 | M31: Cục Cảnh sát Đăng ký quản lý cư trú | N31: Kinh | O31: Không | P31: Xã Phước Thạnh, Huyện Đất Đỏ, Tỉnh Bà Rịa - Vũng Tầu | Q31: 296 Hoàng Văn Thụ, P. 4, Q. Tân Bình | S31: 0908255177 | T31: ngthtu@yahoo.com | U31: 0298115739 | W31: 01/09/1998 | X31: Sở GDĐT TPHCM | Y31: 30/07/2000 | Z31: Biên chế | AA31: 01/09/1998 | AB31: GV | AC31: Giảng viên | AF31: 20/12/2007 | AG31: X | AH31: 12/12 | AI31: THPT | AJ31: THS | AK31: - Thạc sỹ - Đại học - Đại học | AL31: - Vật lý kỹ thuật - Vật lý - Kỹ sư điện tử | AM31: - Trường ĐH Bách khoa - Trường ĐH SP TPHCM - Trường ĐH Bách khoa | AN31: - 6/11/2014 - 10/8/1998 - 19/3/2001 | AO31: - Đã có - chưa có - chưa có | AP31: NVSP dành cho GV ĐH, CĐ | AQ31: 30/10/2019 | AR31: Trường ĐH SP HN2 | AX31: B | AY31: 28/01/2015 | AZ31: Trường ĐH KHTN | BA31: B | BC31: - Toeic 565 -B | BD31: B1 | BE31: - 29/6/2014 - 7/5/2019 | BF31: - IIG - Trường CĐ Lý Tự Trọng TPHCM | BG31: B1 | BH31: Trung cấp | BI31: 21/7/2018 | BJ31: TT BD Chính trị Quận Tân Bình | BQ31: - BD GV chính (hạng II) tại Trường ĐH SP TPHCM ngày 15/5/2019 - CN Sơ cấp LLCT tại TT BD Chính trị Quận Tân Bình TPHCM ngày 15/1/2014 - CC Triết học, LL dạy học ĐH, PP NC KH tại Trường ĐH SP KT TPHCM ngày 22/8/2007. - CN BD PP dạy học tại Trường ĐH SP KT TPHCM ngày 22/4/2006. | BR31: x
A32: 26 | B32: Nguyễn Thị Cẩm Thạch | C32: X | E32: X | F32: Nữ | G32: Thạch Long - Thạch Hà - Hà Tĩnh | H32: 31/10/1970 | I32: Khoa Khoa học cơ bản | J32: Khoa Khoa học cơ bản | K32: 023837190 | L32: 19/10/2011 | M32: CA TPHCM | N32: Kinh | O32: Không | P32: Xã Thạch Long, Huyện Thạch Hà, Tỉnh Hà Tĩnh | Q32: 60/133 Đường số 10, P9, Q. Gò Vấp | S32: 0983403300 | U32: 0200134238 | W32: 01/09/2000 | X32: Sở GDĐT TPHCM | Y32: 01/09/2000 | Z32: Biên chế | AA32: 01/09/2000 | AB32: GV | AC32: Giảng viên | AH32: 12/12 | AI32: THPT | AJ32: THS | AK32: - Thạc sỹ - Đại học | AL32: - Đại số và Lý thuyết số - Toán học | AM32: - Trường ĐH Sư phạm TPHCM | AN32: - 30/8/2010 - 15/11/1995 | AO32: x | AP32: - TN Sư phạm - Sư phạm dạy nghề | AQ32: - 30/8/2010 | AR32: Trường ĐH Sư phạm TPHCM | AX32: A | AY32: 12/8/2015 | AZ32: Trường CĐ Lý Tự Trọng TPHCM | BA32: A | BC32: - C - TOEFL ITP 450 | BD32: B1 | BE32: - 9/4/2009 | BF32: Trường ĐH SP TPHCM | BG32: C | BH32: Sơ cấp | BI32: 22/8/2016 | BJ32: TT BD Chính trị Quận Tân Bình | BQ32: - BD GV chính (hạng II) tại Trường ĐH SP TPHCM ngày 15/5/2019 | BR32: x
A33: 27 | B33: Nguyễn Thị Thủy | C33: X | E33: X | F33: Nữ | G33: Nghệ An | H33: 08/11/1983 | I33: Khoa Khoa học cơ bản | J33: Khoa Khoa học cơ bản | K33: 025098282 | L33: 06/01/2009 | M33: CA.TPHCM | N33: Kinh | O33: Không | P33: Xã Hoà Tiến, Huyện Hoà Vang, Thành phố Ðà Nẵng | Q33: 173/25 Đường số 28, Phường 6, Quận Gò Vấp, TPHCM | S33: 0915226062 | T33: nguyenthuy.ns@gmail.com | U33: 0205363662 | W33: 01/09/2009 | X33: Sở GDĐT TPHCM | Y33: 01/09/2009 | Z33: Hợp đồng không thời hạn | AA33: 01/09/2009 | AB33: GV | AC33: Giảng viên | AH33: 12/12 | AI33: THPT | AJ33: THS | AK33: - Thạc sỹ - Đại học | AL33: - LL&PP dạy học BM Toán - Toán học | AM33: Trường ĐH Vinh | AN33: - 18/01/2013 - 8/8/2007 | AO33: x | AP33: - NVSP dành cho GV - SP dạy nghề dành cho GV dạy TCN, CĐN - NVSP | AQ33: - 27/11/2014 - 7/9/2015 - 27/11/2014 | AR33: - Trường ĐH SP TPHCM - Trường CĐ Nghề TPHCM - Trường ĐH Vinh | AX33: B | AY33: 10/8/2005 | AZ33: Liên hiệp Tin học và chuyển giao công nghệ UITT | BA33: B | BC33: - B1 - B | BD33: B1 | BE33: - 4/1/2013 - 2/8/2006 | BF33: - Trường ĐH Vinh - TT Tiếng Anh khoa học Jupiter ngày 2/8/2006 | BG33: B1 | BH33: Sơ cấp | BI33: 27/5/2016 | BJ33: TT BD Chính trị Quận Tân Bình | BQ33: - BD GV chính (hạng II) tại Trường ĐH SP TPHCM ngày 15/5/2019 - CN QLHCNN & QL ngành GDĐT tại Trường ĐH Vinh ngày 29/6/2007. | BR33: x
A34: 28 | B34: Nguyễn Văn Đông | C34: X | E34: X | F34: Nam | G34: Đập Đá - An Nhơn - Bình Định | H34: 21/05/1966 | I34: Khoa Khoa học cơ bản | J34: Khoa Khoa học cơ bản | K34: 023622113 | L34: 11/11/1997 | M34: CA. TPHCM | N34: Kinh | O34: Không | P34: Thị trấn Đập Đá, Huyện An Nhơn, Tỉnh Bình Ðịnh | Q34: 998/15 Quang Trung, P. 8, Q. Gò Vấp, TPHCM | S34: 0903179777 | T34: nguyendong66@gmail.com | U34: 0201155197 | W34: 01/09/2001 | X34: Sở GDĐT TPHCM | Y34: 01/09/2001 | Z34: Biên chế | AA34: 01/09/2001 | AB34: GV | AC34: Giảng viên | AH34: 12/12 | AI34: THPT | AJ34: DH | AK34: Đại học | AL34: - Lý - KTCN - Quản trị kinh doanh | AM34: - Trường ĐH SP Qui Nhơn - Trường ĐH Mở Bán công TPHCM | AN34: - 26/10/1991 - 9/10/1998 | AO34: Chưa có | AP34: TN Sư phạm | AQ34: 26/10/1991 | AR34: Trường ĐH Sư phạm TPHCM | AX34: TH UDCB | BC34: B (2019) | BD34: A2 | BG34: B | BH34: Sơ cấp | BI34: 22/8/2016 | BJ34: TT BD Chính trị Quận Tân Bình | BQ34: - BD GV chính (hạng II) tại Trường ĐH SP TPHCM ngày 15/5/2019 | BR34: x
A35: 29 | B35: Nguyễn Văn Hậu | C35: X | E35: X | F35: Nam | G35: Thủy Biều, TP. Huế | H35: 23/05/1969 | I35: Khoa Khoa học cơ bản | J35: Khoa Khoa học cơ bản | K35: 046069000174 | L35: 07/03/2017 | M35: CA. TPHCM | N35: Kinh | O35: Phật | P35: Xã Thủy Biều, Thành phố Huế, Tỉnh Thừa Thiên - Huế | Q35: 411/7 Nguyễn Thái Bình, Phường 12, Quận Tân Bình, TPHCM | S35: 0918143806 | T35: v_hau2305@yahoo.com.vn | U35: 0205280930 | W35: 01/09/2013 | X35: Sở GDĐT TPHCM | Y35: 01/09/2013 | Z35: Hợp đồng không thời hạn | AA35: 01/09/2013 | AB35: GV | AC35: Giảng viên | AH35: 12/12 | AI35: THPT | AJ35: DH | AK35: Đại học | AL35: Toán | AM35: Trường ĐH SP Huế | AN35: 15/6/1992 | AO35: x | AP35: TN Sư phạm | AQ35: 15/6/1992 | AR35: Trường ĐH SP Huế | AX35: B | AY35: 27/8/2014 | AZ35: Viện Đào tạo & Nâng cao TPHCM | BA35: B | BC35: - B - B (2019) | BD35: A2 | BE35: - 28/8/2014 | BF35: Viện Đào tạo & Nâng cao TPHCM | BG35: B | BH35: Sơ cấp | BI35: 22/8/2016 | BJ35: TT BD Chính trị Quận Tân Bình | BQ35: - CC LL dạy học ĐH tại Trường ĐH KHXH & NV TPHCM ngày 7/11/2014. '- CN Triết học tại Trường ĐH Bách khoa TPHCM ngày 26/1/2015.. | BR35: x
A36: 30 | B36: Trịnh Khắc Vũ | C36: X | E36: X | F36: Nam | G36: Đắk Lắk | H36: 17/04/1981 | I36: Khoa Khoa học cơ bản | J36: Khoa Khoa học cơ bản | K36: 025244382 | L36: 15/03/2010 | M36: CA.TPHCM | N36: Kinh | O36: Không | P36: Xã Trà Giang, Huyện Kiến Xương, Tỉnh Thái Bình | Q36: 604/12 Huỳnh Tấn Phát, Phường Tân Phú, Quận 7, TPHCM | S36: 0908657007 | T36: trinhkhac@yahoo.com | U36: 7910171242 | W36: 01/09/2009 | X36: Sở GDĐT TPHCM | Y36: 01/09/2009 | Z36: Hợp đồng không thời hạn | AA36: 01/09/2009 | AB36: GV | AC36: Giảng viên | AH36: 12/12 | AI36: THPT | AJ36: THS | AK36: - Thạc sỹ - Đại học | AL36: - Hoá vô cơ - Hóa học | AM36: - Trương ĐH KHTN - Trường ĐH SP TPHCM | AN36: - 3/3/2009 - 10/7/2003 | AO36: x | AP36: TN Sư phạm | AQ36: - 10/7/2003 | AR36: Trường ĐH SP TPHCM | AX36: TH UDCB | BC36: - C - B | BD36: B1 | BE36: 22/3/2007 | BF36: Trường ĐH KHXH&NV | BG36: C | BH36: Sơ cấp | BI36: 22/8/2016 | BJ36: TT BD Chính trị Quận Tân Bình | BQ36: - BD GV chính (hạng II) tại Trường ĐH SP TPHCM ngày 15/5/2019 | BR36: x
A37: 31 | B37: Lê Minh Phong | C37: X | E37: X | F37: Nam | G37: Nam Định | H37: 17/10/1976 | I37: Khoa Khoa học cơ bản | J37: Khoa Khoa học cơ bản | K37: 024941650 | L37: 16/05/2008 | M37: CA.TPHCM | N37: Kinh | O37: Không | P37: Xã Mộc Bắc, Huyện Duy Tiên, Tỉnh Hà Nam | Q37: 350/6A1 Hoàng Văn Thụ, Phường 4, Quận.Tân Bình, TPHCM | S37: 0915999681 | T37: minhphong179@gmail.com | U37: 7910171237 | W37: 01/09/2009 | X37: Sở GDĐT TPHCM | Y37: 01/09/2009 | Z37: Hợp đồng không thời hạn | AA37: 01/09/2009 | AB37: GV | AC37: Giảng viên | AH37: 12/12 | AI37: THPT | AJ37: DH | AK37: Đại học | AL37: Hóa học | AM37: Trường ĐH SP TPHCM | AN37: 15/7/1999 | AO37: chưa có | AP37: NVSP dành cho GV CĐ, ĐH | AQ37: 16/01/2019 | AR37: Trường ĐH SP HN 2 | AX37: B | AY37: 19/5/2000 | AZ37: CT TM & CN Tin học số I | BA37: B | BC37: C | BD37: B1 | BE37: 10/01/2001 | BF37: Viện ĐH Mở Hà Nội | BG37: C | BR37: x
A38: 32 | B38: Trương Thị Hồng | C38: x | E38: x | F38: Nữ | G38: Thanh Hóa | H38: 19/02/1977 | I38: Khoa Khoa học cơ bản | J38: Khoa Khoa học cơ bản | K38: 023082567 | L38: 15/12/2008 | M38: CA. TPHCM | N38: Kinh | O38: #N/A | P38: #N/A | Q38: 162/46 Nguyễn Văn Lượng, Phường 17, Quận Gò Vấp, TPHCM | S38: 01268764195 | U38: 0299009498 | W38: 03/06/2014 | X38: Sở GDĐT TPHCM | Y38: 03/06/2014 | Z38: Hợp đồng không thời hạn | AA38: 01/08/1998 | AB38: GV | AC38: Giảng viên | AF38: 06/03/2004 | AG38: X | AH38: 12/12 | AI38: THPT | AJ38: THS | AK38: Thạc sỹ | AL38: Ngôn ngữ học | AP38: CC NVSP dành cho GV ĐH, CĐ | AX38: Trình độ A | BC38: B1 | BD38: B1 | BG38: B1 | BH38: Trung cấp | BQ38: Bồi dưỡng nghiệp vụ hành chính văn phòng | BR38: x
A41: Số TT | B41: Đơn vị | C41: Tổng | D41: Chức vụ/ Chức danh | I41: Kiêm chức | J41: Trình độ chuyên môn | P41: Trình độ Tin học | Y41: Trình độ Ngoại ngữ | AI41: Trình độ Lý luận Chính trị | AL41: Hợp đồng | AN41: Đảng viên | AO41: Nữ
D42: Trưởng, Phụ trách phòng | E42: Phó Trưởng đơn vị | F42: Trưởng Bộ môn, Tổ trưởng | G42: Nhân viên | H42: Giảng viên | J42: Tiến sỹ | K42: Thạc sỹ | L42: Đại học | M42: Cao đẳng | N42: Trung cấp | O42: Khác | P42: A | Q42: B | R42: TC | S42: CĐ | T42: ĐH | U42: THS | V42: IC3 | W42: UD CNTT CB | X42: UD CNTT NC | Y42: A | Z42: B | AA42: C | AB42: TC | AC42: CĐ | AD42: ĐH | AE42: THS | AF42: B1 | AG42: B2 | AH42: C1 | AI42: SC | AJ42: TC | AK42: Trên TC | AL42: Biên chế + Không thời hạn + Nghị định 68 (Sở) | AM42: Hợp đồng trường
B43: Khoa KHCB | C43: =SUM(D43:H43) -> 32 | D43: =SUM((COUNTIF($AB$7:$AB$38,"HT")+(COUNTIF($AB$7:$AB$38,"TK")+(COUNTIF($AB$7:$AB$38,"TP"))+(COUNTIF($AB$7:$AB$38,"TTT"))))) -> 1 | E43: =SUM((COUNTIF($AB$7:$AB$38,"PHT")+(COUNTIF($AB$7:$AB$38,"PK")+(COUNTIF($AB$7:$AB$38,"PP"))+(COUNTIF($AB$7:$AB$38,"PTT"))))) -> 1 | F43: =SUM((COUNTIF($AB$7:$AB$38,"TBM")+(COUNTIF($AB$7:$AB$38,"TT")))) -> 2 | G43: =COUNTIF($AB$7:$AB$38,"NV") -> 0 | H43: =COUNTIF($AB$7:$AB$38,"GV") -> 28 | I43: =COUNTIF($D$7:$D$38,"x") -> 0 | J43: =COUNTIF($AJ$7:$AJ$38,"TS") -> 0 | K43: =COUNTIF($AJ$7:$AJ$38,"THS") -> 23 | L43: =COUNTIF($AJ$7:$AJ$38,"DH") -> 9 | M43: =COUNTIF($AJ$7:$AJ$38,"CD") -> 0 | N43: =COUNTIF($AJ$7:$AJ$38,"TC") -> 0 | O43: =COUNTIF($AJ$7:$AJ$38,"") -> 0 | P43: =COUNTIF($BA$7:$BA$38,"A") -> 8 | Q43: =COUNTIF($BA$7:$BA$38,"B") -> 8 | R43: =COUNTIF($BA$7:$BA$38,"TC") -> 0 | S43: =COUNTIF($BA$7:$BA$38,"CD") -> 0 | T43: =COUNTIF($BA$7:$BA$38,"DH") -> 2 | U43: =COUNTIF($BA$7:$BA$38,"THS") -> 0 | V43: =COUNTIF($BB$7:$BB$38,"IC3") -> 0 | W43: =COUNTIF($BA$7:$BA$38,"UD CNTT CB") -> 6 | X43: =COUNTIF($BA$7:$BA$38,"UD CNTT NC") -> 0 | Y43: =SUM((COUNTIF($BG$7:$BG$38,"A"))+(COUNTIF($BG$7:$BG$38,"A1"))) -> 0 | Z43: =SUM((COUNTIF($BG$7:$BG$38,"B"))+(COUNTIF($BG$7:$BG$38,"A2"))) -> 5 | AA43: =COUNTIF($BG$7:$BG$38,"C") -> 4 | AB43: =COUNTIF($BG$7:$BG$38,"TC") -> 0 | AC43: =COUNTIF($BG$7:$BG$38,"CD") -> 0 | AD43: =COUNTIF($BG$7:$BG$38,"DH") -> 3 | AE43: =COUNTIF($BG$7:$BG$38,"THS") -> 7 | AF43: =COUNTIF($BG$7:$BG$38,"B1") -> 11 | AG43: =COUNTIF($BG$7:$BG$38,"B2") -> 2 | AH43: =COUNTIF($BG$7:$BG$38,"C1") -> 0 | AI43: =COUNTIF($BH$7:$BH$38,"Sơ cấp") -> 25 | AJ43: =COUNTIF($BH$7:$BH$38,"Trung cấp") -> 6 | AK43: =COUNTIF($BH$7:$BH$38,"Cao cấp") -> 0 | AL43: =COUNTIF($X$7:$X$38,"Sở GDĐT TPHCM") -> 32 | AM43: =COUNTIF($X$7:$X$38,"Trường CĐ Lý Tự Trọng TPHCM") -> 0 | AN43: =COUNTIF($AG$7:$AG$38,"x") -> 5 | AO43: =COUNTIF($F$7:$F$38,"Nữ") -> 18
AP1264: =COUNTIF(AJ7:AJ37,"Thạc sỹ") -> 0

Sheet KINH TE
