Workbook

Sheet DONG LUC
A1: UBND THÀNH PHỐ HỒ CHÍ MINH TRƯỜNG CAO ĐẲNG LÝ TỰ TRỌNG THÀNH PHỐ HỒ CHÍ MINH | AP1: CỘNG HÒA XÃ HỘI CHỦ NGHĨA VIỆT NAM Độc lập - Tự do - Hạnh phúc
A3: DANH SÁCH THỐNG KÊ CHUẨN CHUYÊN MÔN NGHIỆP VỤ CỦA NHÀ GIÁO
A5: STT | B5: Họ tên | C5: GV | D5: kiêm chức | E5: GV + kiêm chức | F5: Giới tính | G5: Nơi sinh | H5: Ngày/tháng/năm sinh | I5: Kiêm chức tại khoa | J5: Đơn vị | K5: Số chứng mình nhân dân | L5: Ngày cấp Chứng minh nhân dân | M5: Nơi cấp chứng minh nhân dân | N5: Dân tộc | O5: Tôn giáo | P5: Quê quán | Q5: Địa chỉ thường trú | R5: Nơi ở hiện nay | S5: Điện thoại DD | T5: Email | U5: Số sổ bảo hiểm xã hội | V5: Ngày hợp đồng | W5: Ngày tuyển dụng | X5: Cơ quan tuyển dụng | Y5: Ngày về cơ quan hiện nay | Z5: Thuộc loại cán bộ | AA5: Ngày vào ngành giáo dục | AB5: Chức vụ/ Chức danh hiện tại (công thức) | AC5: Chức vụ/ Chức danh hiện tại | AD5: Ngày bổ nhiệm chức vụ hiện tại | AE5: Ngày vào đảng | AF5: Ngày vào đảng chính thức | AG5: Đảng viên (công thức) | AH5: Học vấn phổ thông | AI5: Đã tốt nghiệp | AJ5: Trình độ chuyên môn | AP5: Nghiệp vụ sư phạm | AS5: Kỹ năng nghề | AX5: Tin học | BC5: Ngoại ngữ | BH5: Lý luận Chính trị | BK5: Quản lý nhà nước | BN5: Trình độ quản lý giáo dục | BQ5: Chứng chỉ khác
AJ6: Trình độ chuyên môn cao nhất (công thức) | AK6: Trình độ chuyên môn cao nhất | AL6: Chuyên ngành đào tạo | AM6: Nơi đào tạo | AN6: Năm tốt nghiệp | AO6: Bảng điểm | AP6: Chứng chỉ bồi dưỡng nghiệp vụ | AQ6: Ngày cấp chứng chỉ | AR6: Nơi cấp | AS6: Kỹ năng nghề | AT6: Ngày cấp chứng chỉ | AU6: Nơi cấp | AV6: Kỹ năng nghề 3/7 trở lên (công thức) | AW6: Kỹ năng nghề Quốc gia (công thức) | AX6: Trình độ tin học | AY6: Ngày cấp | AZ6: Nơi cấp | BA6: Trình độ tin học (công thức) | BB6: Trình độ tin học Quốc tế (công thức) | BC6: Trình độ ngoại ngữ | BD6: Theo khung NLNN 6 bậc | BE6: Ngày cấp chứng chỉ | BF6: Nơi cấp CC Ngoại ngữ | BG6: Trình độ ngoại ngữ (thống kê) | BH6: Trình độ lý luận chính trị | BI6: Ngày cấp | BJ6: Nơi cấp | BK6: Trình độ quản lý nhà nước | BL6: Ngày cấp | BM6: Nơi cấp | BN6: Trình độ quản lý giáo dục | BO6: Ngày cấp | BP6: Nơi cấp
A7: 01 | B7: Nguyễn Anh Tuấn | C7: X | E7: X | F7: Nam | G7: TP.HCM | H7: 06/11/1981 | I7: Khoa Động lực | J7: Khoa Động lực | K7: 079081001334 | L7: 27/04/2016 | M7: Cục cảnh sát đăng ký quản lý cư trú | N7: Kinh | O7: Không | P7: Thành phố Hồ Chí Minh | Q7: 95 Rạch Cát, Bến Lức, P7, Q8 | S7: 0903660165 | T7: anhtuanspkt@gmail.com | U7: 0205363670 | W7: 01/09/2005 | X7: Sở GDĐT TPHCM | Y7: 01/09/2005 | Z7: Hợp đồng không thời hạn | AA7: 01/09/2005 | AB7: TK | AC7: Trưởng Khoa | AD7: 01/08/2015 | AH7: 12/12 | AI7: THPT | AJ7: TS | AK7: - Tiến sỹ - Thạc sỹ - Đại học | AL7: - Kỹ thuật Cơ khí động lực - Khai thác và Bảo trì ô tô, máy kéo - Cơ khí động lực | AM7: - Trường ĐH GTVT - Trường ĐH SP Kỹ thuật TPHCM - Trường ĐH SP Kỹ thuật TPHCM | AN7: - 0/12/2018 -25/05/2010 - 28/04/2005 | AO7: - Chưa có - Chưa có - Đã có | AP7: - NVSP cho GV ĐH, CĐ - SP Bậc 2 | AQ7: - Trường ĐH SP Hà Nội - ĐH SP Kỹ thuật TPHCM | AR7: - 30/11/2018 - 01/11/2002 | AS7: - Chứng chỉ nghề CN ô tô bậc 4/5 (Đức) - Kỹ năng nghề Quốc gia bậc 3 Nghề Công nghệ Ô tô - Kỹ năng nghề Sửa chữa ô tô bậc 3/7 | AT7: - 16/10/2019 - 21/11/2018 - 28/12/2017 | AU7: - Đức - Tổng cục GDNN - Trường CĐ Lý Tự Trọng TPHCM | AV7: x | AW7: x | AX7: - A - UD CNTT CB - Autocad Căn bản | AY7: - 26/12/2000 - 16/01/2019 - 31/12/2003 | AZ7: - ĐH KHTN TPHCM - ĐH Ngân hàng TPHCM - ĐH SPKT | BA7: UD CNTT CB | BC7: - B - B1 - B2 - Đại học | BD7: C1 | BE7: - 12/01/2001 - 23/7/2012 - 6/6/2017 - 21/05/2019 | BF7: - ĐH SP TPHCM - ĐH Vinh - ĐH SP TPHCM - ĐH Hàng hải VN | BG7: DH | BH7: Trung cấp | BN7: CBQL Khoa, Phòng trường ÐH, CĐ | BO7: 28/09/2016 | BP7: Học viện QLGD | BQ7: - Bồi dưỡng CDNN giảng viên cao cấp (hạng I) tại Học viện Quản lý Giáo dục ngày 18/06/2019. - BD GV chính (hạng II) tại Trường ĐH SP TPHCM ngày 15/05/2019 - BD Kiến thức QPAN đối tượng 3 tại Trường Quân sự TP ngày 17/08/2018 - CC nghề Lái xe du lịch K. 44A tại TT Kỹ thuật Tổng hợp ngày 05/08/2001. - PP Giảng dạy ĐH tại Trường ĐH SP TPHCM ngày 17/06/2006. - Sớ cấp LLCT tại TT BD Chính trị Q. Tân Bình ngày 17/6/2014. - CC môn học SĐH Triết học, PP NCKH, LL dạy học SĐH ngày 16/10/2007. - Nhận thức về Đảng tại Đảng ủy Khối ĐH - CĐ và THCN ngày 26/03/2003. - Hệ thống Đánh lửa & Phun xăng Điện tử trên ô tô tại ĐH SPKT TPHCM ngày 05/07/2004. | BR7: x
A8: 02 | B8: Võ Đắc Thịnh | C8: X | E8: X | F8: Nam | G8: Thành phố Hồ Chí Minh | H8: 16/01/1979 | I8: Khoa Động lực | J8: Khoa Động lực | K8: 079079003245 | L8: 18/12/2018 | M8: Cục cảnh sát đăng ký quản lý cư trú | N8: Kinh | O8: Không | P8: Tỉnh Bình Dương | Q8: 204 Tầng 3 Lô G Chung cư Bàu Cát II, Phường 10, Quận Tân Bình, TPHCM | S8: 0903869052 | T8: vodacthinhoto79@gmail.com | U8: 0202201607 | W8: 01/09/2002 | X8: Sở GDĐT TPHCM | Y8: 01/09/2002 | Z8: Biên chế | AA8: 01/09/2002 | AB8: PK | AC8: Phó Trưởng Khoa | AD8: 01/08/2015 | AF8: 20/12/2007 | AG8: X | AH8: 12/12 | AI8: THPT | AJ8: THS | AK8: - Thạc sỹ - Đại học | AL8: - Kỹ thuật Ô tô, máy kéo - Cơ khí Động lực | AM8: - Trường ĐH Bách khoa TPHCM - Trường ĐH SPKT TPHCM | AN8: - 24/4/2013 - 15/5/2001 | AO8: x | AP8: SP Bậc 2 | AQ8: 15/5/2001 | AR8: Trường ĐH SPKT TPHCM | AS8: - Kỹ năng nghề Quốc gia bậc 3 Nghề Công nghệ Ô tô - Kỹ năng nghề Sửa chữa ô tô bậc 3/7 | AT8: - 21/11/2018 - 29/3/1997 | AU8: - Tổng cục GDNN - Trường CĐ Lý Tự Trọng TPHCM | AV8: x | AW8: x | AX8: UD CNTT CB | AY8: 16/01/2019 | AZ8: Trường ĐH Ngân hàng TPHCM | BA8: UD CNTT CB | BC8: TOEFL ITP 457 | BD8: B1 | BE8: 24/4/2013 | BF8: Trường ĐH Bách khoa | BG8: B1 | BH8: Trung cấp | BN8: CBQL Khoa, Phòng trường ÐH, CĐ | BO8: 06/11/2012 | BP8: Học viện Quản lý Giáo dục | BQ8: - BD GV chính (hạng II) tại Trường ĐH SP TPHCM ngày 15/5/2019 - CN Sơ cấp LLCT tại TT BD Chính trị Quận Tân Bình ngày 15/1/2014. - CC PP nghiên cứu KH, LL dạy học ĐH, Triết học tại Trường ĐH SPKT TPHCM ngày 16/10/2007. - CN Nhận thức về Đảng tại Sở GDĐT TPHCM ngày 27/6/2003. | BR8: x
A9: 03 | B9: Hà Quốc Bảo | C9: X | E9: X | F9: Nam | G9: Kiên Giang | H9: 02/02/1987 | I9: Khoa Động lực | J9: Khoa Động lực | K9: 024578348 | L9: 11/08/2006 | M9: CA. TPHCM | N9: Kinh | O9: Thiên chúa | P9: Tỉnh Thái Bình | Q9: 114/34 Phú Thọ Hòa, P. Phú Thọ Hòa, Q. Tân Phú | S9: 0933651943 | T9: haquocbao22@yahoo.com.vn | U9: 7914159577 | W9: 01/09/2013 | X9: Sở GDĐT TPHCM | Y9: 01/09/2013 | Z9: Hợp đồng không thời hạn | AA9: 01/09/2013 | AB9: TBM | AC9: Trưởng bộ môn Điện ô tô | AD9: 01/01/2019 | AH9: 12/12 | AI9: THPT | AJ9: THS | AK9: - Thạc sỹ - Đại học | AL9: - Kỹ thuật Cơ khí Động lực - Cơ khí Động lực | AM9: Trường ĐH SPKT TPHCM | AN9: - 30/12/2015 - 15/03/2012 | AO9: x | AP9: SP Bậc 2 | AQ9: 14/6/2013 | AR9: Trường ĐH SPKT TPHCM | AS9: - Chứng chỉ nghề CN ô tô bậc 4/5 (Đức) - Kỹ năng nghề Sửa chữa ô tô bậc 3/7 | AT9: - 16/10/2019 - 28/12/2017 | AU9: - Đức - Trường CĐ Lý Tự Trọng TPHCM | AV9: x | AX9: A | AY9: 42034 | AZ9: Trường ĐH SP TPHCM | BA9: A | BC9: B1 | BD9: B1 | BE9: 30/08/2015 | BF9: Trường ĐH SPKT TPHCM | BG9: B1 | BQ9: - BD GV chính (hạng II) tại Trường ĐH SP TPHCM ngày 15/5/2019. - CC Lý luận dạy học ĐH tại ĐH KHXH & NV ngày 01/9/2015. | BR9: x
A10: 04 | B10: Nguyễn Hữu Mạnh | C10: X | E10: X | F10: Nam | G10: Lào Cai | H10: 04/03/1980 | I10: Khoa Động lực | J10: Khoa Động lực | K10: 023655683 | L10: 26/06/2013 | M10: CA TPHCM | N10: Kinh | O10: Không | P10: Xã An Quí, Huyện Quỳnh Phụ, Tỉnh Thái Bình | Q10: 428 Hoàng Hữu Nam, KP Giãn Dân, phường Long Thạnh Mỹ, Q9 | S10: 0983888291 | T10: manhnguyenckd@gmail.com | U10: 0206414710 | W10: 01/09/2006 | X10: Sở GDĐT TPHCM | Y10: 01/09/2006 | Z10: Hợp đồng không thời hạn | AA10: 01/09/2006 | AB10: TBM | AC10: Trưởng Bộ môn | AD10: 01/09/2015 | AH10: 12/12 | AI10: THPT | AJ10: THS | AK10: - Thạc sỹ - Đại học | AL10: - Kỹ thuật Cơ khí Động lực - Cơ khí Động lực | AM10: - Trường ĐH Bách khoa HN - Trường ĐH SPKT TPHCM | AN10: - 05/8/2014 - 25/10/2005 | AO10: x | AP10: SP Bậc 2 | AQ10: 19/10/2005 | AR10: Trường ĐH SPKT TPHCM | AS10: - Chứng chỉ nghề CN ô tô bậc 4/5 (Đức) - Kỹ năng nghề Sửa chữa ô tô bậc 3/7 - Sửa chữa ô tô & xe máy bậc 3/7 | AT10: - 16/10/2019 - 28/12/2017 - 20/02/2001 | AU10: - Đức - Trường CĐ Lý Tự Trọng TPHCM - Trường CĐ Công nghiệp 4 | AV10: x | AX10: Trình độ B | AY10: 26/4/2004 | AZ10: Trường ĐH SPKT TPHCM | BA10: B | BC10: - Đại học - B1 | BD10: C1 | BE10: - 25/03/2019 - 09/5/2013 | BF10: - Trường ĐH Kinh Bắc - Trường ĐH Bách khoa HN | BG10: DH | BH10: Trung cấp | BQ10: - BD GV chính (hạng II) tại Trường ĐH SP TPHCM ngày 15/5/2019 | BR10: x
A11: 05 | B11: Triệu Phú Nguyên | C11: X | E11: X | F11: Nam | G11: TPHCM | H11: 12/03/1980 | I11: Khoa Động lực | J11: Khoa Động lực | K11: 023523303 | L11: 18/04/2008 | M11: CA TPHCM | N11: Hoa | O11: Không | P11: Trung Quốc | Q11: 121A/13A Hậu Giang, P5, Q6 | S11: 0908368347 | T11: nguyentrieuphu@yahoo.com | U11: 7909078910 | W11: 01/09/2008 | X11: Sở GDĐT TPHCM | Y11: 01/09/2008 | Z11: Hợp đồng không thời hạn | AA11: 01/09/2008 | AB11: TBM | AC11: Trưởng Bộ môn | AD11: 01/12/2017 | AH11: 12/12 | AI11: THPT | AJ11: THS | AK11: - Thạc sỹ - Đại học | AL11: - Kỹ thuật Cơ khí Động lực - Cơ khí Động lực | AM11: - Trường ĐH Bách khoa HN - Trường ĐH SPKT TPHCM | AN11: - 05/8/2014 - 28/4/2005 | AO11: x | AP11: - SP Bậc 2 - SP Bậc 1 | AQ11: - 05/7/2009 - 25/7/2008 | AR11: Trường ĐH SP HN 2 | AS11: - Chứng chỉ nghề CN ô tô bậc 4/5 (Đức) - Kỹ năng nghề Sửa chữa ô tô bậc 3/7 | AT11: - 16/10/2019 - 11/9/2000 | AU11: - Đức - Trường CĐ Kỹ thuật Cao Thắng TPHCM | AV11: x | AX11: - Trình độ A - Autocad căn bản - Autocad nâng cao - Proengineer căn bản - Lắp ráp cài đặt máy vi tính | AY11: - 04/12/1996 - 04/04/2002 - 03/05/2002 - 31/7/2002 - 19/12/2001 | AZ11: - ĐH Tổng hợp TPHCM - ĐH Bách khoa TPHCM - ĐH Bách khoa TPHCM - ĐH Bách khoa TPHCM - TT Dạy nghề Q5 | BA11: A | BC11: B1 | BD11: B1 | BE11: 09/05/2013 | BF11: Trường ĐH Bách khoa Hà Nội | BG11: B1 | BH11: Trung cấp | BQ11: - BD GV chính (hạng II) tại Trường ĐH SP TPHCM ngày 15/5/2019 | BR11: x
A12: 06 | B12: Hồ Văn Hóa | C12: X | E12: X | F12: Nam | G12: TPHCM | H12: 29/06/1987 | I12: Khoa Động lực | J12: Khoa Động lực | K12: 024292308 | L12: 14/07/2004 | M12: CA. TPHCM | N12: Kinh | O12: Không | P12: Xã Bình Mỹ, Huyện Củ Chi, Thành phố Hồ Chí Minh | Q12: Tổ 8, ấp 7, xã Bình Mỹ, Huyện Củ Chi, TP.HCM | S12: 0906660312 | T12: vanhoaspkt@gmail.com | U12: #N/A | W12: 01/09/2012 | X12: Sở GDĐT TPHCM | Y12: 20/08/2012 | Z12: Hợp đồng không thời hạn | AA12: 20/08/2012 | AB12: GV | AC12: Giảng viên | AH12: 12/12 | AI12: THPT | AJ12: THS | AK12: - Thạc sỹ - Đại học | AL12: - Kỹ thuật Cơ khí động lực - Cơ khí Động lực | AM12: Trường ĐH SPKT TPHCM | AN12: - 30/12/2015 - 25/4/2011 | AO12: x | AP12: SP Bậc 2 | AQ12: 14/10/2011 | AR12: Trường ĐH SPKT TPHCM | AS12: - Kỹ năng nghề Quốc gia Công nghệ Ô tô bậc 3 - Chứng chỉ nghề Sửa chữa Ô tô bậc 3/7 | AT12: - 21/11/2018 - 28/12/2017 | AU12: - Tổng cục GDNN - Trường CĐ Lý Tự Trọng TPHCM | AV12: x | AW12: x | AX12: B | AY12: 16/08/2008 | AZ12: Trường ĐH Công nghiệp TPHCM | BA12: B | BC12: - B1 - B | BD12: B1 | BE12: - 28/08/2013 - 11/3/2008 | BF12: - Trường ĐH SPKT TPHCM - Trường ĐH Công nghiệp TPHCM | BG12: B1 | BH12: Sơ cấp | BR12: x
A13: 07 | B13: Đặng Thái Sơn | C13: X | E13: X | F13: Nam | G13: Kiên Giang | H13: 06/08/1984 | I13: Khoa Động lực | J13: Khoa Động lực | K13: 024761501 | L13: 20/12/2013 | M13: CA TPHCM | N13: Kinh | O13: Thiên chúa | P13: Xã Tân An, Huyện Tân Hiệp, Tỉnh Kiên Giang | Q13: Tổ 22 Ấp Đình, xã Tân Phú Trung, Củ Chi | S13: 0937681703 | T13: thaisonltt@gmail.com | U13: 7910171254 | W13: 01/09/2009 | X13: Sở GDĐT TPHCM | Y13: 01/09/2009 | Z13: Hợp đồng không thời hạn | AA13: 01/09/2009 | AB13: GV | AC13: Giảng viên | AH13: 12/12 | AI13: THPT | AJ13: THS | AK13: - Thạc sỹ - Đại học | AL13: - Kỹ thuật Ô tô, máy kéo - Cơ khí Động lực | AM13: - Trường ĐH Bách khoa TPHCM - Trường ĐH SPKT TPHCM | AN13: - 06/11/2014 - 26/11/2008 | AO13: x | AP13: SP Bậc 2 | AQ13: 26/11/2008 | AR13: Trường ĐH SPKT TPHCM | AS13: - Kỹ năng nghề Quốc gia Công nghệ Ô tô bậc 3 - Chứng chỉ nghề Sửa chữa Ô tô bậc 3/7 | AT13: - 21/11/2018 - 28/12/2017 | AU13: - Tổng cục GDNN - Trường CĐ Lý Tự Trọng TPHCM | AV13: x | AW13: x | AX13: UD CNTT CB | AY13: 19/07/2019 | AZ13: Trường ĐH Ngoại ngữ - Tin học TPHCM | BA13: UD CNTT CB | BC13: Toeic 520 | BD13: B1 | BE13: 09/12/2012 | BF13: IIG | BG13: B1 | BH13: Trung cấp | BQ13: - BD GV chính (hạng II) tại Trường ĐH SP TPHCM ngày 15/5/2019 | BR13: x
A14: 08 | B14: Hoàng Phúc Bảo | C14: X | E14: X | F14: Nam | G14: TPHCM | H14: 28/01/1984 | I14: Khoa Động lực | J14: Khoa Động lực | K14: 079084011850 | L14: 23/07/2018 | M14: Cục cảnh sát đăng ký quản lý cư trú | N14: Kinh | O14: Không | P14: Tỉnh Tiền Giang | Q14: 20/2 Phạm Văn Hùng, Phường 10, Quận 8, TPHCM | S14: 0968774325 | T14: hoangphucbaockd@gmail.com | U14: 7914159576 | W14: 01/09/2013 | X14: Sở GDĐT TPHCM | Y14: 01/09/2013 | Z14: Hợp đồng không thời hạn | AA14: 01/09/2013 | AB14: GV | AC14: Giảng viên | AH14: 12/12 | AI14: THPT | AJ14: DH | AK14: Đại học | AL14: Cơ khí động lực | AM14: Trường ĐH SPKT TPHCM | AN14: 06/06/2013 | AO14: x | AP14: - SP Bậc 2 - SP Bậc 1 | AQ14: - 29/4/2013 - 24/4/2013 | AR14: Trường ĐH SP HN 2 | AS14: - Kỹ năng nghề Quốc gia Công nghệ Ô tô bậc 3 - Chứng chỉ nghề Sửa chữa Ô tô bậc 3/7 - Chứng chỉ nghề Sửa chữa Ô tô bậc 3/7 | AT14: - 21/11/2018 - 28/12/2017 - 10/8/2006 | AU14: - Tổng cục GDNN - Trường CĐ Lý Tự Trọng TPHCM - Trường CĐ Lý Tự Trọng TPHCM | AV14: x | AW14: x | AX14: A | AY14: 26/09/2003 | AZ14: ĐH KHTN TPHCM | BA14: A | BC14: - B - TOEIC 400 | BD14: A2 | BE14: - 01/6/2015 - 2016 | BF14: Trường ĐH Sài Gòn | BG14: B | BQ14: - CC Lý luận dạy học ĐH tại Trường ĐH KHXH & NV ngày 12/9/2015. - CC Triết học tại Trường ĐH Bách khoa TPHCM ngày 04/9/2014. | BR14: x
A15: 09 | B15: Kiều Trung Tín | C15: X | E15: X | F15: Nam | G15: TPHCM | H15: 08/04/1982 | I15: Khoa Động lực | J15: Khoa Động lực | K15: 023493630 | L15: 15/06/2012 | M15: CA.TPHCM | N15: Kinh | O15: Không | P15: Xã Bình Chánh, Huyện Bình Chánh, Thành phố Hồ Chí Minh | Q15: C12/23 ấp 3 xã Bình Chánh, huyện Bình Chánh, TPHCM | S15: 01226148847 | T15: ttin182@yahoo.com.vn | U15: 0204354426 | W15: 01/09/2010 | X15: Sở GDĐT TPHCM | Y15: 01/09/2010 | Z15: Hợp đồng không thời hạn | AA15: 01/03/2009 | AB15: GV | AC15: Giảng viên | AH15: 12/12 | AI15: THPT | AJ15: DH | AK15: Đại học | AL15: Kỹ thuật Ô tô - Máy động lực | AM15: Trường ĐH Bách khoa TPHCM | AN15: 01/10/2008 | AO15: x | AP15: SP dạy nghề | AQ15: 18/01/2010 | AR15: Trường ĐH SPKT TPHCM | AS15: CC nghề Sửa chữa ô tô bậc 3/7 | AT15: 20/09/2007 | AU15: Trường CĐ Kỹ thuật Cao Thắng | AV15: x | AX15: - Cao Đẳng - A | AY15: - 18/10/2004 - 21/9/2007 | AZ15: - Trường CĐ SP TPHCM - ĐH KHTN TPHCM | BA15: CD | BC15: - TOEFL 433 - A | BD15: A1 | BE15: - 25/05/2014 - 24/4/1996 | BF15: Sở GDĐT TPHCM | BG15: B | BQ15: - BD GV chính (hạng II) tại Trường ĐH SP TPHCM ngày 15/5/2019 | BR15: x
A16: 10 | B16: Nguyễn Minh Thái | C16: X | E16: X | F16: Nam | G16: TPHCM | H16: 02/09/1984 | I16: Khoa Động lực | J16: Khoa Động lực | K16: 023727322 | L16: 29/07/2013 | M16: CA THPCM | N16: Kinh | O16: Không | P16: Xã Tân Thới Nhì, Huyện Hóc Môn, Thành phố Hồ Chí Minh | Q16: 66/1B ấp Dân Thắng 1, xã Tân Thới Nhì, huyện Hóc Môn, TPHCM | S16: 0904444491 | T16: nguyenminhthailtt@gmail.com | U16: 7910171253 | W16: 01/09/2009 | X16: Sở GDĐT TPHCM | Y16: 01/09/2009 | Z16: Hợp đồng không thời hạn | AA16: 01/09/2009 | AB16: GV | AC16: Giảng viên | AH16: 12/12 | AI16: THPT | AJ16: DH | AK16: Đại học | AL16: Cơ khí động lực | AM16: Trường ĐH SPKT TPHCM | AN16: 26/11/2008 | AO16: x | AP16: SP Bậc 2 | AQ16: 26/11/2008 | AR16: Trường ĐH SPKT TPHCM | AS16: - Chứng chỉ nghề Sửa chữa Ô tô bậc 3/7 - Kỹ năng nghề Quốc gia Công nghệ Ô tô bậc 3 | AT16: - 28/12/2017 - 21/11/2018 | AU16: - Trường CĐ Lý Tự Trọng TPHCM - Tổng cục GDNN | AV16: x | AW16: x | AX16: UD CNTT CB | AY16: 19/07/2019 | AZ16: Trường ĐH Ngoại ngữ - Tin học TPHCM | BA16: UD CNTT CB | BC16: B1 | BD16: B1 | BE16: 29/01/2018 | BF16: Trường ĐH SPKT TPHCM | BG16: B1 | BQ16: - BD GV chính (hạng II) tại Trường ĐH SP TPHCM ngày 15/5/2019 | BR16: x
A17: 11 | B17: Nguyễn Thái Bình | C17: X | E17: X | F17: Nam | G17: TPHCM | H17: 02/01/1973 | I17: Khoa Động lực | J17: Khoa Động lực | K17: 022958396 | L17: 18/03/2010 | M17: CA TPHCM | N17: Kinh | O17: Không | P17: Phường Tăng Nhơn Phú A, Quận 9, Thành phố Hồ Chí Minh | Q17: 637 Lê Văn Việt, KP5, Tăng Nhơn Phú A, Q.9 | S17: 0906414482 | T17: binhnguyenthai60@gmail.com | U17: 7910171256 | W17: 01/09/2009 | X17: Sở GDĐT TPHCM | Y17: 01/09/2009 | Z17: Hợp đồng không thời hạn | AA17: 01/09/2009 | AB17: GV | AC17: Giảng viên | AH17: 12/12 | AI17: THPT | AJ17: THS | AK17: - Thạc sỹ - Đại học | AL17: - Kỹ thuật Ô tô, máy kéo - Cơ khí động lực | AM17: - Trường ĐH Bách khoa HN - Trường ĐH SPKT TPHCM | AN17: - 01/11/2016 - 25/9/1998 | AO17: x | AP17: SP Bậc 2 | AQ17: 30/9/1998 | AR17: Trường ĐH SPKT TPHCM | AS17: - Chứng chỉ nghề Sửa chữa Ô tô bậc 3/7 - Kỹ năng nghề Quốc gia Công nghệ Ô tô bậc 3 | AT17: - 28/12/2017 - 21/11/2018 | AU17: - Trường CĐ Lý Tự Trọng TPHCM - Tổng cục GDNN | AV17: x | AW17: x | AX17: Trình độ B | AY17: 21/11/1998 | AZ17: Trường ĐH SPKT TPHCM | BA17: B | BC17: Đại học | BD17: C1 | BE17: 15/02/2002 | BF17: ĐH KHXH & NV | BG17: DH | BH17: Sơ cấp | BQ17: - BD GV chính (hạng II) tại Trường ĐH SP TPHCM ngày 15/5/2019 | BR17: x
A18: 12 | B18: Nguyễn Thành Đức | C18: X | E18: X | F18: Nam | G18: Đồng Tháp | H18: 14/10/1978 | I18: Khoa Động lực | J18: Khoa Động lực | K18: 024520146 | L18: 16/09/2014 | M18: CA TPHCM | N18: Kinh | O18: Không | P18: Tỉnh Ðồng Tháp | Q18: 10/13 Kênh Nước Đen, P.Bình Hưng Hòa A, Q.Bình Tân | S18: 0903170567 | T18: ng_th_duc@yahoo.com.vn | U18: 7909078911 | W18: 01/09/2008 | X18: Sở GDĐT TPHCM | Y18: 01/09/2008 | Z18: Hợp đồng không thời hạn | AA18: 01/09/2008 | AB18: GV | AC18: Giảng viên | AH18: 12/12 | AI18: THPT | AJ18: THS | AK18: - Thạc sỹ - Đại học | AL18: - Kỹ thuật Cơ khí Động lực - Cơ khí động lực | AM18: - Trường ĐH Bách khoa HN - Trường ĐH SPKT TPHCM | AN18: - 05/08/2014 - 24/04/2003 | AO18: x | AP18: SP Bậc 2 | AQ18: 14/04/2003 | AR18: Trường ĐH SPKT TPHCM | AS18: Sửa chữa ô tô 3/7 | AT18: 28/12/2017 | AU18: Trường CĐ Lý Tự Trọng TPHCM | AV18: x | AX18: UD CNTT CB | AY18: 19/07/2019 | AZ18: Trường ĐH Ngoại ngữ - Tin học TPHCM | BA18: UD CNTT CB | BC18: B1 | BD18: B1 | BE18: 09/05/2013 | BF18: Trường ĐH Bách khoa HN | BG18: B1 | BR18: x
A19: 13 | B19: Nguyễn Thanh Hùng | C19: X | E19: X | F19: Nam | G19: CA. TP.HCM | H19: 03/09/1982 | I19: Khoa Động lực | J19: Khoa Động lực | K19: 079082002097 | L19: 13/06/2016 | M19: CA. TPHCM | N19: Kinh | O19: Không | P19: Thành phố Hồ Chí Minh | Q19: 020 Lô Y CC Ngô Gia Tự, Phường 2, Quận 10, TP.HCM | S19: 0938958210 | T19: thanhhungspkt05@gmail.com | U19: 7910002854 | W19: 01/10/2012 | X19: Sở GDĐT TPHCM | Y19: 01/10/2012 | Z19: Hợp đồng không thời hạn | AA19: 01/10/2012 | AB19: GV | AC19: Giảng viên | AH19: 12/12 | AI19: THPT | AJ19: THS | AK19: - Thạc sỹ - Đại học | AL19: - Kỹ thuật Ô tô, máy kéo - Cơ khí động lực | AM19: - Trường ĐH Bách khoa TPHCM - Trường ĐH SPKT TPHCM | AN19: - 26/4/2017 - 25/11/2009 | AO19: x | AP19: - NVSP cho GV ĐH, CĐ - SP bậc 2 | AQ19: - 02/4/2019 - 19/9/2008 | AR19: - Trường ĐH SP HN 2 - Trường ĐH SPKT TP. HCM | AS19: - Chứng chỉ nghề Sửa chữa ô tô bậc 3/7 - Kỹ năng nghề Quốc gia Công nghệ Ô tô bậc 3 | AT19: - 02/7/2004 - 21/11/2018 | AU19: - Trường Kỹ thuật Cao Thắng - Tổng cục GDNN | AV19: x | AW19: x | AX19: - Ứng dụng CNTT cơ bản - A | AY19: - 19/12/2018 - 05/4/2010 | AZ19: - Trường ĐH CNTT - Trường ĐH SP TPHCM | BA19: UD CNTT CB | BC19: - TOEIC 600 - B | BD19: B2 | BE19: - 26/4/2017 - 29/10/2008 | BF19: - Trường ĐH Bách khoa TPHCM - Trường ĐH SP TPHCM | BG19: B2 | BQ19: - BD GV chính (hạng II) tại Trường ĐH SP TPHCM ngày 15/5/2019 | BR19: x
A20: 14 | B20: Phan Anh Tuấn Kiệt | C20: X | E20: X | F20: Nam | G20: TPHCM | H20: 28/10/1983 | I20: Khoa Động lực | J20: Khoa Động lực | K20: 079083003103 | L20: 15/07/2016 | M20: Cục cảnh sát đăng ký quản lý cư trú | N20: Kinh | O20: Thiên chúa | P20: Tỉnh Bình Ðịnh | Q20: 16/1 Cách Mạng, P.Tân Thành, Q.Tân Phú | S20: 0938250452 | T20: kiettool07@yahoo.com | U20: 7908079140 | W20: 01/09/2007 | X20: Sở GDĐT TPHCM | Y20: 01/09/2007 | Z20: Hợp đồng không thời hạn | AA20: 01/09/2007 | AB20: GV | AC20: Giảng viên | AH20: 12/12 | AI20: THPT | AJ20: THS | AK20: - Thạc sỹ - Đại học | AL20: - Kỹ thuật Cơ khí Động lực - Cơ khí Động lực | AM20: - Trường ĐH Bách khoa HN - Trường ĐH SPKT TPHCM | AN20: - 05/8/2014 - 06/11/2006 | AO20: x | AP20: SP Bậc 2 | AQ20: 06/11/2006 | AR20: Trường ĐH SPKT TP. HCM | AS20: Chứng chỉ nghề Sửa chữa ô tô bậc 3/7 | AT20: 28/12/2017 | AU20: Trường CĐ Lý Tự Trọng TPHCM | AV20: x | AX20: TH UDCB | AY20: 20/12/2018 | AZ20: Trường CĐ Lý Tự Trọng TPHCM | BA20: UD CNTT CB | BC20: B1 | BD20: B1 | BE20: 09/05/2013 | BF20: Trường ĐH SP HN | BG20: B1 | BH20: Sơ cấp | BI20: 17/6/2014 | BJ20: TT BD Chính trị Q. Tân Bình | BQ20: - BD GV chính (hạng II) tại Trường ĐH SP TPHCM ngày 15/5/2019 - CN Kỹ thuật viên Toyota sửa chữa thân vỏ xe tại Trường ĐH SP KT TPHCM ngày 7/24/2009 | BR20: x
A21: 15 | B21: Trần Minh Tuấn | C21: X | E21: X | F21: Nam | G21: Quảng Ngãi | H21: 17/11/1986 | I21: Khoa Động lực | J21: Khoa Động lực | K21: 051086000128 | L21: 12/04/2017 | M21: Cục cảnh sát đăng ký quản lý cư trú | N21: Kinh | O21: Không | P21: Xã Nghĩa Trung, Huyện Tư Nghĩa, Tỉnh Quảng Ngãi | Q21: 151 Đường số 8, Phường 11, Quận Gò Vấp, TPHCM | S21: 0903870724 | T21: tranminhtuan31@gmail.com | U21: 7911094457 | W21: 01/09/2010 | X21: Sở GDĐT TPHCM | Y21: 01/09/2010 | Z21: Hợp đồng không thời hạn | AA21: 01/09/2010 | AB21: GV | AC21: Giảng viên | AH21: 12/12 | AI21: THPT | AJ21: THS | AK21: - Thạc sỹ - Đại học | AL21: - Kỹ thuật Cơ khí Động lực - Cơ khí động lực | AM21: Trường ĐH SPKT TPHCM | AN21: - 20/04/2013 - 25/11/2009 | AO21: - Chưa có - Đã có | AP21: - SP Bậc 2 | AQ21: 25/11/2009 | AR21: Trường ĐH SPKT TP. HCM | AS21: - Chứng chỉ nghề Sửa chữa ô tô bậc 3/7 - Kỹ năng nghề Quốc gia Công nghệ Ô tô bậc 3 | AT21: - 28/12/2017 - 21/11/2018 | AU21: - Trường CĐ Lý Tự Trọng TPHCM - Tổng cục GDNN | AV21: x | AW21: x | AX21: TH UDCB | AY21: 20/12/2018 | AZ21: Trường CĐ Lý Tự Trọng TPHCM | BA21: UD CNTT CB | BC21: B1 | BD21: B1 | BE21: 08/03/2012 | BF21: Trường ĐH SPKT TPHCM | BG21: B1 | BQ21: - CC Autocad 2D-3D tại Trường Tin học Lạc Quan ngày 24/11/2007 | BR21: x
A22: 16 | B22: Trần Quốc Duy | C22: X | E22: X | F22: Nam | G22: TPHCM | H22: 11/09/1985 | I22: Khoa Động lực | J22: Khoa Động lực | K22: 079085009956 | L22: 29/08/2017 | M22: Cục cảnh sát đăng ký quản lý cư trú | N22: Kinh | O22: Thiên chúa | P22: Tỉnh Ðồng Nai | Q22: 74/1/3 Tân Kỳ Tân Quý, Phường Tây Thạnh, Quận Tân Phú, TPHCM | S22: 0935 129 573 | T22: quocduy_ckoto@yahoo.com.vn | U22: 7911311169 | W22: 01/03/2011 | X22: Sở GDĐT TPHCM | Y22: 14/02/2011 | Z22: Hợp đồng không thời hạn | AA22: 14/02/2011 | AB22: GV | AC22: Giảng viên | AH22: 12/12 | AI22: THPT | AJ22: THS | AK22: - Thạc sỹ - Đại học | AL22: - Kỹ thuật Cơ khí Động lực - Công nghệ ô tô | AM22: - Trường ĐH Bách khoa TPHCM - Trường ĐH Công nghiệp TPHCM | AN22: - 26/10/2018 - 29/6/2010 | AO22: - Chưa có - Chưa có | AP22: SP Bậc 2 | AQ22: 16/9/2011 | AR22: Trường ĐH SPKT TP. HCM | AS22: - Chứng chỉ nghề Sửa chữa ô tô bậc 3/7 - Kỹ năng nghề Quốc gia Công nghệ Ô tô bậc 3 | AT22: - 28/12/2017 - 21/11/2018 | AU22: - Trường CĐ Lý Tự Trọng TPHCM - Tổng cục GDNN | AV22: x | AW22: x | AX22: A | AY22: 27/02/2009 | AZ22: Sở GDĐT TPHCM | BA22: A | BC22: TOEFL 467 | BD22: B1 | BE22: 11/03/2018 | BF22: IIG | BG22: B1 | BQ22: - BD GV chính (hạng II) tại Trường ĐH SP TPHCM ngày 15/5/2019 | BR22: x
A23: 17 | B23: Trần Thế Sơn | C23: X | E23: X | F23: Nam | G23: Đồng Nai | H23: 18/06/1990 | I23: Khoa Động lực | J23: Khoa Động lực | K23: 271927461 | L23: 01/7/2016 | M23: CA.Đồng Nai | N23: Kinh | O23: Không | P23: Xã La Ngà, Huyện Định Quán, Tỉnh Ðồng Nai | Q23: Ấp 4, La Ngà, Định Quán, Đồng Nai | S23: 0974532823 | U23: #N/A | W23: 01/10/2018 | X23: Sở GDĐT TPHCM | Y23: 01/10/2018 | Z23: Hợp đồng không thời hạn | AA23: 01/10/2018 | AB23: GV | AC23: Giảng viên | AH23: 12/12 | AI23: THPT | AJ23: DH | AK23: Đại học | AL23: Công nghệ Kỹ thuật Ô tô | AM23: Trường ĐH Công nghiệp TPHCM | AN23: 16/5/2014 | AO23: x | AP23: NVSP dành cho GV CĐ, ĐH | AQ23: 30/8/2018 | AR23: Trường ĐH SP HN TP. HCM | AS23: Kỹ năng nghề Quốc gia Công nghệ Ô tô bậc 3 | AT23: 21/11/2018 | AU23: Tổng cục GDNN | AW23: x | AX23: A | AY23: 41354 | AZ23: Trường ĐH Công nghiệp TPHCM | BA23: A | BC23: C | BD23: B1 | BE23: 15/11/2012 | BF23: Trường ĐH Công nghiệp TPHCM | BG23: C | BQ23: - BD GV chính (hạng II) tại Trường ĐH SP TPHCM ngày 15/5/2019 | BR23: x
A24: 18 | B24: Nguyễn Lương Tâm | C24: X | E24: X | F24: Nam | G24: Qui Nhơn | H24: 01/10/1970 | I24: Khoa Động lực | J24: Khoa Động lực | K24: 022093185 | L24: 05/02/2010 | M24: CA.TPHCM | N24: Kinh | O24: Không | P24: Tỉnh Thừa Thiên - Huế | Q24: 143 CMT8, P12, Quận Tân Bình, TPHCM | S24: 0909511055 | U24: #N/A | W24: 01/10/2018 | X24: Sở GDĐT TPHCM | Y24: 01/10/2018 | Z24: Hợp đồng không thời hạn | AA24: 1994 | AB24: GV | AC24: Giảng viên | AH24: 12/12 | AI24: THPT | AJ24: DH | AK24: Đại học | AL24: Kỹ sư Cơ khí | AM24: Trường ĐH Bách Khoa | AN24: 30/8/1994 | AO24: x | AP24: - NVSP dành cho GV CĐ, ĐH - BD NVSP | AQ24: - 30/11/2018 - 27/01/1999 | AR24: - Trường ĐH SP HN 2 - Sở LĐ-TB&XH | AS24: Kỹ năng nghề Quốc gia Công nghệ Ô tô bậc 3 | AT24: 21/11/2018 | AU24: Tổng cục GDNN | AW24: x | AX24: ƯD CNTT CB | AY24: 9/01/2018 | AZ24: Trường ĐH Ngân hàng TPHCM | BA24: UD CNTT CB | BC24: B | BD24: A2 | BE24: 22/01/2018 | BF24: Trường ĐH Ngân hàng TPHCM | BG24: B | BQ24: - BD GV chính (hạng II) tại Trường ĐH SP TPHCM ngày 15/5/2019 - CC LL dạy học và GD tại Trường ĐH SP TPHCM ngày 5/10/2007. | BR24: x
A25: 19 | B25: Trần Văn Đông | C25: X | E25: X | F25: Nam | G25: Bình Định | H25: 12/12/1990 | I25: Khoa Động lực | J25: Khoa Động lực | K25: 215223184 | L25: 29/01/2011 | M25: CA.Bình Định | N25: Kinh | O25: Không | P25: Xã Mỹ An, Huyện Phù Mỹ, Tỉnh Bình Ðịnh | Q25: 100/08 Quang Trung, P. Tăng Nhơn Phú B, Quận 9, TPHCM | S25: 0964345549 | U25: #N/A | W25: 01/01/2019 | X25: Sở GDĐT TPHCM | Y25: 01/01/2019 | Z25: Tập sự | AA25: 01/01/2019 | AB25: GV | AC25: Giảng viên | AH25: 12/12 | AI25: THPT | AJ25: THS | AK25: - Thạc sỹ - Đại học | AL25: - Kỹ thuật Cơ khí Động lực - Công nghệ kỹ thuật Ô tô | AM25: Trường ĐH SPKT TPHCM | AN25: - 30/6/2006 - 06/06/2013 | AO25: x | AP25: NVSP dành cho GV CĐ, ĐH | AQ25: 30/11/2018 | AR25: Trường ĐH SP HN 2 | AX25: UD CNTT CB | AY25: 43420 | AZ25: Trường ĐH Ngân hàng TPHCM | BA25: UD CNTT CB | BC25: - B1 - B | BD25: B1 | BE25: - 25/01/2015 - 20/7/2010 | BF25: - Trường ĐH SPKT TPHCM - Trường CĐ Công Thương TPHCM | BG25: B1 | BQ25: - BD GV chính (hạng II) tại Trường ĐH SP TPHCM ngày 15/5/2019 | BR25: x
A26: 20 | B26: Lý Văn Trung | C26: X | E26: X | F26: Nam | G26: xã Tân Hộ Cơ, huyện Tân Hồng, tỉnh Đồng Tháp | H26: 12/12/1980 | I26: Khoa Động lực | J26: Khoa Động lực | K26: 340947476 | L26: 27/12/2018 | M26: CA. Đồng Tháp | N26: Kinh | O26: Không | P26: Tân Hộ Cơ, Tân Hồng, Đồng Tháp | Q26: xã Tân Hộ Cơ, huyện Tân Hồng, tỉnh Đồng Tháp | R26: A7/13D liên ấp 2-3-4 ấp 1 xã Vĩnh Lộc A, huyện Bình Chánh, TPHCM | S26: 0985018603 | T26: lyvantrung2013@gmail.com | V26: 01/11/2019 | W26: 01/11/2019 | X26: Sở GDĐT TPHCM | Y26: 01/11/2019 | Z26: Hợp đồng không thời hạn | AA26: 01/07/2009 | AB26: GV | AC26: Giảng viên | AH26: 12/12 | AI26: THPT | AJ26: THS | AK26: - Thạc sỹ - Đại học | AL26: - Kỹ thuật Ô tô, máy kéo - Cơ khí động lực | AM26: - Trường ĐH Bách Khoa - Trường ĐH SPKT TPHCM | AN26: - 11/04/2012 - 25/10/2005 | AO26: x | AP26: - Nghiệp vụ sư phạm dành cho GV CĐ, ĐH - Sư phạm dạy nghề - Đào tạo NVSP | AQ26: - 20/8/2013 - 10/5/2010 - 14/5/2009 | AR26: - Trường ĐH SP HN - Trường CĐ nghề GTVT TW III - Trường ĐH KHXH&NV | AX26: UD CNTT CB | AY26: 22/01/2019 | AZ26: Trường ĐH CNTT TPHCM | BA26: UD CNTT CB | BC26: B | BD26: A2 | BE26: 19/9/2005 | BF26: Trường CĐKTKT Công nghiệp II | BG26: B | BR26: x
A40: Số TT | B40: Đơn vị | C40: Tổng | D40: Chức vụ/ Chức danh | I40: Kiêm chức | J40: Trình độ chuyên môn | P40: Trình độ Tin học | Y40: Trình độ Ngoại ngữ | AI40: Trình độ Lý luận Chính trị | AL40: Hợp đồng | AN40: Đảng viên | AO40: Nữ
D41: Trưởng, Phụ trách phòng | E41: Phó Trưởng đơn vị | F41: Trưởng Bộ môn, Tổ trưởng | G41: Nhân viên | H41: Giảng viên | J41: Tiến sỹ | K41: Thạc sỹ | L41: Đại học | M41: Cao đẳng | N41: Trung cấp | O41: Khác | P41: A | Q41: B | R41: TC | S41: CĐ | T41: ĐH | U41: THS | V41: IC3 | W41: UD CNTT CB | X41: UD CNTT NC | Y41: A | Z41: B | AA41: C | AB41: TC | AC41: CĐ | AD41: ĐH | AE41: THS | AF41: B1 | AG41: B2 | AH41: C1 | AI41: SC | AJ41: TC | AK41: Trên TC | AL41: Biên chế + Không thời hạn + Nghị định 68 (Sở) | AM41: Hợp đồng trường
B42: Khoa Động lực | C42: =SUM(D42:H42) -> 20 | D42: =SUM((COUNTIF($AB$7:$AB$13,"HT")+(COUNTIF($AB$7:$AB$13,"TK")+(COUNTIF($AB$7:$AB$13,"TP"))+(COUNTIF($AB$7:$AB$13,"TTT"))))) -> 1 | E42: =SUM((COUNTIF($AB$7:$AB$13,"PHT")+(COUNTIF($AB$7:$AB$13,"PK")+(COUNTIF($AB$7:$AB$13,"PTP"))+(COUNTIF($AB$7:$AB$13,"PTT"))))) -> 1 | F42: =SUM((COUNTIF($AB$7:$AB$13,"TBM")+(COUNTIF($AB$7:$AB$13,"TT")))) -> 3 | G42: =COUNTIF($AB$7:$AB$26,"NV") -> 0 | H42: =COUNTIF($AB$7:$AB$26,"GV") -> 15 | I42: =COUNTIF($D$7:$D$26,"x") -> 0 | J42: =COUNTIF($AJ$7:$AJ$26,"TS") -> 1 | K42: =COUNTIF($AJ$7:$AJ$26,"THS") -> 14 | L42: =COUNTIF($AJ$7:$AJ$26,"DH") -> 5 | M42: =COUNTIF($AJ$7:$AJ$26,"CD") -> 0 | N42: =COUNTIF($AJ$7:$AJ$26,"TC") -> 0 | O42: =COUNTIF($AJ$7:$AJ$26,"") -> 0 | P42: =COUNTIF($BA$7:$BA$26,"A") -> 5 | Q42: =COUNTIF($BA$7:$BA$26,"B") -> 3 | R42: =COUNTIF($BA$7:$BA$26,"TC") -> 0 | S42: =COUNTIF($BA$7:$BA$26,"CD") -> 1 | T42: =COUNTIF($BA$7:$BA$26,"DH") -> 0 | U42: =COUNTIF($BA$7:$BA$26,"THS") -> 0 | V42: =COUNTIF($BB$7:$BB$26,"IC3") -> 0 | W42: =COUNTIF($BA$7:$BA$26,"UD CNTT CB") -> 11 | X42: =COUNTIF($BA$7:$BA$26,"UD CNTT NC") -> 0 | Y42: =SUM((COUNTIF($BG$7:$BG$26,"A"))+(COUNTIF($BG$7:$BG$26,"A1"))) -> 0 | Z42: =SUM((COUNTIF($BG$7:$BG$26,"B"))+(COUNTIF($BG$7:$BG$26,"A2"))) -> 4 | AA42: =COUNTIF($BG$7:$BG$26,"C") -> 1 | AB42: =COUNTIF($BG$7:BG26,"TC") -> 0 | AC42: =COUNTIF($BG$7:$BG$26,"CD") -> 0 | AD42: =COUNTIF($BG$7:$BG$26,"DH") -> 3 | AE42: =COUNTIF($BG$7:$BG$26,"THS") -> 0 | AF42: =COUNTIF($BG$7:$BG$26,"B1") -> 11 | AG42: =COUNTIF($BG$7:$BG$26,"B2") -> 1 | AH42: =COUNTIF($BG$7:$BG$26,"C1") -> 0 | AI42: =COUNTIF($BH$7:$BH$26,"Sơ cấp") -> 3 | AJ42: =COUNTIF($BH$7:$BH$26,"Trung cấp") -> 5 | AK42: =COUNTIF($BH$7:$BH$26,"Cao cấp") -> 0 | AL42: =COUNTIF($X$7:$X$26,"Sở GDĐT TPHCM") -> 20 | AM42: =COUNTIF($X$7:$X$26,"Trường CĐ Lý Tự Trọng TPHCM") -> 0 | AN42: =COUNTIF($AG$7:$AG$26,"x") -> 1 | AO42: =COUNTIF($F$7:$F$26,"Nữ") -> 0
AP1291: =COUNTIF(#REF!,"Thạc sỹ") -> #REF!

Sheet CO KHI
A1: UBND THÀNH PHỐ HỒ CHÍ MINH TRƯỜNG CAO ĐẲNG LÝ TỰ TRỌNG THÀNH PHỐ HỒ CHÍ MINH | AP1: CỘNG HÒA XÃ HỘI CHỦ NGHĨA VIỆT NAM Độc lập - Tự do - Hạnh phúc
A3: DANH SÁCH THỐNG KÊ CHUẨN CHUYÊN MÔN NGHIỆP VỤ CỦA NHÀ GIÁO
A5: STT | B5: Họ tên | C5: GV | D5: kiêm chức | E5: GV + kiêm chức | F5: Giới tính | G5: Nơi sinh | H5: Ngày/tháng/năm sinh | I5: Kiêm chức tại khoa | J5: Đơn vị | K5: Số chứng mình nhân dân | L5: Ngày cấp Chứng minh nhân dân | M5: Nơi cấp chứng minh nhân dân | N5: Dân tộc | O5: Tôn giáo | P5: Quê quán | Q5: Địa chỉ thường trú | R5: Nơi ở hiện nay | S5: Điện thoại DD | T5: Email | U5: Số sổ bảo hiểm xã hội | V5: Ngày hợp đồng | W5: Ngày tuyển dụng | X5: Cơ quan tuyển dụng | Y5: Ngày về cơ quan hiện nay | Z5: Thuộc loại cán bộ | AA5: Ngày vào ngành giáo dục | AB5: Chức vụ/ Chức danh hiện tại (công thức) | AC5: Chức vụ/ Chức danh hiện tại | AD5: Ngày bổ nhiệm chức vụ hiện tại | AE5: Ngày vào đảng | AF5: Ngày vào đảng chính thức | AG5: Đảng viên (công thức) | AH5: Học vấn phổ thông | AI5: Đã tốt nghiệp | AJ5: Trình độ chuyên môn | AP5: Nghiệp vụ sư phạm | AS5: Kỹ năng nghề | AX5: Tin học | BC5: Ngoại ngữ | BH5: Lý luận Chính trị | BK5: Quản lý nhà nước | BN5: Trình độ quản lý giáo dục | BQ5: Chứng chỉ khác
AJ6: Trình độ chuyên môn cao nhất (công thức) | AK6: Trình độ chuyên môn cao nhất | AL6: Chuyên ngành đào tạo | AM6: Nơi đào tạo | AN6: Năm tốt nghiệp | AO6: Bảng điểm | AP6: Chứng chỉ bồi dưỡng nghiệp vụ | AQ6: Ngày cấp chứng chỉ | AR6: Nơi cấp | AS6: Kỹ năng nghề | AT6: Ngày cấp chứng chỉ | AU6: Nơi cấp | AV6: Kỹ năng nghề 3/7 trở lên (công thức) | AW6: Kỹ năng nghề Quốc gia (công thức) | AX6: Trình độ tin học | AY6: Ngày cấp | AZ6: Nơi cấp | BA6: Trình độ tin học (công thức) | BB6: Trình độ tin học Quốc tế (công thức) | BC6: Trình độ ngoại ngữ | BD6: Theo khung NLNN 6 bậc | BE6: Ngày cấp chứng chỉ | BF6: Nơi cấp CC Ngoại ngữ | BG6: Trình độ ngoại ngữ (thống kê) | BH6: Trình độ lý luận chính trị | BI6: Ngày cấp | BJ6: Nơi cấp | BK6: Trình độ quản lý nhà nước | BL6: Ngày cấp | BM6: Nơi cấp | BN6: Trình độ quản lý giáo dục | BO6: Ngày cấp | BP6: Nơi cấp
A7: 01 | B7: Chung Trần Thế Vinh | C7: X | E7: X | F7: Nam | G7: TPHCM | H7: 25/06/1981 | I7: Khoa Cơ khí | J7: Khoa Cơ khí | K7: 023353491 | L7: 05/07/2010 | M7: CA.TPHCM | N7: Kinh | O7: Không | P7: Tỉnh Long An | Q7: 22/5 ấp Nam Thới, Xã Thới Tam Thôn, Hóc Môn, TPHCM | S7: 0908686554 | T7: chungvinh1981@gmail.com | U7: 0204343040 | W7: 01/09/2004 | X7: Sở GDĐT TPHCM | Y7: 01/09/2004 | Z7: Hợp đồng không thời hạn | AA7: 01/09/2004 | AB7: TK | AC7: Trưởng Khoa | AD7: 01/02/2016 | AF7: 06/09/2013 | AG7: X | AH7: 12/12 | AI7: THPT | AJ7: THS | AK7: - Thạc sỹ - Đại học | AL7: - Công nghệ chế tạo máy - Cơ khí chế tạo máy | AM7: - Trường ĐH Bách khoa TPHCM - Trường ĐH SP KT TPHCM | AN7: - 6/11/2013 - 30/4/2004 | AO7: x | AP7: SP Bậc 2 | AQ7: 30/4/2004 | AR7: Trường ĐH SPKT TPHCM | AS7: Chứng chỉ nghề Công nghệ Hàn bậc 3/7 | AT7: 28/12/2017 | AU7: Trường CĐ Lý Tự Trọng TPHCM | AV7: x | AX7: UD CNTT CB | AY7: 43454 | BC7: IELTS 5.0 | BD7: B2 | BE7: 19/10/2010 | BF7: IDP | BG7: B2 | BH7: Trung cấp | BI7: 29/6/2016 | BJ7: Trường Đào tạo, BD CB Công thương Trung Ương | BN7: BD CBQL Khoa, phòng, Trường ĐH, CĐ | BO7: 01/9/2014 | BP7: Học viện Quản lý Giáo dục | BQ7: - BD GV chính (hạng II) tại Trường ĐH SP TPHCM ngày 15/5/2019 - CC Triết học, PP NC KH, LL dạy học ĐH tại Trường ĐH SPKT TPHCM ngày 22/8/2007 - CN Hoàn thành chương trình BD Kiến thức QP-AN đối tượng 3 tại Trường Quân sự TPHCM ngày 17/8/2018. - CN Thiết kế SP, UD CAD/CAM-CNC tại TT Thiết kế Chế tạo Thiết bị mới ngày 15/9/2008. - CN BD Đảng viên mới theo quy định của TW tại TT BD CT Quận 5 ngày 20/10/2013. | BR7: x
A8: 02 | B8: Trần Đình Khải | C8: X | E8: X | F8: Nam | G8: Quảng Ngãi | H8: 26/07/1968 | I8: Khoa Cơ khí | J8: Khoa Cơ khí | K8: 051068000336 | L8: 24/05/2018 | M8: Cục Cảnh sát Đăng ký quản lý cư trú | N8: Kinh | O8: Không | P8: Huyện Sơn Tịnh, Tỉnh Quảng Ngãi | Q8: 91/72 Đinh Tiên Hoàng P3, Q.Bình Thạnh | S8: 0937400988 | U8: 7909078919 | W8: 01/09/2008 | X8: Sở GDĐT TPHCM | Y8: 01/09/2008 | Z8: Hợp đồng không thời hạn | AA8: 30/08/2008 | AB8: PK | AC8: Phó Trưởng Khoa | AD8: 01/02/2016 | AH8: 12/12 | AI8: THPT | AJ8: THS | AK8: - Thạc sỹ - Đại học | AL8: - Kỹ thuật cơ khí - Cơ khí chế tạo máy | AM8: - Trường ĐH Nông Lâm TPHCM - Trường ĐH SP KT TPHCM | AN8: - 12/7/2012 - 30/8/1996 | AO8: - Đã có - Chưa có | AP8: - SP Bậc 2 - NVSP dành cho GV CĐ, ĐH | AQ8: - 19/9/2008 - 01/9/2017 | AR8: - Trường ĐH SPKT TPHCM - Trường ĐH Sài Gòn | AX8: UD CNTT CB | AY8: 43454 | BC8: B1 | BD8: B1 | BE8: 31/07/2011 | BF8: Trường ĐH Nông Lâm TPHCM | BG8: B1 | BN8: CBQL các Khoa, Phòng, Ban trường ÐH | BQ8: - CN SolidWorks trong thiết kế cơ khí tại Trường ĐH SPKT TPHCM ngày 22/8/2007. | BR8: x
A9: 03 | B9: Bùi Anh Tuấn | C9: X | E9: X | F9: Nam | G9: Lâm Đồng | H9: 02/11/1988 | I9: Khoa Cơ khí | J9: Khoa Cơ khí | K9: 025919554 | L9: 01/07/2014 | M9: CA. TPHCM | N9: Kinh | O9: Không | P9: Ninh Bình | Q9: 65/10 Trần Văn Dư, Phường 13, Quận Tân Bình, TPHCM | S9: 0906785539 | T9: frankcadillac2008@yahoo.com | U9: 7913072284 | W9: 01/09/2012 | X9: Sở GDĐT TPHCM | Y9: 01/09/2012 | Z9: Hợp đồng không thời hạn | AA9: 01/09/2012 | AB9: TBM | AC9: Trưởng Bộ môn | AD9: 01/09/2015 | AH9: 12/12 | AI9: THPT | AJ9: THS | AK9: - Thạc sỹ - Đại học | AL9: - Kỹ thuật cơ khí - Cơ khí chế tạo máy | AM9: - Trường ĐH Bách khoa TPHCM - Trường ĐH SP KT TPHCM | AN9: - 2/11/2015 - 20/10/2011 | AO9: x | AP9: SP Bậc 2 | AQ9: 19/10/2011 | AR9: Trường ĐH SPKT TPHCM | AX9: Tin học UDCB | AY9: 43454 | AZ9: Trường CĐ Lý Tự Trọng TPHCM | BA9: UD CNTT CB | BC9: Toeic 540 | BD9: B1 | BE9: 20/07/2014 | BF9: IIG | BG9: B1 | BH9: Sơ cấp | BI9: 27/5/2016 | BJ9: TT BD Chính trị Quận Tân Bình | BQ9: - BD GV chính (hạng II) tại Trường ĐH SP TPHCM ngày 15/5/2019 - CN BD GV DN chuyên đề CN Scan 3D và thiết kế ngược tại Trường ĐH SPKT TPHCM ngày 19/1/2016. - CC LL dạy học ĐH tại Trường ĐH KHXH & NV TPHCM ngày 16/9/2013. - CC Thiết kế và lập trình gia công với pro/ Engineer tại Trường ĐH SPKT TPHCM ngày 17/01/2011. | BR9: x
A10: 04 | B10: Vũ Đức Pháp | C10: X | E10: X | F10: Nam | G10: TPHCM | H10: 26/09/1978 | I10: Khoa Cơ khí | J10: Khoa Cơ khí | K10: 023172992 | L10: 11/02/2011 | M10: CA.TPHCM | N10: Kinh | O10: Thiên chúa | P10: Thái Bình | Q10: 21/2 Hàn Mặc Tử, P.Tân Thành, Q.Tân Phú | S10: 0988662521 | T10: ducphapv@yahoo.com | U10: 0204343041 | W10: 31/08/2004 | X10: Sở GDĐT TPHCM | Y10: 31/08/2004 | Z10: Hợp đồng không thời hạn | AA10: 31/08/2004 | AB10: TBM | AC10: Trưởng Bộ môn | AD10: 15/05/2016 | AH10: 12/12 | AI10: THPT | AJ10: THS | AK10: - Thạc sỹ - Đại học | AL10: - Kỹ thuật cơ khí - Cơ khí chế tạo máy | AM10: - Trường ĐH Nông Lâm TPHCM - Trường ĐH SP KT TPHCM | AN10: - 31/7/2013 - 30/7/2004 | AO10: x | AP10: - SP Bậc 2 - NVSP dành cho GV CĐ, ĐH | AQ10: - 30/4/2004 - 30/10/2019 | AR10: - Trường ĐH SPKT TPHCM - Trường ĐH SP HN 2 | AX10: Tin học UDCB | AY10: 43454 | AZ10: Trường CĐ Lý Tự Trọng TPHCM | BA10: UD CNTT CB | BC10: - B1 - B | BD10: B1 | BE10: - 31/07/2011 - 19/3/2001 | BF10: - Trường ĐH Nông Lâm TPHCM - Trường ĐH Hàng Hải TPHCM | BG10: B1 | BH10: Trung cấp | BI10: 22/3/2019 | BJ10: Học viện Cán bộ TPHCM | BQ10: - BD GV chính (hạng II) tại Trường ĐH SP TPHCM ngày 15/5/2019 - CC Autocad R.14 CB tại Trường ĐH Bách khoa TPHCM ngày 17/9/2001. - CN Sơ cấp LLCT tại TT BD Chính trị Quận tân Bình ngày 17/6/2014. - CC CAD/CAM - PRO/ENGINEER cơ bản tại Trường ĐH Bách khoa TPHCM ngày 25/1/2003. - CC GV, GV về Đào tạo theo tín chỉ, biên soạn giáo án và tổ chức dạy học tích hợp, tổ chức đào tạo và đánh giá theo năng lực thực hiện tại Trường CĐ Nghề TPHCM ngày 16/12/2015. - CN Học lớp nhận thức về Đảng tại Sở GDĐT TPHCM tại 10/3/2009. | BR10: x
A11: 05 | B11: Vũ Quang Khải | C11: X | E11: X | F11: Nam | G11: TP. Hồ Chí Minh | H11: 25/11/1971 | I11: Khoa Cơ khí | J11: Khoa Cơ khí | K11: 022355188 | L11: 21/03/2008 | M11: CA.TPHCM | N11: Kinh | O11: Thiên chúa | P11: Tỉnh Hà Nam | Q11: 2/8 Đường số 8, P15, Q.Gò Vấp TPHCM | S11: 0908598884 | U11: 0298118092 | W11: 01/09/1998 | X11: Sở GDĐT TPHCM | Y11: 01/09/1998 | Z11: Biên chế | AA11: 01/09/1998 | AB11: TBM | AC11: Trưởng Bộ môn | AD11: 01/12/2017 | AH11: 12/12 | AI11: THPT | AJ11: DH | AK11: Đại học | AL11: Cơ khí chế tạo máy | AM11: Trường ĐH SP KT TPHCM | AN11: 15/11/1997 | AO11: x | AP11: SP Bậc 2 | AQ11: 26/11/1996 | AR11: Trường ĐH SPKT TPHCM | AS11: Chứng chỉ nghề Công nghệ Hàn bậc 3/7 | AT11: 28/12/2017 | AU11: Trường CĐ Lý Tự Trọng TPHCM | AV11: x | AX11: TH UDCB | AY11: 43393 | AZ11: Trường CĐ Lý Tự Trọng TPHCM | BA11: UD CNTT CB | BC11: B | BD11: A2 | BE11: 20/10/1997 | BF11: Trường Dự bị ĐH TPHCM | BG11: B | BQ11: - BD GV chính (hạng II) tại Trường ĐH SP TPHCM ngày 15/5/2019. - CC Thiết kế sản phẩm, ứng dụng CAD/CAM-CNC. - CC Triết học, PP NC KH, LL dạy học ĐH tại Trường ĐH SPKT TPHCM ngày 16/10/2007 | BR11: x
A12: 06 | B12: Đỗ Thị Phương Khanh | C12: X | E12: X | F12: Nữ | G12: Củ Chi | H12: 22/04/1975 | I12: Khoa Cơ khí | J12: Khoa Cơ khí | K12: 023044182 | L12: 18/07/2007 | M12: CA.TPHCM | N12: Kinh | O12: Không | P12: Quảng Nam | Q12: 51/14 Phan Văn Hớn, KP4, P.Tân Thới Nhất, Q12 | S12: 0909094459 | U12: 0298118090 | W12: 01/09/1998 | X12: Sở GDĐT TPHCM | Y12: 01/09/1998 | Z12: Biên chế | AA12: 01/09/1998 | AB12: GV | AC12: Giảng viên | AF12: 27/07/2007 | AG12: X | AH12: 12/12 | AI12: THPT | AJ12: THS | AK12: - Thạc sỹ - Thạc sỹ - Đại học | AL12: - Công nghệ chế tạo máy - Giáo dục học - Cơ khí chế tạo máy | AM12: - Trường ĐH Bách khoa TPHCM - Trường ĐH SP KT TPHCM - Trường ĐH SP KT TPHCM | AN12: - 01/11/2016 - 5/4/2004 - 30/9/1998 | AO12: x | AP12: - SP Bậc 2 - SP Bậc 1 | AQ12: - 30/4/2004 - 5/6/1995 | AR12: Trường ĐH SPKT TPHCM | AS12: - Chứng chỉ nghề Công nghệ Hàn bậc 3/7 - CC Kỹ năng nghề Quốc gia nghề cắt gọt kim loại trên máy CNC | AT12: - 28/12/2017 - 6/3/2019 | AU12: - Trường CĐ Lý Tự Trọng TPHCM - Tổng cục GDNN | AV12: x | AW12: x | AX12: - Trình độ B - TH UDCB | AY12: 43454 | AZ12: Trường CĐ Lý Tự Trọng TPHCM | BA12: UD CNTT CB | BC12: - Đại học - C | BD12: C1 | BE12: - 22/02/2000 - 12/3/2002 | BF12: - Trường ĐH Ngoại ngữ - ĐH Quốc gia HN - Trường ĐH KHXH&NV | BG12: DH | BH12: Trung cấp | BI12: 22/3/2019 | BJ12: Học viện Cán bộ TPHCM | BQ12: - BD GV chính (hạng II) tại Trường ĐH SP TPHCM ngày 15/5/2019 - CN Sơ cấp LLCT tại TT BD Chính trị Quận tân Bình ngày 15/1/2014. - CC Triết học, LL DH ĐH tại Trường ĐH SPKT TPHCM ngày 29/3/2006. - CC Acad căn bản tại Trường ĐH Kỹ thuật TPHCM ngày 24/8/1998. - CC Kỹ năng dạy lý thuyết tại Viện nghiên cứu phát triển GD ngày 17/9/2001. - CN SolidWorks trong thiết kế cơ khí tại Trường ĐH SP KT TPHCM ngày 29/12/2017. - CC Các PP và phương thức đào tạo mới cho GV kỹ thuật và dạy nghề tại Trường ĐH SP KT TPHCM ngày 30/12/2005. - CN huấn luyện về máy gia công Cơ khí CNC tại Trường CĐ nghề TPHCM ngày 30/9/1998. | BR12: x
A13: 07 | B13: Dương Minh Chung | C13: X | E13: X | F13: Nam | G13: Long An | H13: 24/12/1976 | I13: Khoa Cơ khí | J13: Khoa Cơ khí | K13: 024252246 | L13: 12/01/2009 | M13: CA.TPHCM | N13: Kinh | O13: Không | P13: Thị xã Tân An, Tỉnh Long An | Q13: 301/26 Dương Bá Trạc P1, Q8 | S13: 0902617540 | T13: duongminhchung@gmail.com | U13: 0204343042 | W13: 01/09/2004 | X13: Sở GDĐT TPHCM | Y13: 01/09/2004 | Z13: Hợp đồng không thời hạn | AA13: 01/09/2004 | AB13: GV | AC13: Giảng viên | AH13: 12/12 | AI13: THPT | AJ13: THS | AK13: - Thạc sỹ - Đại học | AL13: - Kỹ thuật cơ khí - Kỹ thuật công nghiệp | AM13: - Trường ĐH Nông Lâm TPHCM - Trường ĐH SP KT TPHCM | AN13: - 3/10/2017 - 29/4/2004 | AO13: x | AP13: SP Bậc 2 | AQ13: 29/4/2004 | AR13: Trường ĐH SPKT TPHCM | AS13: Chứng chỉ nghề Công nghệ Hàn bậc 3/7 | AT13: 28/12/2017 | AU13: Trường CĐ Lý Tự Trọng TPHCM | AV13: x | AX13: B | AY13: 40152 | AZ13: TT FLAI | BA13: B | BC13: - C - B1 | BD13: B1 | BE13: - 24/03/2003 - 23/7/2015 | BF13: - Viện ĐH Mở HN - Trường ĐH SP TPHCM | BG13: B1 | BQ13: - BD GV chính (hạng II) tại Trường ĐH SP TPHCM ngày 15/5/2019 | BR13: x
A14: 08 | B14: Dương Thị Hồng | C14: X | E14: X | F14: Nữ | G14: Hài Dương | H14: 06/01/1989 | I14: Khoa Cơ khí | J14: Khoa Cơ khí | K14: 026062453 | L14: 05/08/2015 | M14: CA.TPHCM | N14: Kinh | O14: Không | P14: Huyện Ninh Giang, Tỉnh Hải Dương | Q14: 2/236 Đường 6, Tổ 1, KP3, P. Tăng Nhơn Phú B, Quận 9, TPHCM | S14: 0985173332 | U14: 7916074712 | W14: 01/09/2015 | X14: Sở GDĐT TPHCM | Y14: 01/09/2015 | Z14: Hợp đồng không thời hạn | AA14: 01/09/2015 | AB14: GV | AC14: Giảng viên | AH14: 12/12 | AI14: THPT | AJ14: THS | AK14: - Thạc sỹ - Đại học | AL14: - Kỹ thuật cơ khí - Cơ khí chế biến nông sản thực phẩm | AM14: Trường ĐH Nông Lâm TPHCM | AN14: - 18/8/2014 - 14/9/2011 | AO14: x | AP14: NVSP dành cho GV ĐH, CĐ | AQ14: 16/5/2015 | AR14: Trường ĐH SP Hà Nội | AS14: Chứng chỉ nghề Công nghệ Hàn bậc 3/7 | AT14: 28/12/2017 | AU14: Trường CĐ Lý Tự Trọng TPHCM | AV14: x | AX14: A | AY14: 42517 | AZ14: Trường CĐ Nghề Hàng Hải TPHCM | BA14: A | BC14: - B1 - B | BD14: B1 | BE14: - 08/04/2014 - 5/11/2009 | BF14: - Trường ĐH Nông Lâm TPHCM - Trường CĐ Công thương TPHCM | BG14: B1 | BH14: Sơ cấp | BI14: 27/5/2016 | BJ14: TT BD Chính trị Quận Tân Bình | BR14: x
A15: 09 | B15: Hà Phước Tuấn | C15: X | E15: X | F15: Nam | G15: TP.HCM | H15: 01/11/1960 | I15: Khoa Cơ khí | J15: Khoa Cơ khí | K15: 022631400 | L15: 19/06/2015 | M15: CA.TPHCM | N15: Kinh | O15: Không | P15: Làng Đông Yên, Xã Duy Trinh, Huyện Duy Xuyên, Tỉnh Quảng Nam | Q15: 415A Hàn Hải Nguyên nối dài, P1, Q11 | S15: 0903884403 | T15: haphuoctuan@gmail.com | U15: 0296241620 | W15: 01/10/1987 | X15: Sở GDĐT TPHCM | Y15: 01/10/1987 | Z15: Biên chế | AA15: 01/10/1987 | AB15: GV | AC15: Giảng viên | AD15: 01/02/2007 | AH15: 12/12 | AI15: THPT | AJ15: DH | AK15: Đại học | AL15: - Chế tạo máy - Tài chính kế toán các ngành SX | AM15: - Trường ĐH SP KT TPHCM - Trường ĐH Tài chính - Kế toán TPHCM | AN15: - 28/9/1989 - 4/10/1993 | AO15: - chưa có - chưa có | AP15: Kỹ sư giáo dục | AQ15: 28/9/1989 | AR15: Trường ĐH SPKT TPHCM | AS15: Chứng chỉ nghề Công nghệ Hàn bậc 3/7 | AT15: 28/12/2017 | AU15: Trường CĐ Lý Tự Trọng TPHCM | AV15: x | AX15: TH UDCB | AY15: 43454 | AZ15: Trường CĐ Lý Tự Trọng TPHCM | BA15: UD CNTT CB | BC15: - C - A | BD15: B1 | BE15: - 16/06/2004 - 25/4/1995 | BF15: - Trường ĐH KHXH & NV - Trường ĐH SP KT TPHCM | BG15: C | BN15: BD CBCCNN ngành GDĐT | BO15: 4/2/2004 | BP15: Trường CB QLGD & ĐT II | BQ15: - CN BD NV tự đánh giá trong kiểm định chất lượng tại Trường CB QLGD TPHCM ngày 22/11/2009. - CC Kỹ năng dạy lý thuyết Tại Viện Nghiên cứu phát triển GD ngày 14/9/2001. - CN Đánh giá chương trình và hiệu quả đào tạo của các trường ĐH, CĐ tại Viện Nghiên cứu GD ngày 31/10/2012. - CC Triết học tại Trường ĐH SP TPHCM ngày 30/3/1997. - CC Đào tạo và BD nghề Kỹ thuật kim loại/ kỹ thuật SX và gia công cắt gọt cho GV/ đào tạo viên kỹ thuật tại CH Liên bang Đức ngày 30/6/1999. | BR15: x
A16: 10 | B16: Lư Thị Yến Vũ | C16: X | E16: X | F16: Nữ | G16: Bến Tre | H16: 19/05/1976 | I16: Khoa Cơ khí | J16: Khoa Cơ khí | K16: 024799248 | L16: 07/09/2007 | M16: CA.TPHCM | N16: Kinh | O16: Không | P16: Xã Phong Nẫm, Huyện Giồng Trôm, Tỉnh Bến Tre | Q16: 4.16 cc Lô B Khu công nghiệp Tân Bình, Tây Thạnh, Tân Phú | S16: 01223191292 | T16: vulethang@yahoo.com | U16: 0203005089 | W16: 01/09/2008 | X16: Sở GDĐT TPHCM | Y16: 01/09/2008 | Z16: Hợp đồng không thời hạn | AA16: 01/09/2008 | AB16: GV | AC16: Giảng viên | AH16: 12/12 | AI16: THPT | AJ16: THS | AK16: - Thạc sỹ - Đại học | AL16: - Kỹ thuật cơ khí - Kỹ sư cơ khí | AM16: Trường ĐH Bách khoa TPHCM | AN16: - 01/11/2019 - 23/3/2001 | AO16: - chưa có - đã có | AP16: - NVSP - CC Sư phạm dạy nghề | AQ16: - 22/5/2009 - 7/9/2015 | AR16: - Trường CĐ Nghề TPHCM - Trường ĐH KHXH&NV TPHCM | AS16: Chứng chỉ nghề Công nghệ Hàn bậc 3/7 | AT16: 28/12/2017 | AU16: Trường CĐ Lý Tự Trọng TPHCM | AV16: x | AX16: UD CNTT CB | AY16: 43454 | BC16: Tiếng Pháp B1 | BD16: B1 | BE16: 29/01/2019 | BF16: CAMPUS FRANCE | BG16: B1 | BQ16: - BD GV chính (hạng II) tại Trường ĐH SP TPHCM ngày 15/5/2019. - CC Lý luận DH ĐH tại Trường ĐH KHXH & NV ngày 5/06/2009. | BR16: x
A17: 11 | B17: Nguyễn Duy Hải | C17: X | E17: X | F17: Nam | G17: Bình Thuận | H17: 05/08/1984 | I17: Khoa Cơ khí | J17: Khoa Cơ khí | K17: 060084000219 | L17: 26/11/2018 | M17: Cục Cảnh sát Đăng ký quản lý cư trú | N17: Kinh | O17: Không | P17: Thành phố Phan Thiết, Tỉnh Bình Thuận | Q17: 100/7 Trương Phước Phan, Phường Bình Trị Đông, Quận Bình Tân. | S17: 0909599616 | T17: nguyenduyhai272@yahoo.com | U17: 7911094455 | W17: 01/09/2010 | X17: Sở GDĐT TPHCM | Y17: 01/09/2010 | Z17: Hợp đồng không thời hạn | AA17: 01/09/2010 | AB17: GV | AC17: Giảng viên | AH17: 12/12 | AI17: THPT | AJ17: THS | AK17: - Thạc sỹ - Đại học | AL17: - Kỹ thuật cơ khí - Công nghệ Cơ khí | AM17: - Trường ĐH Nông Lâm TPHCM - Trường ĐH Công nghiệp TPHCM | AN17: - 31/7/2013 - 15/10/2008 | AO17: x | AP17: SP dạy nghề dành cho GV dạy TC nghề, CĐ nghề | AQ17: 7/9/2015 | AR17: Trường CĐ Nghề TPHCM | AX17: A | AY17: 37770 | AZ17: Trường CĐ Công nghiệp 4 | BA17: A | BC17: B1 | BD17: B1 | BE17: 31/07/2011 | BF17: Trường ĐH Nông Lâm TPHCM | BG17: B1 | BH17: Trung cấp | BI17: 22/3/2019 | BJ17: Học viện Cán bộ TPHCM | BQ17: - BD GV chính (hạng II) tại Trường ĐH SP TPHCM ngày 15/5/2019 - CC LL dạy học ĐH tại Trường ĐH KHXH 7 NV ngày 8/8/2011. - CN Autaocad 2D và 3D tại Trường CĐ Công nghiệp 4 ngày 29/6/2004. - CN BD GV dạy nghề chuyên đề CN thiết kế SP dạng tấm và khuôn dập tại Trường ĐH SP KT TPHCM ngày 19/1/2016. - CC Triết học tại Trường ĐH Nông Lâm TPHCM ngày 12/3/2010. - CN UD CNTT trong giảng dạy kỹ thuật tại Trường ĐH SP KT TPHCM ngày 12/11/2011. | BR17: x
A18: 12 | B18: Nguyễn Ngọc Quỳnh | C18: X | E18: X | F18: Nam | G18: TPHCM | H18: 19/11/1983 | I18: Khoa Cơ khí | J18: Khoa Cơ khí | K18: 023630039 | L18: 16/07/2012 | M18: CA.TPHCM | N18: Kinh | O18: Không | P18: Xã Điện Phước, Huyện Điện Bàn, Tỉnh Quảng Nam | Q18: 77 đường D1, P.25, Q.Bình Thạnh | S18: 0983537391 | T18: quynh1103@yahoo.com.vn | U18: 7910171251 | W18: 01/09/2009 | X18: Sở GDĐT TPHCM | Y18: 01/09/2009 | Z18: Hợp đồng không thời hạn | AA18: 01/09/2009 | AB18: GV | AC18: Giảng viên | AH18: 12/12 | AI18: THPT | AJ18: THS | AK18: - Thạc sỹ - Đại học | AL18: - Kỹ thuật cơ khí - Cơ khí tin học kỹ thuật | AM18: - Trường ĐH Bách khoa TPHCM - Trường ĐH Kỹ thuật Công nghệ TPHCM | AN18: - 8/11/2017 - 14/3/2009 | AO18: x | AP18: - SP dạy nghề dành cho GV dạy TC nghề, CĐ nghề - LL dạy học và GD | AQ18: - 3/9/2015 - 4/5/2010 | AR18: - Trường CĐ Nghề TPHCM - Trường ĐH SP TPHCM | AS18: Chứng chỉ nghề Sửa chữa cơ khí 3/7 | AT18: 16/6/2005 | AU18: Trường CĐ Kỹ thuật Cao Thắng Trọng TPHCM | AV18: x | AX18: A | AY18: 37190 | AZ18: ĐH KHTN TPHCM | BA18: A | BC18: - Toeic 585 - B | BD18: B1 | BE18: - 16/4/2017 - 15/12/2006 | BF18: - IIG - Trường ĐH SP TPHCM | BG18: B1 | BH18: Sơ cấp | BQ18: - BD GV chính (hạng II) tại Trường ĐH SP TPHCM ngày 15/5/2019. - CC LL DH ĐH tại Trường ĐH SP TPHCM ngày 11/10/2010. - CN Lớp đo lường pháp quyền tại Chi cục Tiêu chuẩn - Đo lường - Chất lượng TPHCM ngày 19/1/2007. | BR18: x
A19: 13 | B19: Nguyễn Tam Cương | C19: X | E19: X | F19: Nam | G19: Bình Định | H19: 13/02/1963 | I19: Khoa Cơ khí | J19: Khoa Cơ khí | K19: 052063000099 | L19: 25/03/2019 | M19: Cục Cảnh sát Đăng ký quản lý cư trú | N19: Kinh | O19: Không | P19: Xã Phước Thắng, Huyện Tuy Phước, Tỉnh Bình Ðịnh | Q19: 407 Lô F Cư xá Thanh Đa, P27, Q.Bình Thạnh | S19: 0908291031 | T19: ntcuong132@yahoo.com | U19: 0201155208 | W19: 01/09/2001 | X19: Sở GDĐT TPHCM | Y19: 01/09/2001 | Z19: Biên chế | AA19: 01/09/2001 | AB19: GV | AC19: Giảng viên | AH19: 12/12 | AI19: THPT | AJ19: THS | AK19: - Thạc sỹ - Đại học | AL19: - QL Khoa học và công nghệ - Cơ khí chế tạo máy | AM19: - Học viện Kỹ thuật Quân sự - Trường ĐH SP KT TPHCM | AN19: - 30/9/2013 - 12/10/1996 | AO19: x | AP19: - SP Bậc 2 - SP Bậc 1 | AQ19: - 26/12/2005 - 15/5/2002 | AR19: Trường ĐH SPKT TPHCM | AS19: Chứng chỉ nghề Công nghệ Hàn bậc 3/7 | AT19: 28/12/2017 | AU19: Trường CĐ Lý Tự Trọng TPHCM | AV19: x | AX19: A | AY19: 37914 | AZ19: Trường ĐH Dân lập - Ngoại ngữ - Tin học TPHCM | BA19: A | BC19: B | BD19: A2 | BE19: 26/09/2006 | BF19: TT Hỗ trợ Phát triển UD CN Tin học - Ngoại ngữ | BG19: B | BH19: Sơ cấp | BI19: 15/01/2014 | BJ19: TT BD Chính trị Quận Tân Bình | BQ19: - CN Công nghệ máy điều khiển chương trình số CAD/CAM-CNC tại Trường ĐH SPKT TPHCM ngày 20/1/2003. - CC Triết học, PP NC KH, LL dạy học ĐH tại Trường ĐH SPKT TPHCM ngày 16/10/2007 - CN BD chuyên đề CN Hàn tại Sở LĐTB-XH ngày 30/3/2007. - CN Thiết kế sản phẩm, ứng dụng CAD/CAM-CNC tại Trường ĐH SPKT TPHCM ngày 15/9/2008. - CN Học lớp nhận thức về Đảng tại Sở GDĐT TPHCM ngày 10/3/2009 | BR19: x
A20: 14 | B20: Nguyễn Thanh Giang | C20: X | E20: X | F20: Nam | G20: Vĩnh Long | H20: 5/12/1977 | I20: Khoa Cơ khí | J20: Khoa Cơ khí | K20: 331950060 | L20: 42923 | M20: CA. Vĩnh Long | N20: Kinh | O20: Không | P20: Xã Long Mỹ, Huyện Mang Thít, Tỉnh Vĩnh Long | Q20: 376 ấp Tân Vĩnh Thuận,xã Tân Ngãi,TP.Vĩnh Long | S20: 0962138518 | U20: #N/A | W20: 01/4/2018 | X20: Sở GDĐT TPHCM | Y20: 01/4/2018 | Z20: Hợp đồng không thời hạn | AA20: 01/3/2011 | AB20: GV | AC20: Giảng viên | AH20: THPT | AI20: 12/12 | AJ20: THS | AK20: - Thạc sỹ - Đại học | AL20: - Kỹ thuật cơ khí - Cơ khí chế tạo máy | AM20: Trường ĐH SP KT TPHCM | AN20: - 30/12/2016 - 28/4/2005 | AO20: x | AP20: Sư phạm dạy nghề | AQ20: 26/12/2011 | AR20: Trường ĐH SP KT TPHCM | AX20: - A - TH UDCB | AY20: - 20/4/2011 - 20/12/2018 | AZ20: - Trường ĐH Ngoại ngữ - Tin học TPHCM - Trường CĐ Lý Tự Trọng TPHCM | BA20: A | BC20: - IELTS 4.0 - B1 | BD20: B1 | BE20: - Ko có - 23/8/2016 | BF20: - Không có - Trường ĐH SP KT TPHCM | BG20: B1 | BQ20: - CN BD GVDN ngành cắt gọt kim loại tại Trường ĐH SP KT TPHCM ngày 01/4/2014. | BR20: x
A21: 15 | B21: Nguyễn Thành Long | C21: X | E21: X | F21: Nam | G21: TPHCM | H21: 19/07/1975 | I21: Khoa Cơ khí | J21: Khoa Cơ khí | K21: 022939793 | L21: 17/04/2008 | M21: CA.TPHCM | N21: Kinh | O21: Thiên chúa | P21: Tỉnh Thái Bình | Q21: 61/26 Đường Cách Mạng, Phường Tân Thành, Quận Tân Phú, TPHCM | S21: 01654905868 | U21: 0206217331 | W21: 01/09/2009 | X21: Sở GDĐT TPHCM | Y21: 01/09/2009 | Z21: Hợp đồng không thời hạn | AA21: 01/09/2009 | AB21: GV | AC21: Giảng viên | AH21: 12/12 | AI21: THPT | AJ21: THS | AK21: - Thạc sỹ - Đại học | AL21: - Kỹ thuật cơ khí - Cơ khí chế tạo máy | AM21: - Trường ĐH Nông Lâm TPHCM - Trường ĐH SP KT TPHCM | AN21: - 14/7/2017 - 10/9/2001 | AO21: x | AP21: SP Bậc 2 | AQ21: 10/9/2001 | AR21: Trường ĐH SPKT TPHCM | AS21: Chứng chỉ nghề Công nghệ Hàn bậc 3/7 | AT21: 28/12/2017 | AU21: Trường CĐ Lý Tự Trọng TPHCM | AV21: x | AX21: TH UDCB | AY21: 43454 | AZ21: Trường CĐ Lý Tự Trọng TPHCM | BA21: UD CNTT CB | BC21: B1 | BD21: B1 | BE21: 09/05/2016 | BF21: Trường ĐH Nông Lâm TPHCM | BG21: B1 | BQ21: - BD GV chính (hạng II) tại Trường ĐH SP TPHCM ngày 15/5/2019. - UD phần mềm CREO PARAMETRIC 4.0 trong thiết kế khuôn mẫu tại Trường ĐH SP KT TPHCM ngày 5/11/2018. | BR21: x
A22: 16 | B22: Nguyễn Thanh Vĩnh Phúc | C22: X | E22: X | F22: Nam | G22: TP. Hồ Chí Minh | H22: 29/03/1972 | I22: Khoa Cơ khí | J22: Khoa Cơ khí | K22: 022102283 | L22: 24/09/2013 | M22: CA. TPHCM | N22: Kinh | O22: Không | P22: Tỉnh Vĩnh Long | Q22: 199 Võ Thị Sáu, P7, Q3 | S22: 01288191979 | U22: 0298022617 | W22: 01/09/1997 | X22: Sở GDĐT TPHCM | Y22: 01/09/1997 | Z22: Biên chế | AA22: 01/09/1997 | AB22: GV | AC22: Giảng viên | AH22: 12/12 | AI22: THPT | AJ22: DH | AK22: Đại học | AL22: Cơ khí chế tạo máy | AM22: Trường ĐH SP KT TPHCM | AN22: 12/10/1996 | AO22: x | AP22: - SP dạy nghề dành cho GV dạy TC nghề và CĐ nghề - SP Bậc 1 | AQ22: - 7/9/2015 - 15/11/2001 | AR22: - Trường CĐ nghề TPHCM - Trường ĐH SPKT TPHCM | AS22: Chứng chỉ nghề Công nghệ Hàn bậc 3/7 | AT22: 28/12/2017 | AU22: Trường CĐ Lý Tự Trọng TPHCM | AV22: x | AX22: UD CNTT CB | AY22: 43454 | BC22: B | BD22: A2 | BE22: 29/09/2014 | BF22: Viện Đào tạo & Nâng cao TPHCM | BG22: B | BH22: Sơ cấp | BQ22: - CC Triết học, PP NC KH, LL dạy học ĐH tại Trường ĐH SPKT TPHCM ngày 16/10/2007. | BR22: x
A23: 17 | B23: Nguyễn Thanh Vũ | C23: X | E23: X | F23: Nam | G23: Quảng Trị | H23: 10/10/1975 | I23: Khoa Cơ khí | J23: Khoa Cơ khí | K23: 025817153 | L23: 01/11/2013 | M23: CA. TPHCM | N23: Kinh | O23: Không | P23: Xã Triệu Phước, Huyện Triệu Phong, Tỉnh Quảng Trị | Q23: 314 Lô B cc Gò Dầu, P. Tân Sơn Nhì, Q.Tân Phú, TPHCM | S23: 0903774652 | U23: 7908079141 | W23: 01/09/2007 | X23: Sở GDĐT TPHCM | Y23: 01/09/2007 | Z23: Hợp đồng không thời hạn | AA23: 03/09/2000 | AB23: GV | AC23: Giảng viên | AH23: 12/12 | AI23: THPT | AJ23: DH | AK23: Đại học | AL23: Cơ khí chế tạo máy | AM23: Trường ĐH SP KT TPHCM | AN23: 01/10/1998 | AO23: x | AP23: - SP Bậc 2 - SP bậc 1 | AQ23: - 21/9/2012 - 15/11/2001 | AR23: - Trường ĐH SP Hà Nội 2 - Trường ĐH SPKT TPHCM | AS23: Chứng chỉ nghề Công nghệ Hàn bậc 3/7 | AT23: 28/12/2017 | AU23: Trường CĐ Lý Tự Trọng TPHCM | AV23: x | AX23: TH UDCB | AY23: 43454 | AZ23: Trường CĐ Lý Tự Trọng TPHCM | BA23: UD CNTT CB | BC23: B | BD23: A2 | BE23: 07/05/2019 | BF23: Trường CĐ Lý Tự Trọng TPHCM | BG23: B | BR23: x
A24: 18 | B24: Nguyễn Tiến Dũng | C24: X | E24: X | F24: Nam | G24: Quảng Ngãi | H24: 01/01/1973 | I24: Khoa Cơ khí | J24: Khoa Cơ khí | K24: 024436109 | L24: 05/08/2005 | M24: CA.TPHCM | N24: Kinh | O24: Phật | P24: Xã Đức Thắng, Huyện Mộ Đức, Tỉnh Quảng Ngãi | Q24: 797/288 Hưng Phú, Phường 9, Quận 8 | S24: 0938 676 269 | T24: shifttuan@yahoo.com.vn | U24: 7910171257 | W24: 01/09/2009 | X24: Sở GDĐT TPHCM | Y24: 01/09/2009 | Z24: Hợp đồng không thời hạn | AA24: 01/09/2009 | AB24: GV | AC24: Giảng viên | AH24: 12/12 | AI24: THPT | AJ24: DH | AK24: Đại học | AL24: Cơ khí chế tạo máy | AM24: Trường ĐH SP KT TPHCM | AN24: 5/9/1997 | AO24: x | AP24: SP Bậc 2 | AQ24: 5/9/1997 | AR24: Trường ĐH SPKT TPHCM | AS24: Chứng chỉ nghề Công nghệ Hàn bậc 3/7 | AT24: 28/12/2017 | AU24: Trường CĐ Lý Tự Trọng TPHCM | AV24: x | AX24: TH UDCB | AY24: 43454 | AZ24: Trường CĐ Lý Tự Trọng TPHCM | BA24: UD CNTT CB | BC24: B | BD24: A2 | BE24: 15/09/2018 | BF24: Viện Đào tạo và Nâng cao TPHCM (IFP) | BG24: B | BQ24: - BD GV chính (hạng II) tại Trường ĐH SP TPHCM ngày 15/5/2019 | BR24: x
A25: 19 | B25: Phan Thị Xuân Trang | C25: X | E25: X | F25: Nữ | G25: Đồng Tháp | H25: 01/03/1971 | I25: Khoa Cơ khí | J25: Khoa Cơ khí | K25: 024283935 | L25: 07/10/2004 | M25: CA.TPHCM | N25: Kinh | O25: Không | P25: Đồng Tháp | Q25: 132/10 Dương Văn Dương, P. Tân quý, Q. Tân Phú, TPHCM | S25: 0918612621 | T25: phanxuantrang@yahoo.com.vn | U25: 0200092902 | W25: 01/09/1999 | X25: Sở GDĐT TPHCM | Y25: 25/07/2004 | Z25: Biên chế | AA25: 01/09/1999 | AB25: GV | AC25: Giảng viên | AH25: 12/12 | AI25: THPT | AJ25: DH | AK25: Đại học | AL25: Kỹ thuật CN | AM25: Trường ĐH SP KT TPHCM | AN25: 5/9/1995 | AP25: SP Bậc 2 | AQ25: 5/9/1995 | AR25: Trường ĐH SPKT TPHCM | AS25: Chứng chỉ nghề Công nghệ Hàn bậc 3/7 | AT25: 28/12/2017 | AU25: Trường CĐ Lý Tự Trọng TPHCM | AV25: x | AX25: TH UDCB | AY25: 20/12/2018 | AZ25: Trường CĐ Lý Tự Trọng TPHCM | BA25: UD CNTT CB | BC25: B | BD25: A2 | BE25: 03/09/2008 | BF25: Viện Đào tạo và Nâng cao TPHCM (IEP) | BG25: B | BQ25: - CC Triết học, PP NC KH, LL dạy học ĐH tại Trường ĐH SPKT TPHCM ngày 16/10/2007 | BR25: x
A26: 20 | B26: Phan Văn Thành | C26: X | E26: X | F26: Nam | G26: TPHCM | H26: 25/07/1964 | I26: Khoa Cơ khí | J26: Khoa Cơ khí | K26: 021314535 | L26: 02/03/2007 | M26: CA.TPHCM | N26: Kinh | O26: Không | P26: Xã Bình Mỹ, Huyện Củ Chi, Thành phố Hồ Chí Minh | Q26: 22/1/20 Nguyễn Văn Săng, Tân Sơn Nhì, Q.Tân Phú | S26: 0982387866 | T26: thanh_eduvn@yahoo.com.vn | U26: 0296241623 | W26: 01/10/1987 | X26: Sở GDĐT TPHCM | Y26: 01/10/1987 | Z26: Biên chế | AA26: 01/10/1987 | AB26: GV | AC26: Giảng viên | AH26: 12/12 | AI26: THPT | AJ26: DH | AK26: Đại học | AL26: Chế tạo máy | AM26: Trường ĐH SP KT TPHCM | AN26: 28/9/1989 | AO26: x | AP26: Kỹ sư giáo dục | AQ26: 28/9/1989 | AR26: Trường ĐH SPKT TPHCM | AS26: Chứng chỉ nghề Công nghệ Hàn bậc 3/7 | AT26: 28/12/2017 | AU26: Trường CĐ Lý Tự Trọng TPHCM | AV26: x | AX26: TH UDCB | AY26: 20/12/2018 | AZ26: Trường CĐ Lý Tự Trọng TPHCM | BA26: UD CNTT CB | BC26: B | BD26: A2 | BE26: 15/09/2018 | BF26: Viện Đào tạo và Nâng cao TPHCM | BG26: B | BH26: Sơ cấp | BI26: 15/01/2014 | BJ26: TT BD Chính trị Quận Tân Bình | BQ26: - CC Triết học, PP NC KH, LL dạy học ĐH tại Trường ĐH SPKT TPHCM ngày 16/10/2007 - CN Thiết kế SP, UD CAD/CAM-CNC tại TT Thiết kế chế tạo thiết bị mới ngày 15/9/2008. - CN Sơ cấp Tiếng Nga Tại TT Tiếng Nga ngày 26/12/1988. - CC Kỹ năng dạy lý thuyết tại Viện nghiên cứu Phát triển GD ngày 14/9/2001. | BR26: x
